BEGIN:VCALENDAR
VERSION:2.0
PRODID:-//Events - ECPv6.15.17.1//NONSGML v1.0//EN
CALSCALE:GREGORIAN
METHOD:PUBLISH
X-ORIGINAL-URL:https://events.brandonu.ca
X-WR-CALDESC:Events for Events
REFRESH-INTERVAL;VALUE=DURATION:PT1H
X-Robots-Tag:noindex
X-PUBLISHED-TTL:PT1H
BEGIN:VTIMEZONE
TZID:America/Winnipeg
BEGIN:DAYLIGHT
TZOFFSETFROM:-0600
TZOFFSETTO:-0500
TZNAME:CDT
DTSTART:20230312T080000
END:DAYLIGHT
BEGIN:STANDARD
TZOFFSETFROM:-0500
TZOFFSETTO:-0600
TZNAME:CST
DTSTART:20231105T070000
END:STANDARD
BEGIN:DAYLIGHT
TZOFFSETFROM:-0600
TZOFFSETTO:-0500
TZNAME:CDT
DTSTART:20240310T080000
END:DAYLIGHT
BEGIN:STANDARD
TZOFFSETFROM:-0500
TZOFFSETTO:-0600
TZNAME:CST
DTSTART:20241103T070000
END:STANDARD
BEGIN:DAYLIGHT
TZOFFSETFROM:-0600
TZOFFSETTO:-0500
TZNAME:CDT
DTSTART:20250309T080000
END:DAYLIGHT
BEGIN:STANDARD
TZOFFSETFROM:-0500
TZOFFSETTO:-0600
TZNAME:CST
DTSTART:20251102T070000
END:STANDARD
END:VTIMEZONE
BEGIN:VEVENT
DTSTART;TZID=America/Winnipeg:20240214T190000
DTEND;TZID=America/Winnipeg:20240214T190000
DTSTAMP:20260421T075945
CREATED:20240205T181003Z
LAST-MODIFIED:20240205T181003Z
UID:10000034-1707937200-1707937200@events.brandonu.ca
SUMMARY:Marcus Brodie\, tuba & Abby Petersen\, oboe
DESCRIPTION:Non-Credit Student Recital \nMarcus Brodie\, tuba & Abby Petersen\, oboe \nwith collaborative pianists: Jia Zhang & Dianna Neufeld \nJacob Jubinville on drums \nfeaturing works by: \nGordon Jacobs\, Jim Curnow\, Ben Hase\, Ralph Vaughan Williams and Ryan Gosling \nAll are welcome!  No admission charge.
URL:https://events.brandonu.ca/event/marcus-brodie-tuba-abby-petersen-oboe/
LOCATION:Brandon\, MB\, Canada
CATEGORIES:School of Music
ORGANIZER;CN="School of Music":MAILTO:music@brandonu.ca
END:VEVENT
END:VCALENDAR