BEGIN:VCALENDAR
VERSION:2.0
PRODID:-//Events - ECPv6.15.17.1//NONSGML v1.0//EN
CALSCALE:GREGORIAN
METHOD:PUBLISH
X-ORIGINAL-URL:https://events.brandonu.ca
X-WR-CALDESC:Events for Events
REFRESH-INTERVAL;VALUE=DURATION:PT1H
X-Robots-Tag:noindex
X-PUBLISHED-TTL:PT1H
BEGIN:VTIMEZONE
TZID:America/Winnipeg
BEGIN:DAYLIGHT
TZOFFSETFROM:-0600
TZOFFSETTO:-0500
TZNAME:CDT
DTSTART:20230312T080000
END:DAYLIGHT
BEGIN:STANDARD
TZOFFSETFROM:-0500
TZOFFSETTO:-0600
TZNAME:CST
DTSTART:20231105T070000
END:STANDARD
BEGIN:DAYLIGHT
TZOFFSETFROM:-0600
TZOFFSETTO:-0500
TZNAME:CDT
DTSTART:20240310T080000
END:DAYLIGHT
BEGIN:STANDARD
TZOFFSETFROM:-0500
TZOFFSETTO:-0600
TZNAME:CST
DTSTART:20241103T070000
END:STANDARD
BEGIN:DAYLIGHT
TZOFFSETFROM:-0600
TZOFFSETTO:-0500
TZNAME:CDT
DTSTART:20250309T080000
END:DAYLIGHT
BEGIN:STANDARD
TZOFFSETFROM:-0500
TZOFFSETTO:-0600
TZNAME:CST
DTSTART:20251102T070000
END:STANDARD
END:VTIMEZONE
BEGIN:VEVENT
DTSTART;TZID=America/Winnipeg:20240223T193000
DTEND;TZID=America/Winnipeg:20240223T213000
DTSTAMP:20260421T075947
CREATED:20240209T234335Z
LAST-MODIFIED:20240209T234335Z
UID:10000052-1708716600-1708723800@events.brandonu.ca
SUMMARY:At the Evans: Solo
DESCRIPTION:Solo follows Simon\, who must deal with the disappointment of two impossible loves: a passionate but destructive crush on Olivier\, and a distant and cold relationship with his mother Claire\, who has just moved back in after a 15-year absence.
URL:https://events.brandonu.ca/event/solo/2024-02-23/
LOCATION:MB
END:VEVENT
BEGIN:VEVENT
DTSTART;TZID=America/Winnipeg:20240223T220000
DTEND;TZID=America/Winnipeg:20240223T235900
DTSTAMP:20260421T075947
CREATED:20240210T021833Z
LAST-MODIFIED:20240210T021833Z
UID:10000055-1708725600-1708732740@events.brandonu.ca
SUMMARY:At the Evans: Rocky Horror Picture Show
DESCRIPTION:Rocky Horror is back again! \nIn this cult classic\, sweethearts Brad (Barry Bostwick) and Janet (Susan Sarandon)\, stuck with a flat tire during a storm\, discover the eerie mansion of Dr. Frank-N-Furter (Tim Curry)\, a transvestite scientist. As their innocence is lost\, Brad and Janet meet a houseful of wild characters\, including a rocking biker (Meat Loaf) and a creepy butler (Richard O’Brien). Through elaborate dances and rock songs\, Frank-N-Furter unveils his latest creation: a muscular man named “Rocky.” \nTickets are $10 and may be purchased in advance at Smitten\, or at the door before the show. More details may be found on Brandon Pride’s Facebook event. \nDoors open at 9:30pm. Show will start at 10:00pm. \nThis is a special event in conjunction with Brandon Pride. Special pricing will apply. Regular passes void.
URL:https://events.brandonu.ca/event/rocky-horror-picture-show-2/
LOCATION:MB
END:VEVENT
END:VCALENDAR