BEGIN:VCALENDAR
VERSION:2.0
PRODID:-//Events - ECPv6.15.17.1//NONSGML v1.0//EN
CALSCALE:GREGORIAN
METHOD:PUBLISH
X-ORIGINAL-URL:https://events.brandonu.ca
X-WR-CALDESC:Events for Events
REFRESH-INTERVAL;VALUE=DURATION:PT1H
X-Robots-Tag:noindex
X-PUBLISHED-TTL:PT1H
BEGIN:VTIMEZONE
TZID:America/Winnipeg
BEGIN:DAYLIGHT
TZOFFSETFROM:-0600
TZOFFSETTO:-0500
TZNAME:CDT
DTSTART:20230312T080000
END:DAYLIGHT
BEGIN:STANDARD
TZOFFSETFROM:-0500
TZOFFSETTO:-0600
TZNAME:CST
DTSTART:20231105T070000
END:STANDARD
BEGIN:DAYLIGHT
TZOFFSETFROM:-0600
TZOFFSETTO:-0500
TZNAME:CDT
DTSTART:20240310T080000
END:DAYLIGHT
BEGIN:STANDARD
TZOFFSETFROM:-0500
TZOFFSETTO:-0600
TZNAME:CST
DTSTART:20241103T070000
END:STANDARD
BEGIN:DAYLIGHT
TZOFFSETFROM:-0600
TZOFFSETTO:-0500
TZNAME:CDT
DTSTART:20250309T080000
END:DAYLIGHT
BEGIN:STANDARD
TZOFFSETFROM:-0500
TZOFFSETTO:-0600
TZNAME:CST
DTSTART:20251102T070000
END:STANDARD
END:VTIMEZONE
BEGIN:VEVENT
DTSTART;TZID=America/Winnipeg:20240224T160000
DTEND;TZID=America/Winnipeg:20240224T170000
DTSTAMP:20260421T075946
CREATED:20240223T173428Z
LAST-MODIFIED:20240223T173428Z
UID:10000070-1708790400-1708794000@events.brandonu.ca
SUMMARY:March for Ukraine
DESCRIPTION:Brandon University stands with Ukraine! \nAs the world marks two years of resistance\, join us again for a walk in support and solidarity with Ukraine\, supported by city council and Brandon University. \nBefore the march\, a liturgy for Ukraine\, soldiers and its long-suffering people will be held at St. Mary’s Ukrainian Catholic Church (927 Assiniboine Ave.) at 2:30 p.m. \nThen meet in front of Clark Hall/Original Building of Brandon University that faces 18th Street for a peaceful march to Brandon City Hall along Victoria Avenue followed by a rally. BU will fly the flag of Ukraine\, and the Ukrainian national anthem will be sung before the march to city hall. \nFeel free to bring Ukrainian flags\, symbols and candles of your own.
URL:https://events.brandonu.ca/event/march-for-ukraine-2/
LOCATION:Brandon University\, 270 18th Street\, Brandon\, MB\, Canada
CATEGORIES:Around Campus,Brandon University
END:VEVENT
BEGIN:VEVENT
DTSTART;TZID=America/Winnipeg:20240224T193000
DTEND;TZID=America/Winnipeg:20240224T213000
DTSTAMP:20260421T075946
CREATED:20240209T234335Z
LAST-MODIFIED:20240209T234335Z
UID:10000053-1708803000-1708810200@events.brandonu.ca
SUMMARY:At the Evans: Solo
DESCRIPTION:Solo follows Simon\, who must deal with the disappointment of two impossible loves: a passionate but destructive crush on Olivier\, and a distant and cold relationship with his mother Claire\, who has just moved back in after a 15-year absence.
URL:https://events.brandonu.ca/event/solo/2024-02-24/
LOCATION:MB
END:VEVENT
END:VCALENDAR