BEGIN:VCALENDAR
VERSION:2.0
PRODID:-//Events - ECPv6.15.17.1//NONSGML v1.0//EN
CALSCALE:GREGORIAN
METHOD:PUBLISH
X-WR-CALNAME:Events
X-ORIGINAL-URL:https://events.brandonu.ca
X-WR-CALDESC:Events for Events
REFRESH-INTERVAL;VALUE=DURATION:PT1H
X-Robots-Tag:noindex
X-PUBLISHED-TTL:PT1H
BEGIN:VTIMEZONE
TZID:America/Winnipeg
BEGIN:DAYLIGHT
TZOFFSETFROM:-0600
TZOFFSETTO:-0500
TZNAME:CDT
DTSTART:20230312T080000
END:DAYLIGHT
BEGIN:STANDARD
TZOFFSETFROM:-0500
TZOFFSETTO:-0600
TZNAME:CST
DTSTART:20231105T070000
END:STANDARD
BEGIN:DAYLIGHT
TZOFFSETFROM:-0600
TZOFFSETTO:-0500
TZNAME:CDT
DTSTART:20240310T080000
END:DAYLIGHT
BEGIN:STANDARD
TZOFFSETFROM:-0500
TZOFFSETTO:-0600
TZNAME:CST
DTSTART:20241103T070000
END:STANDARD
BEGIN:DAYLIGHT
TZOFFSETFROM:-0600
TZOFFSETTO:-0500
TZNAME:CDT
DTSTART:20250309T080000
END:DAYLIGHT
BEGIN:STANDARD
TZOFFSETFROM:-0500
TZOFFSETTO:-0600
TZNAME:CST
DTSTART:20251102T070000
END:STANDARD
END:VTIMEZONE
BEGIN:VEVENT
DTSTART;TZID=America/Winnipeg:20240302T130000
DTEND;TZID=America/Winnipeg:20240302T160000
DTSTAMP:20260421T061713
CREATED:20240229T155343Z
LAST-MODIFIED:20240229T155343Z
UID:10000074-1709384400-1709395200@events.brandonu.ca
SUMMARY:Indigenous Art: Beyond History
DESCRIPTION:Indigenous Art: Beyond History was organized by art history professor Dr. Stacey Koosel’s Contemporary Indigenous Art course. Her students worked as curators of the exhibition led by Felicity Nepinak-Hart as the Chief Curator of the project. Together they selected\, researched and installed an exhibition of works by two dozen Indigenous artists\, ranging in artistic mediums from paintings\, prints and textile\, to beading\, installation and video. \nIt will include works from some of the most revered contemporary artists\, such as Norval Morrisseau\, Daphne Odjig\, Jackson Beardy\, Carl Beam and Arthur Amiotte\, as well as works by students\, alumni and community artists. \n 
URL:https://events.brandonu.ca/event/indigenous-art-beyond-history-copy/2024-03-02/
LOCATION:Sutherland Gallery of Art\, 2021 Victoria Avenue\, Brandon\, MB\, Canada
CATEGORIES:Brandon University,Faculty of Arts
GEO:49.842485;-99.96515
X-APPLE-STRUCTURED-LOCATION;VALUE=URI;X-ADDRESS=Sutherland Gallery of Art 2021 Victoria Avenue Brandon MB Canada;X-APPLE-RADIUS=500;X-TITLE=2021 Victoria Avenue:geo:-99.96515,49.842485
END:VEVENT
BEGIN:VEVENT
DTSTART;TZID=America/Winnipeg:20240302T193000
DTEND;TZID=America/Winnipeg:20240302T193000
DTSTAMP:20260421T061713
CREATED:20240212T182505Z
LAST-MODIFIED:20240212T182505Z
UID:10000056-1709407800-1709407800@events.brandonu.ca
SUMMARY:Sonic Brilliance: Unveiling our New Steinway Concert D Piano
DESCRIPTION:Please join Alexander Tselyakov\, Megumi Masaki\, Dianna Neufeld and Daniel Tselyakov for a performance showcasing the brilliance of BU School of Music’s newest Steinway Concert D grand piano. The new piano was made possible through the generous donation of Mrs. Mary Louise Perkins in memory of her late husband Dr. Harold J. Perkins\, former BU President. Revel in the magic of four to eight hands performing repertoire that celebrates the exquisite tones and colours of both our new Steinway Concert D pianos. \nTickets available at the door: \n$20 Adults & Seniors \nBU students and Conservatory of Music students attend at no charge \nJoin us for a reception immediately following the concert.
URL:https://events.brandonu.ca/event/sonic-brilliance-unveiling-our-new-steinway-concert-d/
LOCATION:Brandon\, MB\, Canada
CATEGORIES:Brandon University,School of Music
END:VEVENT
BEGIN:VEVENT
DTSTART;TZID=America/Winnipeg:20240302T193000
DTEND;TZID=America/Winnipeg:20240302T213000
DTSTAMP:20260421T061713
CREATED:20240209T230923Z
LAST-MODIFIED:20240209T230923Z
UID:10000045-1709407800-1709415000@events.brandonu.ca
SUMMARY:At the Evans: The Boy and the Heron
DESCRIPTION:While the Second World War rages\, the teenage Mahito\, haunted by his mother’s tragic death\, is relocated from Tokyo to the serene rural home of his new stepmother Natsuko\, a woman who bears a striking resemblance to the boy’s mother. As he tries to adjust\, this strange new world grows even stranger following the appearance of a persistent gray heron\, who perplexes and bedevils Mahito\, dubbing him the “long-awaited one.”
URL:https://events.brandonu.ca/event/the-boy-and-the-heron/2024-03-02/
LOCATION:MB
END:VEVENT
END:VCALENDAR