BEGIN:VCALENDAR
VERSION:2.0
PRODID:-//Events - ECPv6.15.17.1//NONSGML v1.0//EN
CALSCALE:GREGORIAN
METHOD:PUBLISH
X-ORIGINAL-URL:https://events.brandonu.ca
X-WR-CALDESC:Events for Events
REFRESH-INTERVAL;VALUE=DURATION:PT1H
X-Robots-Tag:noindex
X-PUBLISHED-TTL:PT1H
BEGIN:VTIMEZONE
TZID:America/Winnipeg
BEGIN:DAYLIGHT
TZOFFSETFROM:-0600
TZOFFSETTO:-0500
TZNAME:CDT
DTSTART:20230312T080000
END:DAYLIGHT
BEGIN:STANDARD
TZOFFSETFROM:-0500
TZOFFSETTO:-0600
TZNAME:CST
DTSTART:20231105T070000
END:STANDARD
BEGIN:DAYLIGHT
TZOFFSETFROM:-0600
TZOFFSETTO:-0500
TZNAME:CDT
DTSTART:20240310T080000
END:DAYLIGHT
BEGIN:STANDARD
TZOFFSETFROM:-0500
TZOFFSETTO:-0600
TZNAME:CST
DTSTART:20241103T070000
END:STANDARD
BEGIN:DAYLIGHT
TZOFFSETFROM:-0600
TZOFFSETTO:-0500
TZNAME:CDT
DTSTART:20250309T080000
END:DAYLIGHT
BEGIN:STANDARD
TZOFFSETFROM:-0500
TZOFFSETTO:-0600
TZNAME:CST
DTSTART:20251102T070000
END:STANDARD
END:VTIMEZONE
BEGIN:VEVENT
DTSTART;TZID=America/Winnipeg:20240303T193000
DTEND;TZID=America/Winnipeg:20240303T213000
DTSTAMP:20260421T061922
CREATED:20240209T230923Z
LAST-MODIFIED:20240209T230923Z
UID:10000046-1709494200-1709501400@events.brandonu.ca
SUMMARY:At the Evans: The Boy and the Heron
DESCRIPTION:While the Second World War rages\, the teenage Mahito\, haunted by his mother’s tragic death\, is relocated from Tokyo to the serene rural home of his new stepmother Natsuko\, a woman who bears a striking resemblance to the boy’s mother. As he tries to adjust\, this strange new world grows even stranger following the appearance of a persistent gray heron\, who perplexes and bedevils Mahito\, dubbing him the “long-awaited one.”
URL:https://events.brandonu.ca/event/the-boy-and-the-heron/2024-03-03/
LOCATION:MB
END:VEVENT
END:VCALENDAR