BEGIN:VCALENDAR
VERSION:2.0
PRODID:-//Events - ECPv6.15.17.1//NONSGML v1.0//EN
CALSCALE:GREGORIAN
METHOD:PUBLISH
X-WR-CALNAME:Events
X-ORIGINAL-URL:https://events.brandonu.ca
X-WR-CALDESC:Events for Events
REFRESH-INTERVAL;VALUE=DURATION:PT1H
X-Robots-Tag:noindex
X-PUBLISHED-TTL:PT1H
BEGIN:VTIMEZONE
TZID:America/Winnipeg
BEGIN:DAYLIGHT
TZOFFSETFROM:-0600
TZOFFSETTO:-0500
TZNAME:CDT
DTSTART:20230312T080000
END:DAYLIGHT
BEGIN:STANDARD
TZOFFSETFROM:-0500
TZOFFSETTO:-0600
TZNAME:CST
DTSTART:20231105T070000
END:STANDARD
BEGIN:DAYLIGHT
TZOFFSETFROM:-0600
TZOFFSETTO:-0500
TZNAME:CDT
DTSTART:20240310T080000
END:DAYLIGHT
BEGIN:STANDARD
TZOFFSETFROM:-0500
TZOFFSETTO:-0600
TZNAME:CST
DTSTART:20241103T070000
END:STANDARD
BEGIN:DAYLIGHT
TZOFFSETFROM:-0600
TZOFFSETTO:-0500
TZNAME:CDT
DTSTART:20250309T080000
END:DAYLIGHT
BEGIN:STANDARD
TZOFFSETFROM:-0500
TZOFFSETTO:-0600
TZNAME:CST
DTSTART:20251102T070000
END:STANDARD
END:VTIMEZONE
BEGIN:VEVENT
DTSTART;VALUE=DATE:20240304
DTEND;VALUE=DATE:20240305
DTSTAMP:20260421T061623
CREATED:20240304T125653Z
LAST-MODIFIED:20240304T125653Z
UID:10000098-1709510400-1709596799@events.brandonu.ca
SUMMARY:Brandon campus closed due to storm — No Classes
DESCRIPTION:Ongoing severe weather conditions and extensive road closures means that Brandon University’s main campus in Brandon will be closed today (Monday\, March 4) and CLASSES ARE CANCELLED. \nMost offices and campus services will be closed\, and unavailable. Critical needs\, for example heating\, electricity\, and internet connectivity\, are being monitored and any outages will be attended to as swiftly as possible. Residence will remain open\, and residents will have access to meals. Walking paths and parking lots will be cleared as soon as practicable. You may not have immediate access to vehicles left in BU lots. \nUnless you have been specifically required to come to campus by your manager to support critical operations\, please stay home. Work from home will not be required\, nor will use of vacation or banked time. \nAt this time\, the Winnipeg campus remains open\, although we are monitoring conditions there. \nIf any updates to this closure are required\, they will be first sent to your official Brandon University email address\, followed by posting on our website\, BU social media\, and wide sharing with local news outlets. Please stay warm and stay safe.
URL:https://events.brandonu.ca/event/brandon-campus-closed-due-to-storm-no-classes/
LOCATION:Brandon University\, 270 18th Street\, Brandon\, MB\, Canada
CATEGORIES:Brandon University,University Closures
END:VEVENT
BEGIN:VEVENT
DTSTART;TZID=America/Winnipeg:20240304T130000
DTEND;TZID=America/Winnipeg:20240304T160000
DTSTAMP:20260421T061623
CREATED:20240229T160008Z
LAST-MODIFIED:20240229T160008Z
UID:10000078-1709557200-1709568000@events.brandonu.ca
SUMMARY:Indigenous Art: Beyond History
DESCRIPTION:Indigenous Art: Beyond History was organized by art history professor Dr. Stacey Koosel’s Contemporary Indigenous Art course. Her students worked as curators of the exhibition led by Felicity Nepinak-Hart as the Chief Curator of the project. Together they selected\, researched and installed an exhibition of works by two dozen Indigenous artists\, ranging in artistic mediums from paintings\, prints and textile\, to beading\, installation and video. \nIt will include works from some of the most revered contemporary artists\, such as Norval Morrisseau\, Daphne Odjig\, Jackson Beardy\, Carl Beam and Arthur Amiotte\, as well as works by students\, alumni and community artists. \n 
URL:https://events.brandonu.ca/event/indigenous-art-beyond-history-copy-copy/2024-03-04/
LOCATION:Sutherland Gallery of Art\, 2021 Victoria Avenue\, Brandon\, MB\, Canada
CATEGORIES:Brandon University,Faculty of Arts
GEO:49.842485;-99.96515
X-APPLE-STRUCTURED-LOCATION;VALUE=URI;X-ADDRESS=Sutherland Gallery of Art 2021 Victoria Avenue Brandon MB Canada;X-APPLE-RADIUS=500;X-TITLE=2021 Victoria Avenue:geo:-99.96515,49.842485
END:VEVENT
BEGIN:VEVENT
DTSTART;TZID=America/Winnipeg:20240304T193000
DTEND;TZID=America/Winnipeg:20240304T193000
DTSTAMP:20260421T061623
CREATED:20240216T145754Z
LAST-MODIFIED:20240216T145754Z
UID:10000059-1709580600-1709580600@events.brandonu.ca
SUMMARY:Esteban Seurnarine\, drumset
DESCRIPTION:STUDENT RECITAL: \nEsteban Seunarine\, Drumset \nassisted by \nAnil Ramgotra\, Percussion; Dane Neufeld\, Jazz Guitar; Ben Kensok\, Saxophone; Dylan Pilcher\, Trumpet; Will Powers\, Saxophone; Kendra Martinussen\, Saxophone; Janina Macalalad\, Bass. \nAll are welcome! No admission charge. \n 
URL:https://events.brandonu.ca/event/esteban-seurnarine-drumset/
LOCATION:Brandon\, MB\, Canada
CATEGORIES:School of Music
END:VEVENT
END:VCALENDAR