BEGIN:VCALENDAR
VERSION:2.0
PRODID:-//Events - ECPv6.15.17.1//NONSGML v1.0//EN
CALSCALE:GREGORIAN
METHOD:PUBLISH
X-WR-CALNAME:Events
X-ORIGINAL-URL:https://events.brandonu.ca
X-WR-CALDESC:Events for Events
REFRESH-INTERVAL;VALUE=DURATION:PT1H
X-Robots-Tag:noindex
X-PUBLISHED-TTL:PT1H
BEGIN:VTIMEZONE
TZID:America/Winnipeg
BEGIN:DAYLIGHT
TZOFFSETFROM:-0600
TZOFFSETTO:-0500
TZNAME:CDT
DTSTART:20230312T080000
END:DAYLIGHT
BEGIN:STANDARD
TZOFFSETFROM:-0500
TZOFFSETTO:-0600
TZNAME:CST
DTSTART:20231105T070000
END:STANDARD
BEGIN:DAYLIGHT
TZOFFSETFROM:-0600
TZOFFSETTO:-0500
TZNAME:CDT
DTSTART:20240310T080000
END:DAYLIGHT
BEGIN:STANDARD
TZOFFSETFROM:-0500
TZOFFSETTO:-0600
TZNAME:CST
DTSTART:20241103T070000
END:STANDARD
BEGIN:DAYLIGHT
TZOFFSETFROM:-0600
TZOFFSETTO:-0500
TZNAME:CDT
DTSTART:20250309T080000
END:DAYLIGHT
BEGIN:STANDARD
TZOFFSETFROM:-0500
TZOFFSETTO:-0600
TZNAME:CST
DTSTART:20251102T070000
END:STANDARD
END:VTIMEZONE
BEGIN:VEVENT
DTSTART;TZID=America/Winnipeg:20240309T130000
DTEND;TZID=America/Winnipeg:20240309T160000
DTSTAMP:20260421T061617
CREATED:20240229T160008Z
LAST-MODIFIED:20240229T160008Z
UID:10000083-1709989200-1710000000@events.brandonu.ca
SUMMARY:Indigenous Art: Beyond History
DESCRIPTION:Indigenous Art: Beyond History was organized by art history professor Dr. Stacey Koosel’s Contemporary Indigenous Art course. Her students worked as curators of the exhibition led by Felicity Nepinak-Hart as the Chief Curator of the project. Together they selected\, researched and installed an exhibition of works by two dozen Indigenous artists\, ranging in artistic mediums from paintings\, prints and textile\, to beading\, installation and video. \nIt will include works from some of the most revered contemporary artists\, such as Norval Morrisseau\, Daphne Odjig\, Jackson Beardy\, Carl Beam and Arthur Amiotte\, as well as works by students\, alumni and community artists. \n 
URL:https://events.brandonu.ca/event/indigenous-art-beyond-history-copy-copy/2024-03-09/
LOCATION:Sutherland Gallery of Art\, 2021 Victoria Avenue\, Brandon\, MB\, Canada
CATEGORIES:Brandon University,Faculty of Arts
GEO:49.842485;-99.96515
X-APPLE-STRUCTURED-LOCATION;VALUE=URI;X-ADDRESS=Sutherland Gallery of Art 2021 Victoria Avenue Brandon MB Canada;X-APPLE-RADIUS=500;X-TITLE=2021 Victoria Avenue:geo:-99.96515,49.842485
END:VEVENT
BEGIN:VEVENT
DTSTART;TZID=America/Winnipeg:20240309T193000
DTEND;TZID=America/Winnipeg:20240309T193000
DTSTAMP:20260421T061617
CREATED:20240215T184010Z
LAST-MODIFIED:20240215T184010Z
UID:10000057-1710012600-1710012600@events.brandonu.ca
SUMMARY:pro series: James Campbell\, clarinet and Futaba Niekawa\, piano
DESCRIPTION:James Campbell has been called “Canada’s pre-eminent clarinetist and wind soloist” by the Toronto Star. He has performed as a soloist and chamber musician in over 35 countries with over 65 orchestras\, including the Boston Pops\, the London Symphony\, the Spanish Radio Orchestra and the Montreal Symphony. He has collaborated with Glenn Gould and Aaron Copland\, toured with over 35 string quartets\, has been named Canada’s Artist of the Year\, awarded the Queen’s Gold and Diamond Jubilee Medal\, an Honourary Doctor of Laws\, and Canada’s highest honour\, the Order of Canada. From 1988-2019 he was a Professor of Music at the Jacobs School of Music of Indiana University. His students hold positions in the Boston Symphony\, the St Louis Symphony\, the Hong Kong Philharmonic and the Toronto Symphony\, to name but a few. They are also professors at universities and conservatories around the world. \nJames Campbell has been the Artistic Director of the Festival of the Sound in Canada since 1985 and regularly gives masterclasses worldwide. He is a Conn-Selmer Artist. \n  \nFutaba Niekawa\,(Colin Corneau photo credit)\nKnown for her verve and sensitivity\, Japanese pianist Futaba Niekawa pushes the boundaries of her artistry as a soloist and collaborative pianist across genres and disciplines. She has performed throughout the United States\, Canada\, England\, Spain\, Taiwan\, and Japan and to date has released five recordings (PARMA Recordings\, Petrichor Records) and her live performances have been recorded for radio broadcast. \nIn demand as a collaborative pianist\, Niekawa has performed with Atar Arad\, James Campbell\, Charles Castleman\, and the members of the Metropolitan Opera Orchestra\, and the Chicago Symphony Orchestra\, among others. She has been engaged as a collaborative pianist at the Banff Centre\, New England Conservatory\, Meadowmount School of Music\, the IU Summer String Academy\, and the Perlman Music Program. Praised as “a beautifully balanced duo” by Gramophone Magazine\, Niekawa’s long-term duo partnership with violinist Kerry DuWors\, duo526\, has led to numerous performances\, recordings\, and artist residencies at the Banff Centre and Avaloch Farm Music Institute. Her dedication to pedagogy\, mentoring\, and performance practice is shown through workshops at duo526’s annual Sonata Seminar. Niekawa is currently a Lecturer in Music (Chamber and Collaborative Music) at Indiana University’s Jacobs School of Music. \nTickets available at the door: \n$20 Adults & Seniors \nBU students and Conservatory of Music Students\, no charge.
URL:https://events.brandonu.ca/event/pro-series-james-campbell-clarinet-and-futaba-niekawa-piano/
LOCATION:Brandon\, MB\, Canada
CATEGORIES:Brandon University,School of Music
ORGANIZER;CN="School of Music":MAILTO:music@brandonu.ca
END:VEVENT
BEGIN:VEVENT
DTSTART;TZID=America/Winnipeg:20240309T193000
DTEND;TZID=America/Winnipeg:20240309T213000
DTSTAMP:20260421T061617
CREATED:20240209T232441Z
LAST-MODIFIED:20240209T232441Z
UID:10000048-1710012600-1710019800@events.brandonu.ca
SUMMARY:At the Evans: The Zone of Interest
DESCRIPTION:The commandant of Auschwitz\, Rudolf Höss\, and his wife Hedwig\, strive to build a dream life for their family in a house and garden next to the camp.
URL:https://events.brandonu.ca/event/the-zone-of-interest/2024-03-09/
LOCATION:MB
END:VEVENT
END:VCALENDAR