BEGIN:VCALENDAR
VERSION:2.0
PRODID:-//Events - ECPv6.15.17.1//NONSGML v1.0//EN
CALSCALE:GREGORIAN
METHOD:PUBLISH
X-WR-CALNAME:Events
X-ORIGINAL-URL:https://events.brandonu.ca
X-WR-CALDESC:Events for Events
REFRESH-INTERVAL;VALUE=DURATION:PT1H
X-Robots-Tag:noindex
X-PUBLISHED-TTL:PT1H
BEGIN:VTIMEZONE
TZID:America/Winnipeg
BEGIN:DAYLIGHT
TZOFFSETFROM:-0600
TZOFFSETTO:-0500
TZNAME:CDT
DTSTART:20230312T080000
END:DAYLIGHT
BEGIN:STANDARD
TZOFFSETFROM:-0500
TZOFFSETTO:-0600
TZNAME:CST
DTSTART:20231105T070000
END:STANDARD
BEGIN:DAYLIGHT
TZOFFSETFROM:-0600
TZOFFSETTO:-0500
TZNAME:CDT
DTSTART:20240310T080000
END:DAYLIGHT
BEGIN:STANDARD
TZOFFSETFROM:-0500
TZOFFSETTO:-0600
TZNAME:CST
DTSTART:20241103T070000
END:STANDARD
BEGIN:DAYLIGHT
TZOFFSETFROM:-0600
TZOFFSETTO:-0500
TZNAME:CDT
DTSTART:20250309T080000
END:DAYLIGHT
BEGIN:STANDARD
TZOFFSETFROM:-0500
TZOFFSETTO:-0600
TZNAME:CST
DTSTART:20251102T070000
END:STANDARD
END:VTIMEZONE
BEGIN:VEVENT
DTSTART;TZID=America/Winnipeg:20240310T140000
DTEND;TZID=America/Winnipeg:20240310T140000
DTSTAMP:20260421T063024
CREATED:20240220T150035Z
LAST-MODIFIED:20240220T150035Z
UID:10000066-1710079200-1710079200@events.brandonu.ca
SUMMARY:Michelle Anderson\, clarinet & Madeline Hildebrand\, piano
DESCRIPTION:Please join us as Michelle Anderson\, clarinet & Madeline Hildebrand\, piano \nperform works by Brahms\, Mangani and Kovacs \nAll are welcome! No Admission Charge.
URL:https://events.brandonu.ca/event/michelle-anderson-clarinet-madeline-hildebrand-piano/
LOCATION:Brandon\, MB\, Canada
CATEGORIES:Brandon University,School of Music
ORGANIZER;CN="School of Music":MAILTO:music@brandonu.ca
END:VEVENT
BEGIN:VEVENT
DTSTART;TZID=America/Winnipeg:20240310T153000
DTEND;TZID=America/Winnipeg:20240310T170000
DTSTAMP:20260421T063024
CREATED:20240220T150246Z
LAST-MODIFIED:20240220T150246Z
UID:10000067-1710084600-1710090000@events.brandonu.ca
SUMMARY:Clarinetfest 2024 Concert featuring ...
DESCRIPTION:James Campbell & Michelle Anderson \nBU Clarinet Choir \nUniversity of Regina Clarinet Choir \nFestival Clarinet Choir \nAll are welcome! No admission charge.
URL:https://events.brandonu.ca/event/clarinetfest-2024-concert-featuring/
LOCATION:MB
CATEGORIES:School of Music
ORGANIZER;CN="School of Music":MAILTO:music@brandonu.ca
END:VEVENT
BEGIN:VEVENT
DTSTART;TZID=America/Winnipeg:20240310T193000
DTEND;TZID=America/Winnipeg:20240310T213000
DTSTAMP:20260421T063024
CREATED:20240209T232441Z
LAST-MODIFIED:20240209T232441Z
UID:10000049-1710099000-1710106200@events.brandonu.ca
SUMMARY:At the Evans: The Zone of Interest
DESCRIPTION:The commandant of Auschwitz\, Rudolf Höss\, and his wife Hedwig\, strive to build a dream life for their family in a house and garden next to the camp.
URL:https://events.brandonu.ca/event/the-zone-of-interest/2024-03-10/
LOCATION:MB
END:VEVENT
END:VCALENDAR