BEGIN:VCALENDAR
VERSION:2.0
PRODID:-//Events - ECPv6.15.17.1//NONSGML v1.0//EN
CALSCALE:GREGORIAN
METHOD:PUBLISH
X-ORIGINAL-URL:https://events.brandonu.ca
X-WR-CALDESC:Events for Events
REFRESH-INTERVAL;VALUE=DURATION:PT1H
X-Robots-Tag:noindex
X-PUBLISHED-TTL:PT1H
BEGIN:VTIMEZONE
TZID:America/Winnipeg
BEGIN:DAYLIGHT
TZOFFSETFROM:-0600
TZOFFSETTO:-0500
TZNAME:CDT
DTSTART:20230312T080000
END:DAYLIGHT
BEGIN:STANDARD
TZOFFSETFROM:-0500
TZOFFSETTO:-0600
TZNAME:CST
DTSTART:20231105T070000
END:STANDARD
BEGIN:DAYLIGHT
TZOFFSETFROM:-0600
TZOFFSETTO:-0500
TZNAME:CDT
DTSTART:20240310T080000
END:DAYLIGHT
BEGIN:STANDARD
TZOFFSETFROM:-0500
TZOFFSETTO:-0600
TZNAME:CST
DTSTART:20241103T070000
END:STANDARD
BEGIN:DAYLIGHT
TZOFFSETFROM:-0600
TZOFFSETTO:-0500
TZNAME:CDT
DTSTART:20250309T080000
END:DAYLIGHT
BEGIN:STANDARD
TZOFFSETFROM:-0500
TZOFFSETTO:-0600
TZNAME:CST
DTSTART:20251102T070000
END:STANDARD
END:VTIMEZONE
BEGIN:VEVENT
DTSTART;TZID=America/Winnipeg:20240312T130000
DTEND;TZID=America/Winnipeg:20240312T160000
DTSTAMP:20260421T061922
CREATED:20240229T160008Z
LAST-MODIFIED:20240229T160008Z
UID:10000085-1710248400-1710259200@events.brandonu.ca
SUMMARY:Indigenous Art: Beyond History
DESCRIPTION:Indigenous Art: Beyond History was organized by art history professor Dr. Stacey Koosel’s Contemporary Indigenous Art course. Her students worked as curators of the exhibition led by Felicity Nepinak-Hart as the Chief Curator of the project. Together they selected\, researched and installed an exhibition of works by two dozen Indigenous artists\, ranging in artistic mediums from paintings\, prints and textile\, to beading\, installation and video. \nIt will include works from some of the most revered contemporary artists\, such as Norval Morrisseau\, Daphne Odjig\, Jackson Beardy\, Carl Beam and Arthur Amiotte\, as well as works by students\, alumni and community artists. \n 
URL:https://events.brandonu.ca/event/indigenous-art-beyond-history-copy-copy/2024-03-12/
LOCATION:Sutherland Gallery of Art\, 2021 Victoria Avenue\, Brandon\, MB\, Canada
CATEGORIES:Brandon University,Faculty of Arts
GEO:49.842485;-99.96515
X-APPLE-STRUCTURED-LOCATION;VALUE=URI;X-ADDRESS=Sutherland Gallery of Art 2021 Victoria Avenue Brandon MB Canada;X-APPLE-RADIUS=500;X-TITLE=2021 Victoria Avenue:geo:-99.96515,49.842485
END:VEVENT
BEGIN:VEVENT
DTSTART;TZID=America/Winnipeg:20240312T190000
DTEND;TZID=America/Winnipeg:20240312T190000
DTSTAMP:20260421T061922
CREATED:20240308T151158Z
LAST-MODIFIED:20240308T151158Z
UID:10000103-1710270000-1710270000@events.brandonu.ca
SUMMARY:Celebrating women's history month in sound
DESCRIPTION:Conservatory and university students and faculty perform works by women composers from across the ages. Featuring works for voice\, strings and more … \nAll are welcome! Admission is free.
URL:https://events.brandonu.ca/event/celebrating-womens-history-month-in-sound/
LOCATION:Brandon\, MB\, Canada
CATEGORIES:Brandon University,School of Music
ORGANIZER;CN="School of Music":MAILTO:music@brandonu.ca
END:VEVENT
END:VCALENDAR