BEGIN:VCALENDAR
VERSION:2.0
PRODID:-//Events - ECPv6.15.17.1//NONSGML v1.0//EN
CALSCALE:GREGORIAN
METHOD:PUBLISH
X-ORIGINAL-URL:https://events.brandonu.ca
X-WR-CALDESC:Events for Events
REFRESH-INTERVAL;VALUE=DURATION:PT1H
X-Robots-Tag:noindex
X-PUBLISHED-TTL:PT1H
BEGIN:VTIMEZONE
TZID:America/Winnipeg
BEGIN:DAYLIGHT
TZOFFSETFROM:-0600
TZOFFSETTO:-0500
TZNAME:CDT
DTSTART:20230312T080000
END:DAYLIGHT
BEGIN:STANDARD
TZOFFSETFROM:-0500
TZOFFSETTO:-0600
TZNAME:CST
DTSTART:20231105T070000
END:STANDARD
BEGIN:DAYLIGHT
TZOFFSETFROM:-0600
TZOFFSETTO:-0500
TZNAME:CDT
DTSTART:20240310T080000
END:DAYLIGHT
BEGIN:STANDARD
TZOFFSETFROM:-0500
TZOFFSETTO:-0600
TZNAME:CST
DTSTART:20241103T070000
END:STANDARD
BEGIN:DAYLIGHT
TZOFFSETFROM:-0600
TZOFFSETTO:-0500
TZNAME:CDT
DTSTART:20250309T080000
END:DAYLIGHT
BEGIN:STANDARD
TZOFFSETFROM:-0500
TZOFFSETTO:-0600
TZNAME:CST
DTSTART:20251102T070000
END:STANDARD
END:VTIMEZONE
BEGIN:VEVENT
DTSTART;TZID=America/Winnipeg:20240330T193000
DTEND;TZID=America/Winnipeg:20240330T193000
DTSTAMP:20260421T061817
CREATED:20240221T221409Z
LAST-MODIFIED:20240221T221409Z
UID:10000069-1711827000-1711827000@events.brandonu.ca
SUMMARY:Anil Ramgotra\, drumset
DESCRIPTION:STUDENT RECITAL: \nAnil Ramgotra\, Drumset \nassisted by \nDane Neufeld\, Guitar; Akash Ramgotra\, Bass\, Jeremy Littlefield\, Piano. \nAll are welcome! No admission charge. \n 
URL:https://events.brandonu.ca/event/anil-ramgotra-drumset/
LOCATION:Brandon\, MB\, Canada
CATEGORIES:School of Music
ORGANIZER;CN="School of Music":MAILTO:music@brandonu.ca
END:VEVENT
BEGIN:VEVENT
DTSTART;TZID=America/Winnipeg:20240330T193000
DTEND;TZID=America/Winnipeg:20240330T213000
DTSTAMP:20260421T061817
CREATED:20240209T232446Z
LAST-MODIFIED:20240209T232446Z
UID:10000094-1711827000-1711834200@events.brandonu.ca
SUMMARY:At the Evans: The Persian Version
DESCRIPTION:When a large Iranian-American family gathers in New York City for the patriarch’s heart transplant\, a family secret is uncovered and catapults the estranged mother and daughter into an exploration of the past. \nNote: Only Friday and Saturday shows; no show on Easter Sunday.
URL:https://events.brandonu.ca/event/the-persian-version/2024-03-30/
LOCATION:MB
END:VEVENT
END:VCALENDAR