BEGIN:VCALENDAR
VERSION:2.0
PRODID:-//Events - ECPv6.15.17.1//NONSGML v1.0//EN
CALSCALE:GREGORIAN
METHOD:PUBLISH
X-ORIGINAL-URL:https://events.brandonu.ca
X-WR-CALDESC:Events for Events
REFRESH-INTERVAL;VALUE=DURATION:PT1H
X-Robots-Tag:noindex
X-PUBLISHED-TTL:PT1H
BEGIN:VTIMEZONE
TZID:America/Winnipeg
BEGIN:DAYLIGHT
TZOFFSETFROM:-0600
TZOFFSETTO:-0500
TZNAME:CDT
DTSTART:20230312T080000
END:DAYLIGHT
BEGIN:STANDARD
TZOFFSETFROM:-0500
TZOFFSETTO:-0600
TZNAME:CST
DTSTART:20231105T070000
END:STANDARD
BEGIN:DAYLIGHT
TZOFFSETFROM:-0600
TZOFFSETTO:-0500
TZNAME:CDT
DTSTART:20240310T080000
END:DAYLIGHT
BEGIN:STANDARD
TZOFFSETFROM:-0500
TZOFFSETTO:-0600
TZNAME:CST
DTSTART:20241103T070000
END:STANDARD
BEGIN:DAYLIGHT
TZOFFSETFROM:-0600
TZOFFSETTO:-0500
TZNAME:CDT
DTSTART:20250309T080000
END:DAYLIGHT
BEGIN:STANDARD
TZOFFSETFROM:-0500
TZOFFSETTO:-0600
TZNAME:CST
DTSTART:20251102T070000
END:STANDARD
END:VTIMEZONE
BEGIN:VEVENT
DTSTART;TZID=America/Winnipeg:20240408T090000
DTEND;TZID=America/Winnipeg:20240408T170000
DTSTAMP:20260421T044732
CREATED:20240327T000040Z
LAST-MODIFIED:20240327T000040Z
UID:10000122-1712566800-1712595600@events.brandonu.ca
SUMMARY:Senior Colloquium 2024
DESCRIPTION:
URL:https://events.brandonu.ca/event/senior-colloquium-2024/
LOCATION:Louis Riel Room\, Main Floor – McMaster Hall\, Brandon\, MB\, Canada
CATEGORIES:Brandon University,Faculty of Arts
END:VEVENT
BEGIN:VEVENT
DTSTART;TZID=America/Winnipeg:20240408T124500
DTEND;TZID=America/Winnipeg:20240408T150000
DTSTAMP:20260421T044732
CREATED:20240405T223500Z
LAST-MODIFIED:20240405T223500Z
UID:10000126-1712580300-1712588400@events.brandonu.ca
SUMMARY:Solar Eclipse Viewing
DESCRIPTION:Brandon University astronomers will have two solar-filtered telescopes at the south entrance of the John R. Brodie Science Centre\, off Louise Ave. Welding glasses and solar viewing glasses will also be available for $1 each\, on a first-come\, first-served basis.
URL:https://events.brandonu.ca/event/solar-eclipse-viewing/
LOCATION:John R. Brodie Science Centre\, John R. Brodie Science Centre\, Brandon\, MB\, Canada
CATEGORIES:Brandon University,Faculty of Science
END:VEVENT
BEGIN:VEVENT
DTSTART;TZID=America/Winnipeg:20240408T180000
DTEND;TZID=America/Winnipeg:20240408T200000
DTSTAMP:20260421T044732
CREATED:20240328T190852Z
LAST-MODIFIED:20240328T190852Z
UID:10000124-1712599200-1712606400@events.brandonu.ca
SUMMARY:Alumni Knit Night
DESCRIPTION:Alumni Knit Night at Chez Angela\nJoin Kelly Paddock (@kelpknits) for a delightful evening of yarn\, laughter\, and creativity at Chez Angela on Monday\, April 8 from 6–8 p.m.! Bring your latest project or start something new while enjoying the cozy ambience and delicious treats. Whether you’re a seasoned pro or just starting out\, everyone is welcome! \nSome supplies have been generously donated by alumni.
URL:https://events.brandonu.ca/event/alumni-knit-night/
LOCATION:Chez Angela Bakery and Cafe\, 29c 10th Street\, Brandon\, MB\, R7A 4E4\, Canada
CATEGORIES:Around Campus,Brandon University
ATTACH;FMTTYPE=:
END:VEVENT
END:VCALENDAR