BEGIN:VCALENDAR
VERSION:2.0
PRODID:-//Events - ECPv6.15.17.1//NONSGML v1.0//EN
CALSCALE:GREGORIAN
METHOD:PUBLISH
X-WR-CALNAME:Events
X-ORIGINAL-URL:https://events.brandonu.ca
X-WR-CALDESC:Events for Events
REFRESH-INTERVAL;VALUE=DURATION:PT1H
X-Robots-Tag:noindex
X-PUBLISHED-TTL:PT1H
BEGIN:VTIMEZONE
TZID:America/Winnipeg
BEGIN:DAYLIGHT
TZOFFSETFROM:-0600
TZOFFSETTO:-0500
TZNAME:CDT
DTSTART:20230312T080000
END:DAYLIGHT
BEGIN:STANDARD
TZOFFSETFROM:-0500
TZOFFSETTO:-0600
TZNAME:CST
DTSTART:20231105T070000
END:STANDARD
BEGIN:DAYLIGHT
TZOFFSETFROM:-0600
TZOFFSETTO:-0500
TZNAME:CDT
DTSTART:20240310T080000
END:DAYLIGHT
BEGIN:STANDARD
TZOFFSETFROM:-0500
TZOFFSETTO:-0600
TZNAME:CST
DTSTART:20241103T070000
END:STANDARD
BEGIN:DAYLIGHT
TZOFFSETFROM:-0600
TZOFFSETTO:-0500
TZNAME:CDT
DTSTART:20250309T080000
END:DAYLIGHT
BEGIN:STANDARD
TZOFFSETFROM:-0500
TZOFFSETTO:-0600
TZNAME:CST
DTSTART:20251102T070000
END:STANDARD
END:VTIMEZONE
BEGIN:VEVENT
DTSTART;TZID=America/Winnipeg:20240409T153000
DTEND;TZID=America/Winnipeg:20240409T200000
DTSTAMP:20260421T044638
CREATED:20240405T215702Z
LAST-MODIFIED:20240405T215702Z
UID:10000125-1712676600-1712692800@events.brandonu.ca
SUMMARY:Women Working in the Criminal Justice System Symposium
DESCRIPTION:You are invited to an event with information\, testimonies and awareness about women who work in the Criminal Justice System. \nJoin us as we interview some women who work in the criminal justice. Don’t miss the opportunity to learn about their careers and the chance to ask them questions! \nA wine-and-cheese reception will follow the event. \nPlease contact Dr. Petrella\, at PetrellaS@BrandonU.ca\, with any accessibility considerations.\n\n \n 
URL:https://events.brandonu.ca/event/women-working-in-the-criminal-justice-system-symposium/
LOCATION:Gathering Space\, John E. Robbins Library\, Canada
CATEGORIES:Brandon University,Faculty of Arts
ATTACH;FMTTYPE=:
ORGANIZER;CN="Faculty of Arts":MAILTO:arts@brandonu.ca
GEO:49.844895798153;-99.96376052603
END:VEVENT
END:VCALENDAR