BEGIN:VCALENDAR
VERSION:2.0
PRODID:-//Events - ECPv6.15.17.1//NONSGML v1.0//EN
CALSCALE:GREGORIAN
METHOD:PUBLISH
X-WR-CALNAME:Events
X-ORIGINAL-URL:https://events.brandonu.ca
X-WR-CALDESC:Events for Events
REFRESH-INTERVAL;VALUE=DURATION:PT1H
X-Robots-Tag:noindex
X-PUBLISHED-TTL:PT1H
BEGIN:VTIMEZONE
TZID:America/Winnipeg
BEGIN:DAYLIGHT
TZOFFSETFROM:-0600
TZOFFSETTO:-0500
TZNAME:CDT
DTSTART:20230312T080000
END:DAYLIGHT
BEGIN:STANDARD
TZOFFSETFROM:-0500
TZOFFSETTO:-0600
TZNAME:CST
DTSTART:20231105T070000
END:STANDARD
BEGIN:DAYLIGHT
TZOFFSETFROM:-0600
TZOFFSETTO:-0500
TZNAME:CDT
DTSTART:20240310T080000
END:DAYLIGHT
BEGIN:STANDARD
TZOFFSETFROM:-0500
TZOFFSETTO:-0600
TZNAME:CST
DTSTART:20241103T070000
END:STANDARD
BEGIN:DAYLIGHT
TZOFFSETFROM:-0600
TZOFFSETTO:-0500
TZNAME:CDT
DTSTART:20250309T080000
END:DAYLIGHT
BEGIN:STANDARD
TZOFFSETFROM:-0500
TZOFFSETTO:-0600
TZNAME:CST
DTSTART:20251102T070000
END:STANDARD
END:VTIMEZONE
BEGIN:VEVENT
DTSTART;TZID=America/Winnipeg:20240414T193000
DTEND;TZID=America/Winnipeg:20240414T193000
DTSTAMP:20260421T044552
CREATED:20240322T135010Z
LAST-MODIFIED:20240322T135010Z
UID:10000118-1713123000-1713123000@events.brandonu.ca
SUMMARY:Wenjie Liang\, voice
DESCRIPTION:STUDENT CREDIT RECITAL: \nWenjie Liang\, voice \nassisted by \nQuihan Wang\, piano \nAll are welcome! No admission charge.
URL:https://events.brandonu.ca/event/wenjie-liang-voice/
LOCATION:Brandon\, MB\, Canada
CATEGORIES:School of Music
ORGANIZER;CN="School of Music":MAILTO:music@brandonu.ca
END:VEVENT
BEGIN:VEVENT
DTSTART;TZID=America/Winnipeg:20240414T193000
DTEND;TZID=America/Winnipeg:20240414T213000
DTSTAMP:20260421T044552
CREATED:20240303T205558Z
LAST-MODIFIED:20240303T205558Z
UID:10000093-1713123000-1713130200@events.brandonu.ca
SUMMARY:At the Evans: Nyad
DESCRIPTION:Athlete Diana Nyad sets out at 60 to achieve a nearly impossible lifelong dream: to swim from Cuba to Florida across more than 100 miles of open ocean.
URL:https://events.brandonu.ca/event/nyad/2024-04-14/
LOCATION:MB
END:VEVENT
END:VCALENDAR