BEGIN:VCALENDAR
VERSION:2.0
PRODID:-//Events - ECPv6.15.17.1//NONSGML v1.0//EN
CALSCALE:GREGORIAN
METHOD:PUBLISH
X-WR-CALNAME:Events
X-ORIGINAL-URL:https://events.brandonu.ca
X-WR-CALDESC:Events for Events
REFRESH-INTERVAL;VALUE=DURATION:PT1H
X-Robots-Tag:noindex
X-PUBLISHED-TTL:PT1H
BEGIN:VTIMEZONE
TZID:America/Winnipeg
BEGIN:DAYLIGHT
TZOFFSETFROM:-0600
TZOFFSETTO:-0500
TZNAME:CDT
DTSTART:20230312T080000
END:DAYLIGHT
BEGIN:STANDARD
TZOFFSETFROM:-0500
TZOFFSETTO:-0600
TZNAME:CST
DTSTART:20231105T070000
END:STANDARD
BEGIN:DAYLIGHT
TZOFFSETFROM:-0600
TZOFFSETTO:-0500
TZNAME:CDT
DTSTART:20240310T080000
END:DAYLIGHT
BEGIN:STANDARD
TZOFFSETFROM:-0500
TZOFFSETTO:-0600
TZNAME:CST
DTSTART:20241103T070000
END:STANDARD
BEGIN:DAYLIGHT
TZOFFSETFROM:-0600
TZOFFSETTO:-0500
TZNAME:CDT
DTSTART:20250309T080000
END:DAYLIGHT
BEGIN:STANDARD
TZOFFSETFROM:-0500
TZOFFSETTO:-0600
TZNAME:CST
DTSTART:20251102T070000
END:STANDARD
END:VTIMEZONE
BEGIN:VEVENT
DTSTART;TZID=America/Winnipeg:20240423T193000
DTEND;TZID=America/Winnipeg:20240423T193000
DTSTAMP:20260421T044554
CREATED:20240412T190053Z
LAST-MODIFIED:20240412T190053Z
UID:10000128-1713900600-1713900600@events.brandonu.ca
SUMMARY:Justo Contreras\, guitar & Carlos Castro\, cello
DESCRIPTION:“Tarde de Tangos” \n \nJusto Contreras\, guitar \nCarlos Castro\, cello \nThis is a recital that explores the many emotions that Tango can evoke through its sounds. A selection of pieces that will go through the traditional tango all the way to Piazzolla’s language for this genre\, also including contemporary Omaggios to this Art. All this soundscape will be portrayed by the sole combination of Cello and Guitar by the Mexican ensemble A Due Corde. \nThe concert won’t have any cost\, encouraging current and future conservatory students to attend. But donations to support the expenses for Justo’s flight will be welcome.
URL:https://events.brandonu.ca/event/tarde-de-tangos-featuring-justo-contreras-guitar-carlos-castro-cello/
LOCATION:Brandon\, MB\, Canada
CATEGORIES:School of Music
ORGANIZER;CN="School of Music":MAILTO:music@brandonu.ca
END:VEVENT
END:VCALENDAR