BEGIN:VCALENDAR
VERSION:2.0
PRODID:-//Events - ECPv6.15.17.1//NONSGML v1.0//EN
CALSCALE:GREGORIAN
METHOD:PUBLISH
X-ORIGINAL-URL:https://events.brandonu.ca
X-WR-CALDESC:Events for Events
REFRESH-INTERVAL;VALUE=DURATION:PT1H
X-Robots-Tag:noindex
X-PUBLISHED-TTL:PT1H
BEGIN:VTIMEZONE
TZID:America/Vancouver
BEGIN:DAYLIGHT
TZOFFSETFROM:-0800
TZOFFSETTO:-0700
TZNAME:PDT
DTSTART:20230312T100000
END:DAYLIGHT
BEGIN:STANDARD
TZOFFSETFROM:-0700
TZOFFSETTO:-0800
TZNAME:PST
DTSTART:20231105T090000
END:STANDARD
BEGIN:DAYLIGHT
TZOFFSETFROM:-0800
TZOFFSETTO:-0700
TZNAME:PDT
DTSTART:20240310T100000
END:DAYLIGHT
BEGIN:STANDARD
TZOFFSETFROM:-0700
TZOFFSETTO:-0800
TZNAME:PST
DTSTART:20241103T090000
END:STANDARD
BEGIN:DAYLIGHT
TZOFFSETFROM:-0800
TZOFFSETTO:-0700
TZNAME:PDT
DTSTART:20250309T100000
END:DAYLIGHT
BEGIN:STANDARD
TZOFFSETFROM:-0700
TZOFFSETTO:-0800
TZNAME:PST
DTSTART:20251102T090000
END:STANDARD
END:VTIMEZONE
BEGIN:VEVENT
DTSTART;TZID=America/Vancouver:20240503T173000
DTEND;TZID=America/Vancouver:20240503T193000
DTSTAMP:20260421T031026
CREATED:20240326T195420Z
LAST-MODIFIED:20240326T195420Z
UID:10000121-1714757400-1714764600@events.brandonu.ca
SUMMARY:Alumni & Friends Reception - Vancouver
DESCRIPTION:The Vancouver Alumni & Friends Reception is being held at the Royal Vancouver Yacht Club on Friday\, May 3. Join us for cocktails and enjoy special entertainment provided by BU School of Music’s Diogo Peixoto and Greg Gatien. \nFor more information or to RSVP\, call 1-877-282-4483 or email alumni@brandonu.ca \n 
URL:https://events.brandonu.ca/event/alumni-friends-reception-vancouver/
LOCATION:Royal Vancouver Yacht Club\, 3811 Point Grey Road\, Vancouver\, BC\, V6R1B3\, Canada
CATEGORIES:Alumni
GEO:49.2727035;-123.1878272
X-APPLE-STRUCTURED-LOCATION;VALUE=URI;X-ADDRESS=Royal Vancouver Yacht Club 3811 Point Grey Road Vancouver BC V6R1B3 Canada;X-APPLE-RADIUS=500;X-TITLE=3811 Point Grey Road:geo:-123.1878272,49.2727035
END:VEVENT
END:VCALENDAR