BEGIN:VCALENDAR
VERSION:2.0
PRODID:-//Events - ECPv6.15.17.1//NONSGML v1.0//EN
CALSCALE:GREGORIAN
METHOD:PUBLISH
X-ORIGINAL-URL:https://events.brandonu.ca
X-WR-CALDESC:Events for Events
REFRESH-INTERVAL;VALUE=DURATION:PT1H
X-Robots-Tag:noindex
X-PUBLISHED-TTL:PT1H
BEGIN:VTIMEZONE
TZID:America/Winnipeg
BEGIN:DAYLIGHT
TZOFFSETFROM:-0600
TZOFFSETTO:-0500
TZNAME:CDT
DTSTART:20230312T080000
END:DAYLIGHT
BEGIN:STANDARD
TZOFFSETFROM:-0500
TZOFFSETTO:-0600
TZNAME:CST
DTSTART:20231105T070000
END:STANDARD
BEGIN:DAYLIGHT
TZOFFSETFROM:-0600
TZOFFSETTO:-0500
TZNAME:CDT
DTSTART:20240310T080000
END:DAYLIGHT
BEGIN:STANDARD
TZOFFSETFROM:-0500
TZOFFSETTO:-0600
TZNAME:CST
DTSTART:20241103T070000
END:STANDARD
BEGIN:DAYLIGHT
TZOFFSETFROM:-0600
TZOFFSETTO:-0500
TZNAME:CDT
DTSTART:20250309T080000
END:DAYLIGHT
BEGIN:STANDARD
TZOFFSETFROM:-0500
TZOFFSETTO:-0600
TZNAME:CST
DTSTART:20251102T070000
END:STANDARD
END:VTIMEZONE
BEGIN:VEVENT
DTSTART;TZID=America/Winnipeg:20240608T110000
DTEND;TZID=America/Winnipeg:20240608T110000
DTSTAMP:20260421T013437
CREATED:20240528T164952Z
LAST-MODIFIED:20240528T164952Z
UID:10000139-1717844400-1717844400@events.brandonu.ca
SUMMARY:BU in the Brandon Travellers' Day Parade
DESCRIPTION:Staring at the corner of 6th St. and Rosser Ave.\n\nJoin in with the BU Float!\n\nhttp://www.travellersdayparade.com
URL:https://events.brandonu.ca/event/bu-in-the-brandon-travellers-day-parade/
LOCATION:Traveller’s Day Parade Starting Point\, 600 Rosser Ave.\, Brandon\, MB\, Canada
CATEGORIES:Brandon University
END:VEVENT
END:VCALENDAR