BEGIN:VCALENDAR
VERSION:2.0
PRODID:-//Events - ECPv6.15.17.1//NONSGML v1.0//EN
CALSCALE:GREGORIAN
METHOD:PUBLISH
X-ORIGINAL-URL:https://events.brandonu.ca
X-WR-CALDESC:Events for Events
REFRESH-INTERVAL;VALUE=DURATION:PT1H
X-Robots-Tag:noindex
X-PUBLISHED-TTL:PT1H
BEGIN:VTIMEZONE
TZID:America/Winnipeg
BEGIN:DAYLIGHT
TZOFFSETFROM:-0600
TZOFFSETTO:-0500
TZNAME:CDT
DTSTART:20230312T080000
END:DAYLIGHT
BEGIN:STANDARD
TZOFFSETFROM:-0500
TZOFFSETTO:-0600
TZNAME:CST
DTSTART:20231105T070000
END:STANDARD
BEGIN:DAYLIGHT
TZOFFSETFROM:-0600
TZOFFSETTO:-0500
TZNAME:CDT
DTSTART:20240310T080000
END:DAYLIGHT
BEGIN:STANDARD
TZOFFSETFROM:-0500
TZOFFSETTO:-0600
TZNAME:CST
DTSTART:20241103T070000
END:STANDARD
BEGIN:DAYLIGHT
TZOFFSETFROM:-0600
TZOFFSETTO:-0500
TZNAME:CDT
DTSTART:20250309T080000
END:DAYLIGHT
BEGIN:STANDARD
TZOFFSETFROM:-0500
TZOFFSETTO:-0600
TZNAME:CST
DTSTART:20251102T070000
END:STANDARD
END:VTIMEZONE
BEGIN:VEVENT
DTSTART;VALUE=DATE:20240902
DTEND;VALUE=DATE:20240903
DTSTAMP:20260420T202927
CREATED:20240821T153056Z
LAST-MODIFIED:20240821T153056Z
UID:10000205-1725235200-1725321599@events.brandonu.ca
SUMMARY:Labour Day 2024 — University closed
DESCRIPTION:Brandon University is closed on Monday\, Sept. 2\, 2024\, in honour of Labour Day. Offices are closed and no classes are scheduled. \nThe University re-opens Tuesday\, Sept. 3\, for Orientation\, with the first day of classes in the Fall Term scheduled for Wednesday\, Sept. 4. \nEnjoy your long weekend!
URL:https://events.brandonu.ca/event/labour-day-2024-university-closed/
LOCATION:Brandon University\, 270 18th Street\, Brandon\, MB\, Canada
CATEGORIES:Brandon University,Important Dates,University Closures
END:VEVENT
END:VCALENDAR