BEGIN:VCALENDAR
VERSION:2.0
PRODID:-//Events - ECPv6.15.17.1//NONSGML v1.0//EN
CALSCALE:GREGORIAN
METHOD:PUBLISH
X-WR-CALNAME:Events
X-ORIGINAL-URL:https://events.brandonu.ca
X-WR-CALDESC:Events for Events
REFRESH-INTERVAL;VALUE=DURATION:PT1H
X-Robots-Tag:noindex
X-PUBLISHED-TTL:PT1H
BEGIN:VTIMEZONE
TZID:America/Winnipeg
BEGIN:DAYLIGHT
TZOFFSETFROM:-0600
TZOFFSETTO:-0500
TZNAME:CDT
DTSTART:20230312T080000
END:DAYLIGHT
BEGIN:STANDARD
TZOFFSETFROM:-0500
TZOFFSETTO:-0600
TZNAME:CST
DTSTART:20231105T070000
END:STANDARD
BEGIN:DAYLIGHT
TZOFFSETFROM:-0600
TZOFFSETTO:-0500
TZNAME:CDT
DTSTART:20240310T080000
END:DAYLIGHT
BEGIN:STANDARD
TZOFFSETFROM:-0500
TZOFFSETTO:-0600
TZNAME:CST
DTSTART:20241103T070000
END:STANDARD
BEGIN:DAYLIGHT
TZOFFSETFROM:-0600
TZOFFSETTO:-0500
TZNAME:CDT
DTSTART:20250309T080000
END:DAYLIGHT
BEGIN:STANDARD
TZOFFSETFROM:-0500
TZOFFSETTO:-0600
TZNAME:CST
DTSTART:20251102T070000
END:STANDARD
END:VTIMEZONE
BEGIN:VEVENT
DTSTART;VALUE=DATE:20240904
DTEND;VALUE=DATE:20240905
DTSTAMP:20260420T202733
CREATED:20240821T153524Z
LAST-MODIFIED:20240821T153524Z
UID:10000206-1725408000-1725494399@events.brandonu.ca
SUMMARY:Fall Term begins
DESCRIPTION:Classes begin for most Fall Term courses as well as for most full-year (both term) courses. \nSome classes in the Faculty of Education instead begin next week. Specifically\, classes in Bachelor of Education (after degree)\, Bachelor of Education (integrated program) fifth year\, Bachelor of Music/Bachelor of Education (combined) fifth year\, and Master of Education courses will begin Monday\, Sept. 9. \nTuition deadline: Fall fees are payable in full.
URL:https://events.brandonu.ca/event/fall-term-begins/
LOCATION:Brandon University\, 270 18th Street\, Brandon\, MB\, Canada
CATEGORIES:Brandon University,Important Dates
END:VEVENT
END:VCALENDAR