BEGIN:VCALENDAR
VERSION:2.0
PRODID:-//Events - ECPv6.15.17.1//NONSGML v1.0//EN
CALSCALE:GREGORIAN
METHOD:PUBLISH
X-ORIGINAL-URL:https://events.brandonu.ca
X-WR-CALDESC:Events for Events
REFRESH-INTERVAL;VALUE=DURATION:PT1H
X-Robots-Tag:noindex
X-PUBLISHED-TTL:PT1H
BEGIN:VTIMEZONE
TZID:America/Winnipeg
BEGIN:DAYLIGHT
TZOFFSETFROM:-0600
TZOFFSETTO:-0500
TZNAME:CDT
DTSTART:20230312T080000
END:DAYLIGHT
BEGIN:STANDARD
TZOFFSETFROM:-0500
TZOFFSETTO:-0600
TZNAME:CST
DTSTART:20231105T070000
END:STANDARD
BEGIN:DAYLIGHT
TZOFFSETFROM:-0600
TZOFFSETTO:-0500
TZNAME:CDT
DTSTART:20240310T080000
END:DAYLIGHT
BEGIN:STANDARD
TZOFFSETFROM:-0500
TZOFFSETTO:-0600
TZNAME:CST
DTSTART:20241103T070000
END:STANDARD
BEGIN:DAYLIGHT
TZOFFSETFROM:-0600
TZOFFSETTO:-0500
TZNAME:CDT
DTSTART:20250309T080000
END:DAYLIGHT
BEGIN:STANDARD
TZOFFSETFROM:-0500
TZOFFSETTO:-0600
TZNAME:CST
DTSTART:20251102T070000
END:STANDARD
END:VTIMEZONE
BEGIN:VEVENT
DTSTART;VALUE=DATE:20240909
DTEND;VALUE=DATE:20240914
DTSTAMP:20260420T202856
CREATED:20240910T152644Z
LAST-MODIFIED:20240910T152644Z
UID:10000223-1725840000-1726271999@events.brandonu.ca
SUMMARY:Bike to Campus Week
DESCRIPTION:Choose two wheels to get to BU – and you could win! We’re thrilled to host Bike To Campus Week from Sept. 9–13 and all you need to do is ride. \nBrandon University\, the Brandon University Students’ Union\, and Bailey’s Café have partnered with local bike shops\, with Bike Brandon\, and with the Brandon Police Service to provide great prize packs. Each day next week\, we’ll select a few bikes on campus and leave a little note saying thanks for choosing to bike— you win! Simply bring that note to the BUSU offices in the Knowles-Douglas building to claim your prize. (Make sure to have your bike with you\, as we’ll be taking pictures of the winners to prevent anyone from claiming a tag from someone else’s bike.) \nPrize packs include gift certificates\, bike accessories\, and energy bars from A&L Cycle and from Stream N Wood. Thanks to both shops for their generous support! \nWe’re also planning a couple of group rides! Meet in the Kavanagh Courtyard on Monday at 2:30 p.m. for a brief demonstration from the Brandon Police Service of how to register your bike with 529 Garage\, which helps prevent theft and track your bike if it ever is stolen. Then we’ll head out as a group for a short 5 km group ride\, doing a loop to 34th Street and back to campus\, where we’ll convene in Bailey’s for refreshments. It’s a chance to meet fellow campus cyclists\, stretch your legs in the middle of the afternoon\, and have a great time. We’ll do a second group ride on Thursday\, Sept. 12\, leaving at 11 a.m. \nCycling is fun and healthy for you\, good for the environment\, and depending on your route\, can even be faster than driving. It also helps ease traffic congestion and parking worries for those who do need to use a motor vehicle. As construction on 18th Street picks up steam next week\, biking could be even more convenient. Please always watch for the latest detours as work begins\, and stay alert to changing traffic patterns or construction workers who are directing you to take alternate routes. Remember to stay safe by wearing a CSA-approved helmet\, locking up your bike with a high-quality lock\, and removing all valuables. \nWe encourage everyone to bike to campus\, and we support those who choose a cycling commute. Happy Bike to Campus Week!
URL:https://events.brandonu.ca/event/bike-to-campus-week/
LOCATION:Brandon University\, 270 18th Street\, Brandon\, MB\, Canada
CATEGORIES:Around Campus,Brandon University
ATTACH;FMTTYPE=:
END:VEVENT
BEGIN:VEVENT
DTSTART;TZID=America/Winnipeg:20240910T170000
DTEND;TZID=America/Winnipeg:20240910T190000
DTSTAMP:20260420T202856
CREATED:20240812T191530Z
LAST-MODIFIED:20240812T191530Z
UID:10000195-1725987600-1725994800@events.brandonu.ca
SUMMARY:Bobcats Soccer
DESCRIPTION:BU Men’s Soccer vs Assiniboine\nGame start: September 10\, 2024 5:00 pm\nGame details
URL:https://events.brandonu.ca/event/bobcats-soccer-2024-09-10/
LOCATION:Brandon University\, 270 18th Street\, Brandon\, MB\, Canada
CATEGORIES:Bobcats,Brandon University
END:VEVENT
BEGIN:VEVENT
DTSTART;TZID=America/Winnipeg:20240910T190000
DTEND;TZID=America/Winnipeg:20240910T210000
DTSTAMP:20260420T202856
CREATED:20240725T165941Z
LAST-MODIFIED:20240725T165941Z
UID:10000173-1725994800-1726002000@events.brandonu.ca
SUMMARY:It happened to me\, and it is not okay: Sharing Stories of Sexual Violence
DESCRIPTION:“It happened to me\, and it’s not okay: Sharing Stories of Sexual Violence” is a graphic novel created with the composite narratives of 10 individuals that experienced sexual violence in post-secondary education. \nThis event will showcase the graphic novel in a public presentation at the Evans Theatre\, followed by a reception with local community resources\, food\, and drink in the Library Gathering Space. \nJust a warning\, the graphic novel may be triggering for some viewers\, if anyone requires support at the event resources will be available. \nAny questions about the event can be directed to Candice Waddell-Henowitch at waddellc@brandonu.ca
URL:https://events.brandonu.ca/event/it-happened-to-me-and-it-is-not-okay-sharing-stories-of-sexual-violence/
LOCATION:Evans Theatre\, McKenzie Building\, 270-18th Street\, Brandon\, MB\, R7A 6A9\, Canada
CATEGORIES:Brandon University
GEO:49.845327;-99.963905
X-APPLE-STRUCTURED-LOCATION;VALUE=URI;X-ADDRESS=Evans Theatre McKenzie Building 270-18th Street Brandon MB R7A 6A9 Canada;X-APPLE-RADIUS=500;X-TITLE=270-18th Street:geo:-99.963905,49.845327
END:VEVENT
END:VCALENDAR