BEGIN:VCALENDAR
VERSION:2.0
PRODID:-//Events - ECPv6.15.17.1//NONSGML v1.0//EN
CALSCALE:GREGORIAN
METHOD:PUBLISH
X-WR-CALNAME:Events
X-ORIGINAL-URL:https://events.brandonu.ca
X-WR-CALDESC:Events for Events
REFRESH-INTERVAL;VALUE=DURATION:PT1H
X-Robots-Tag:noindex
X-PUBLISHED-TTL:PT1H
BEGIN:VTIMEZONE
TZID:America/Winnipeg
BEGIN:DAYLIGHT
TZOFFSETFROM:-0600
TZOFFSETTO:-0500
TZNAME:CDT
DTSTART:20230312T080000
END:DAYLIGHT
BEGIN:STANDARD
TZOFFSETFROM:-0500
TZOFFSETTO:-0600
TZNAME:CST
DTSTART:20231105T070000
END:STANDARD
BEGIN:DAYLIGHT
TZOFFSETFROM:-0600
TZOFFSETTO:-0500
TZNAME:CDT
DTSTART:20240310T080000
END:DAYLIGHT
BEGIN:STANDARD
TZOFFSETFROM:-0500
TZOFFSETTO:-0600
TZNAME:CST
DTSTART:20241103T070000
END:STANDARD
BEGIN:DAYLIGHT
TZOFFSETFROM:-0600
TZOFFSETTO:-0500
TZNAME:CDT
DTSTART:20250309T080000
END:DAYLIGHT
BEGIN:STANDARD
TZOFFSETFROM:-0500
TZOFFSETTO:-0600
TZNAME:CST
DTSTART:20251102T070000
END:STANDARD
END:VTIMEZONE
BEGIN:VEVENT
DTSTART;TZID=America/Winnipeg:20240913T200000
DTEND;TZID=America/Winnipeg:20240914T020000
DTSTAMP:20260420T202731
CREATED:20240726T160148Z
LAST-MODIFIED:20240726T160148Z
UID:10000177-1726257600-1726279200@events.brandonu.ca
SUMMARY:Blue & Gold Social
DESCRIPTION:Come on down to Bailey’s and dance the night away! Tickets sold at the door. 18+ only. \nThis event is part of Brandon University Homecoming 2024 and BU125: \n\nRegister to attend Homecoming 2024\nDiscover more Homecoming 2024 events
URL:https://events.brandonu.ca/event/blue-gold-social/
LOCATION:Bailey’s Cafe\, Knowles-Douglas Building\, 270 18th Street\, Brandon\, Manitoba\, R7A 6A9
CATEGORIES:Alumni,Homecoming
ATTACH;FMTTYPE=:
ORGANIZER;CN="Brandon University Alumni":MAILTO:alumni@brandonu.ca
GEO:49.844614;-99.962769
X-APPLE-STRUCTURED-LOCATION;VALUE=URI;X-ADDRESS=Bailey’s Cafe Knowles-Douglas Building 270 18th Street Brandon Manitoba R7A 6A9;X-APPLE-RADIUS=500;X-TITLE=270 18th Street:geo:-99.962769,49.844614
END:VEVENT
BEGIN:VEVENT
DTSTART;TZID=America/Winnipeg:20240914T103000
DTEND;TZID=America/Winnipeg:20240914T113000
DTSTAMP:20260420T202731
CREATED:20240726T160647Z
LAST-MODIFIED:20240726T160647Z
UID:10000178-1726309800-1726313400@events.brandonu.ca
SUMMARY:A Gathering of Minds Research Session 3: Beyond Sandbagging: accepting that our climate is undergoing a transformation
DESCRIPTION:According to the World Health Organization (WHO)\, climate change is the single biggest threat facing humanity. Extreme weather events are occurring more frequently and becoming more intense. This changing climate affects food security\, water security and health. In this session\, we will examine the intricate relationship between climate change\, nature and society\, and discuss ideas for building resilience. \nThere is no charge for this event and everyone is welcome\, but please note that seating is limited. Refreshments will be provided. \nThis event is part of Brandon University Homecoming 2024 and BU125: \n\nRegister to attend Homecoming 2024\nDiscover more Homecoming 2024 events
URL:https://events.brandonu.ca/event/gathering-of-minds-research-session-3/
LOCATION:Clark Hall\, Room 212\, 270-18th Street\, Brandon\, MB\, R7A 6A9\, Canada
CATEGORIES:Alumni,Homecoming
ATTACH;FMTTYPE=:
ORGANIZER;CN="Brandon University Alumni":MAILTO:alumni@brandonu.ca
GEO:49.845539;-99.963219
X-APPLE-STRUCTURED-LOCATION;VALUE=URI;X-ADDRESS=Clark Hall Room 212 270-18th Street Brandon MB R7A 6A9 Canada;X-APPLE-RADIUS=500;X-TITLE=270-18th Street:geo:-99.963219,49.845539
END:VEVENT
BEGIN:VEVENT
DTSTART;TZID=America/Winnipeg:20240914T120000
DTEND;TZID=America/Winnipeg:20240914T130000
DTSTAMP:20260420T202731
CREATED:20240726T162902Z
LAST-MODIFIED:20240726T162902Z
UID:10000180-1726315200-1726318800@events.brandonu.ca
SUMMARY:A Gathering of Minds Research Session 4: Co-Intelligence and the Rise of the Machines
DESCRIPTION:Ethan Mollick writes “After a few hours of using generative Artificial Intelligence (AI) systems\, it dawns on you that you are interacting with something new\, something alien\, and that things are about to change.” In this session\, we will explore the nature of this alien intelligence\, and how it will change the way we work\, learn\, and live. \nThere is no charge for this event and everyone is welcome\, but please note that seating is limited. Refreshments will be provided. \nThis event is part of Brandon University Homecoming 2024 and BU125: \n\nRegister to attend Homecoming 2024\nDiscover more Homecoming 2024 events
URL:https://events.brandonu.ca/event/gathering-of-minds-research-session-4/
LOCATION:Clark Hall\, Room 212\, 270-18th Street\, Brandon\, MB\, R7A 6A9\, Canada
CATEGORIES:Alumni,Homecoming
ATTACH;FMTTYPE=:
ORGANIZER;CN="Brandon University Alumni":MAILTO:alumni@brandonu.ca
GEO:49.845539;-99.963219
X-APPLE-STRUCTURED-LOCATION;VALUE=URI;X-ADDRESS=Clark Hall Room 212 270-18th Street Brandon MB R7A 6A9 Canada;X-APPLE-RADIUS=500;X-TITLE=270-18th Street:geo:-99.963219,49.845539
END:VEVENT
BEGIN:VEVENT
DTSTART;TZID=America/Winnipeg:20240914T120000
DTEND;TZID=America/Winnipeg:20240914T220000
DTSTAMP:20260420T202731
CREATED:20240726T161058Z
LAST-MODIFIED:20240726T161058Z
UID:10000179-1726315200-1726351200@events.brandonu.ca
SUMMARY:PrairieCon Games Day
DESCRIPTION:PrairieCon is hosting a Games Day at BU! \nGames Days have no registration\, slots\, or pre-arranged games – just drop in and play! All are welcome to join\, please bring your own games to share and play. The drop-in nature of the event tends to lend itself best to board games\, but we often have all kinds of other games going on. \nBailey’s restaurant will be open throughout the event for snacks and meals. \nThis event is part of Brandon University Homecoming 2024 and BU125: \n\nRegister to attend Homecoming 2024\nDiscover more Homecoming 2024 events
URL:https://events.brandonu.ca/event/prairiecon-games-day/
LOCATION:Mingling Area\, Knowles-Douglas Building\, 270-18th Street\, Brandon\, MB\, R7A 6A9\, Canada
CATEGORIES:Alumni,Homecoming
ATTACH;FMTTYPE=:
ORGANIZER;CN="Brandon University Alumni":MAILTO:alumni@brandonu.ca
GEO:49.844832;-99.962845
X-APPLE-STRUCTURED-LOCATION;VALUE=URI;X-ADDRESS=Mingling Area Knowles-Douglas Building 270-18th Street Brandon MB R7A 6A9 Canada;X-APPLE-RADIUS=500;X-TITLE=270-18th Street:geo:-99.962845,49.844832
END:VEVENT
BEGIN:VEVENT
DTSTART;TZID=America/Winnipeg:20240914T130000
DTEND;TZID=America/Winnipeg:20240914T130000
DTSTAMP:20260420T202731
CREATED:20240726T163439Z
LAST-MODIFIED:20240726T163439Z
UID:10000181-1726318800-1726318800@events.brandonu.ca
SUMMARY:Guided Campus Tours
DESCRIPTION:Take a tour of campus guided by some of our knowledgeable Student Leaders. There is no charge for this event and everyone is welcome. \nThis event is part of Brandon University Homecoming 2024 and BU125: \n\nRegister to attend Homecoming 2024\nDiscover more Homecoming 2024 events
URL:https://events.brandonu.ca/event/guided-campus-tours-2/
LOCATION:MB
CATEGORIES:Alumni,Homecoming
ATTACH;FMTTYPE=:
ORGANIZER;CN="Brandon University Alumni":MAILTO:alumni@brandonu.ca
END:VEVENT
BEGIN:VEVENT
DTSTART;TZID=America/Winnipeg:20240914T140000
DTEND;TZID=America/Winnipeg:20240914T140000
DTSTAMP:20260420T202731
CREATED:20240726T164003Z
LAST-MODIFIED:20240726T164003Z
UID:10000182-1726322400-1726322400@events.brandonu.ca
SUMMARY:JRC Evans Lectureship featuring Dr. Brian Goldman
DESCRIPTION:Dr. Goldman is one of those rare individuals with great success in not one but several adrenaline-pumping careers. He is a highly regarded emergency physician at Mount Sinai Hospital in Toronto. He is also a medical commentator providing insights throughout COVID. He’s the host of CBC’s award-winning radio show “White Coat\, Black Art”\, where he takes listeners behind the scenes of hospitals and doctor’s offices\, and host of the podcast “The Dose” on current events in healthcare. He shares the lessons he learns in healthcare to benefit others; both in the healthcare industry and to help corporations & organizations learn from high stakes environments. \nThere is no charge for this event and everyone is welcome\, but please note that seating is limited. \nThis event is part of Brandon University Homecoming 2024 and BU125: \n\nRegister to attend Homecoming 2024\nDiscover more Homecoming 2024 events
URL:https://events.brandonu.ca/event/jrc-evans-lectureship-dr-brian-goldman/
LOCATION:Lorne Watson Recital Hall\, QEII Music Building\, Room 1-60\, 270 18th Street\, Brandon\, MB\, R7A 6A9\, Canada
CATEGORIES:Alumni,Homecoming
ORGANIZER;CN="Brandon University Alumni":MAILTO:alumni@brandonu.ca
GEO:49.845978;-99.96417
X-APPLE-STRUCTURED-LOCATION;VALUE=URI;X-ADDRESS=Lorne Watson Recital Hall QEII Music Building Room 1-60 270 18th Street Brandon MB R7A 6A9 Canada;X-APPLE-RADIUS=500;X-TITLE=270 18th Street:geo:-99.96417,49.845978
END:VEVENT
BEGIN:VEVENT
DTSTART;TZID=America/Winnipeg:20240914T153000
DTEND;TZID=America/Winnipeg:20240914T173000
DTSTAMP:20260420T202731
CREATED:20240726T165146Z
LAST-MODIFIED:20240726T165146Z
UID:10000183-1726327800-1726335000@events.brandonu.ca
SUMMARY:World-Class Research
DESCRIPTION:Learn about the amazing work of our Brandon University researchers. Projects will be showcased during 3-minute presentations that will leave you wanting more. \nThere is no charge for this event and everyone is welcome\, but please note that seating is limited. Refreshments will be provided. \nThis event is part of Brandon University Homecoming 2024 and BU125: \n\nRegister to attend Homecoming 2024\nDiscover more Homecoming 2024 events
URL:https://events.brandonu.ca/event/world-class-research/
LOCATION:Clark Hall\, Room 212\, 270-18th Street\, Brandon\, MB\, R7A 6A9\, Canada
CATEGORIES:Alumni,Homecoming
ATTACH;FMTTYPE=:
ORGANIZER;CN="Brandon University Alumni":MAILTO:alumni@brandonu.ca
GEO:49.845539;-99.963219
X-APPLE-STRUCTURED-LOCATION;VALUE=URI;X-ADDRESS=Clark Hall Room 212 270-18th Street Brandon MB R7A 6A9 Canada;X-APPLE-RADIUS=500;X-TITLE=270-18th Street:geo:-99.963219,49.845539
END:VEVENT
BEGIN:VEVENT
DTSTART;TZID=America/Winnipeg:20240914T170000
DTEND;TZID=America/Winnipeg:20240914T170000
DTSTAMP:20260420T202731
CREATED:20240726T165656Z
LAST-MODIFIED:20240726T165656Z
UID:10000184-1726333200-1726333200@events.brandonu.ca
SUMMARY:Homecoming Dinner & Awards
DESCRIPTION:Enjoy an evening with friends and classmates as we recognize special anniversary class years and celebrate the outstanding achievements of BU alumni. \nTickets $60. \n\n5:00 pm—Cocktails\n6:00 pm—Dinner\nAwards Ceremony to follow\n\nThis event is part of Brandon University Homecoming 2024 and BU125: \n\nRegister to attend Homecoming 2024\nDiscover more Homecoming 2024 events
URL:https://events.brandonu.ca/event/homecoming-dinner-awards/
LOCATION:Harvest Hall\, 270-18th Street\, Brandon\, MB\, R7A 6A9\, Canada
CATEGORIES:Alumni,Homecoming
ATTACH;FMTTYPE=:
ORGANIZER;CN="Brandon University Alumni":MAILTO:alumni@brandonu.ca
GEO:49.844457;-99.963988
X-APPLE-STRUCTURED-LOCATION;VALUE=URI;X-ADDRESS=Harvest Hall 270-18th Street Brandon MB R7A 6A9 Canada;X-APPLE-RADIUS=500;X-TITLE=270-18th Street:geo:-99.963988,49.844457
END:VEVENT
BEGIN:VEVENT
DTSTART;TZID=America/Winnipeg:20240914T193000
DTEND;TZID=America/Winnipeg:20240914T193000
DTSTAMP:20260420T202731
CREATED:20240822T192748Z
LAST-MODIFIED:20240822T192748Z
UID:10000210-1726342200-1726342200@events.brandonu.ca
SUMMARY:Brandon Chamber Players in Concert
DESCRIPTION:Featuring performances of Sunabacka Ripples; Mozart Clarinet Quintet and Penderecki Quartet \nCatherine Wood\, clarinet \nMark Rudoff\, cello \nNancy Nehring\, viola \nGrace McKenzie\, violin \nKerry DuWors\, violin \nDetails and ticket pricing available at Brandon Chamber Players:  https://brandonchamberplayers.ca/concerts \n 
URL:https://events.brandonu.ca/event/brandon-chamber-players-in-concert-2/
LOCATION:Brandon\, MB\, Canada
CATEGORIES:School of Music
END:VEVENT
END:VCALENDAR