BEGIN:VCALENDAR
VERSION:2.0
PRODID:-//Events - ECPv6.15.17.1//NONSGML v1.0//EN
CALSCALE:GREGORIAN
METHOD:PUBLISH
X-ORIGINAL-URL:https://events.brandonu.ca
X-WR-CALDESC:Events for Events
REFRESH-INTERVAL;VALUE=DURATION:PT1H
X-Robots-Tag:noindex
X-PUBLISHED-TTL:PT1H
BEGIN:VTIMEZONE
TZID:America/Winnipeg
BEGIN:DAYLIGHT
TZOFFSETFROM:-0600
TZOFFSETTO:-0500
TZNAME:CDT
DTSTART:20230312T080000
END:DAYLIGHT
BEGIN:STANDARD
TZOFFSETFROM:-0500
TZOFFSETTO:-0600
TZNAME:CST
DTSTART:20231105T070000
END:STANDARD
BEGIN:DAYLIGHT
TZOFFSETFROM:-0600
TZOFFSETTO:-0500
TZNAME:CDT
DTSTART:20240310T080000
END:DAYLIGHT
BEGIN:STANDARD
TZOFFSETFROM:-0500
TZOFFSETTO:-0600
TZNAME:CST
DTSTART:20241103T070000
END:STANDARD
BEGIN:DAYLIGHT
TZOFFSETFROM:-0600
TZOFFSETTO:-0500
TZNAME:CDT
DTSTART:20250309T080000
END:DAYLIGHT
BEGIN:STANDARD
TZOFFSETFROM:-0500
TZOFFSETTO:-0600
TZNAME:CST
DTSTART:20251102T070000
END:STANDARD
END:VTIMEZONE
BEGIN:VEVENT
DTSTART;TZID=America/Winnipeg:20240918T080000
DTEND;TZID=America/Winnipeg:20240918T163000
DTSTAMP:20260420T202856
CREATED:20240913T150912Z
LAST-MODIFIED:20240913T150912Z
UID:10000226-1726646400-1726677000@events.brandonu.ca
SUMMARY:Add/drop deadline — Fall and full-year courses
DESCRIPTION:This is the final day to add or drop most undergraduate Fall Term or full-year (both-term) courses. It is also the add/drop deadline date for most graduate courses. Additionally\, this is the 100% tuition refund deadline for those same programs. \nThe exceptions are Faculty of Education courses. For Master of Education courses\, the add/drop deadline and 100% tuition refund deadline is Monday\, Sept. 23. \nThe add/drop deadline and 100% tuition refund deadline for Bachelor of Education (after degree)\, Bachelor of Education (integrated program) fifth year\, Bachelor of Music/Bachelor of Education (combined) fifth year courses has already passed. \nThe add/drop deadline and 100% tuition refund deadline for  is Wednesday\, Sept. 18. \nFor most graduate programs\, the add/drop deadline and 100% tuition refund deadline is Wednesday\, Sept. 18.
URL:https://events.brandonu.ca/event/add-drop-deadline-fall-and-full-year-courses/
LOCATION:Brandon University\, 270 18th Street\, Brandon\, MB\, Canada
CATEGORIES:Brandon University,Important Dates
END:VEVENT
END:VCALENDAR