BEGIN:VCALENDAR
VERSION:2.0
PRODID:-//Events - ECPv6.15.17.1//NONSGML v1.0//EN
CALSCALE:GREGORIAN
METHOD:PUBLISH
X-ORIGINAL-URL:https://events.brandonu.ca
X-WR-CALDESC:Events for Events
REFRESH-INTERVAL;VALUE=DURATION:PT1H
X-Robots-Tag:noindex
X-PUBLISHED-TTL:PT1H
BEGIN:VTIMEZONE
TZID:America/Winnipeg
BEGIN:DAYLIGHT
TZOFFSETFROM:-0600
TZOFFSETTO:-0500
TZNAME:CDT
DTSTART:20230312T080000
END:DAYLIGHT
BEGIN:STANDARD
TZOFFSETFROM:-0500
TZOFFSETTO:-0600
TZNAME:CST
DTSTART:20231105T070000
END:STANDARD
BEGIN:DAYLIGHT
TZOFFSETFROM:-0600
TZOFFSETTO:-0500
TZNAME:CDT
DTSTART:20240310T080000
END:DAYLIGHT
BEGIN:STANDARD
TZOFFSETFROM:-0500
TZOFFSETTO:-0600
TZNAME:CST
DTSTART:20241103T070000
END:STANDARD
BEGIN:DAYLIGHT
TZOFFSETFROM:-0600
TZOFFSETTO:-0500
TZNAME:CDT
DTSTART:20250309T080000
END:DAYLIGHT
BEGIN:STANDARD
TZOFFSETFROM:-0500
TZOFFSETTO:-0600
TZNAME:CST
DTSTART:20251102T070000
END:STANDARD
END:VTIMEZONE
BEGIN:VEVENT
DTSTART;TZID=America/Winnipeg:20240920T120000
DTEND;TZID=America/Winnipeg:20240920T130000
DTSTAMP:20260420T202920
CREATED:20240916T152743Z
LAST-MODIFIED:20240916T152743Z
UID:10000229-1726833600-1726837200@events.brandonu.ca
SUMMARY:Fall Equinox Feast
DESCRIPTION:Come celebrate the new season at the Fall Equinox Feast\, hosted by Library\, Archives and IT Services\, in partnership with Indigenous Peoples’ Centre. \nFriday Sept 20\, 12:00-1:00 pm \nLibrary Gathering Space \n This is a potluck feast. Food will be provided\, bring a small dish to share if you are able. \nCome enjoy delicious food and the company of others. Ensure to bring a blanket to sit on\, feast bundle (bowl\, plate\, napkin\, cutlery). \nKnowledge Keeper Barb Blind will lead us in opening prayer. In keeping with traditions followed for feasts\, identifying men assist in serving the meal. Identifying women wear long skirts if they have them.
URL:https://events.brandonu.ca/event/fall-equinox-feast/
LOCATION:Gathering Space\, John E. Robbins Library\, Canada
CATEGORIES:Brandon University,Indigenous People's Centre,John E. Robbins Library
ORGANIZER;CN="John E. Robbins Library":MAILTO:libraryadmin@brandonu.ca
GEO:49.844895798153;-99.96376052603
END:VEVENT
END:VCALENDAR