BEGIN:VCALENDAR
VERSION:2.0
PRODID:-//Events - ECPv6.15.17.1//NONSGML v1.0//EN
CALSCALE:GREGORIAN
METHOD:PUBLISH
X-ORIGINAL-URL:https://events.brandonu.ca
X-WR-CALDESC:Events for Events
REFRESH-INTERVAL;VALUE=DURATION:PT1H
X-Robots-Tag:noindex
X-PUBLISHED-TTL:PT1H
BEGIN:VTIMEZONE
TZID:America/Winnipeg
BEGIN:DAYLIGHT
TZOFFSETFROM:-0600
TZOFFSETTO:-0500
TZNAME:CDT
DTSTART:20230312T080000
END:DAYLIGHT
BEGIN:STANDARD
TZOFFSETFROM:-0500
TZOFFSETTO:-0600
TZNAME:CST
DTSTART:20231105T070000
END:STANDARD
BEGIN:DAYLIGHT
TZOFFSETFROM:-0600
TZOFFSETTO:-0500
TZNAME:CDT
DTSTART:20240310T080000
END:DAYLIGHT
BEGIN:STANDARD
TZOFFSETFROM:-0500
TZOFFSETTO:-0600
TZNAME:CST
DTSTART:20241103T070000
END:STANDARD
BEGIN:DAYLIGHT
TZOFFSETFROM:-0600
TZOFFSETTO:-0500
TZNAME:CDT
DTSTART:20250309T080000
END:DAYLIGHT
BEGIN:STANDARD
TZOFFSETFROM:-0500
TZOFFSETTO:-0600
TZNAME:CST
DTSTART:20251102T070000
END:STANDARD
END:VTIMEZONE
BEGIN:VEVENT
DTSTART;TZID=America/Winnipeg:20240924T123000
DTEND;TZID=America/Winnipeg:20240924T133000
DTSTAMP:20260420T202920
CREATED:20240927T163448Z
LAST-MODIFIED:20240927T163448Z
UID:10000255-1727181000-1727184600@events.brandonu.ca
SUMMARY:Jigging Practice with Vince O'Laney Copy
DESCRIPTION:Join championship dancer Vince O’Laney and prepare to jig and square dance at Our Journey 2025!
URL:https://events.brandonu.ca/event/jigging-practice-with-vince-olaney-copy/
LOCATION:Indigenous Peoples’ Centre\, McKenzie Building\, Room 101\, 270-18th Street\, Brandon\, MB\, R7A 6A9\, Canada
CATEGORIES:Indigenous People's Centre
GEO:49.845331215797;-99.963746870812
X-APPLE-STRUCTURED-LOCATION;VALUE=URI;X-ADDRESS=Indigenous Peoples’ Centre McKenzie Building Room 101 270-18th Street Brandon MB R7A 6A9 Canada;X-APPLE-RADIUS=500;X-TITLE=270-18th Street:geo:-99.963746870812,49.845331215797
END:VEVENT
BEGIN:VEVENT
DTSTART;TZID=America/Winnipeg:20240924T170000
DTEND;TZID=America/Winnipeg:20240924T190000
DTSTAMP:20260420T202920
CREATED:20240916T182159Z
LAST-MODIFIED:20240916T182159Z
UID:10000231-1727197200-1727204400@events.brandonu.ca
SUMMARY:Green Futures work bee
DESCRIPTION:FINAL WORK BEE OF THE SEASON! \nPLEASE COME AND JOIN US\, *** TUESDAY\, SEPT 24\, 5-7 PM ***\, FOR THE LAST WORK BEE OF THE SEASON! WE WILL HARVEST ALL THE VEGGIES AND PREPARE THE BEDS FOR THE WINTER! \nDid you know that there are two community gardens at Brandon University that grow vegetables to fight food insecurity in our community? Our produce is donated to Samaritan House Ministries and other organizations that help fight food insecurity. \nIt’s been a beautiful summer and the last of our veggies are ready to pick\, and delivered to BUSU and the food bank of Samaritan House Ministries! We will harvest the potatoes\, the last of the tomatoes and peppers\, and the last of the kale. We will also pull out all the weeds and prepare the garden beds for the winter\, by turning the soil. \nWe won’t ask for much of your time\, and this will be a kid friendly event\, so please bring all of your family! Please come to BU at 5 PM\, and we will work together until 7 PM. \nPlease meet us just behind the bus shelter on 18th street\, next to the Brodie Building; if you have them\, bring a shovel and some gardening gloves. Please RVSP to Petrellas@brandonu.ca\, so that I have a sense of how many volunteers we will have\, and I can bring snacks and refreshments for everyone. \nThank you\, lovely people!
URL:https://events.brandonu.ca/event/green-futures-work-bee-2/
LOCATION:Brandon University\, 270 18th Street\, Brandon\, MB\, Canada
CATEGORIES:Around Campus,Brandon University
END:VEVENT
END:VCALENDAR