BEGIN:VCALENDAR
VERSION:2.0
PRODID:-//Events - ECPv6.15.17.1//NONSGML v1.0//EN
CALSCALE:GREGORIAN
METHOD:PUBLISH
X-WR-CALNAME:Events
X-ORIGINAL-URL:https://events.brandonu.ca
X-WR-CALDESC:Events for Events
REFRESH-INTERVAL;VALUE=DURATION:PT1H
X-Robots-Tag:noindex
X-PUBLISHED-TTL:PT1H
BEGIN:VTIMEZONE
TZID:America/Winnipeg
BEGIN:DAYLIGHT
TZOFFSETFROM:-0600
TZOFFSETTO:-0500
TZNAME:CDT
DTSTART:20230312T080000
END:DAYLIGHT
BEGIN:STANDARD
TZOFFSETFROM:-0500
TZOFFSETTO:-0600
TZNAME:CST
DTSTART:20231105T070000
END:STANDARD
BEGIN:DAYLIGHT
TZOFFSETFROM:-0600
TZOFFSETTO:-0500
TZNAME:CDT
DTSTART:20240310T080000
END:DAYLIGHT
BEGIN:STANDARD
TZOFFSETFROM:-0500
TZOFFSETTO:-0600
TZNAME:CST
DTSTART:20241103T070000
END:STANDARD
BEGIN:DAYLIGHT
TZOFFSETFROM:-0600
TZOFFSETTO:-0500
TZNAME:CDT
DTSTART:20250309T080000
END:DAYLIGHT
BEGIN:STANDARD
TZOFFSETFROM:-0500
TZOFFSETTO:-0600
TZNAME:CST
DTSTART:20251102T070000
END:STANDARD
END:VTIMEZONE
BEGIN:VEVENT
DTSTART;TZID=America/Winnipeg:20241017T153000
DTEND;TZID=America/Winnipeg:20241017T183000
DTSTAMP:20260420T184724
CREATED:20240927T192030Z
LAST-MODIFIED:20240927T192030Z
UID:10000261-1729179000-1729189800@events.brandonu.ca
SUMMARY:Horticultural Therapy
DESCRIPTION:Horticultural Therapy supports students to cope with stress using plants\, plant-based materials\, and plant-based activities to achieve specific therapeutic goals such as relieving stress and improving mood and attention. \nCo-facilitated by Marsha Harris\, Counselling Therapist\, and Deborah Tacan\, Cree Métis Grandmother. \nRegistration is now open—email HarrisM@BrandonU.ca to register
URL:https://events.brandonu.ca/event/horticultural-therapy/2024-10-17/
LOCATION:Indigenous Peoples’ Centre\, McKenzie Building\, Room 101\, 270-18th Street\, Brandon\, MB\, R7A 6A9\, Canada
CATEGORIES:Indigenous People's Centre
GEO:49.845331215797;-99.963746870812
X-APPLE-STRUCTURED-LOCATION;VALUE=URI;X-ADDRESS=Indigenous Peoples’ Centre McKenzie Building Room 101 270-18th Street Brandon MB R7A 6A9 Canada;X-APPLE-RADIUS=500;X-TITLE=270-18th Street:geo:-99.963746870812,49.845331215797
END:VEVENT
BEGIN:VEVENT
DTSTART;TZID=America/Winnipeg:20241017T163000
DTEND;TZID=America/Winnipeg:20241017T183000
DTSTAMP:20260420T184724
CREATED:20240914T022126Z
LAST-MODIFIED:20240914T022126Z
UID:10000228-1729182600-1729189800@events.brandonu.ca
SUMMARY:Mayor’s Book Club
DESCRIPTION:Join Mayor Jeff Fawcett and Brandon University professors at the Downtown Branch of the Western Manitoba Regional Library for a community discussion around “The Anxious Generation” by Jonathan Haidt. \nThe topic of social media and the effects it has on developing minds is more important than ever right now. Be a part of the conversation and sign up by emailing programs@wmrl.ca. \nThis book is available as a physical copy\, ebook\, and audiobook through the WMRL\, and physical copies are also on reserve at the Brandon University Library. \n  \n 
URL:https://events.brandonu.ca/event/mayors-book-club/
LOCATION:Western Manitoba Regional Library\, 710 Rosser Avenue\, Brandon\, MB\, Canada
CATEGORIES:Around Campus,Brandon University
ATTACH;FMTTYPE=:
GEO:49.8482957;-99.9477916
X-APPLE-STRUCTURED-LOCATION;VALUE=URI;X-ADDRESS=Western Manitoba Regional Library 710 Rosser Avenue Brandon MB Canada;X-APPLE-RADIUS=500;X-TITLE=710 Rosser Avenue:geo:-99.9477916,49.8482957
END:VEVENT
END:VCALENDAR