BEGIN:VCALENDAR
VERSION:2.0
PRODID:-//Events - ECPv6.15.17.1//NONSGML v1.0//EN
CALSCALE:GREGORIAN
METHOD:PUBLISH
X-ORIGINAL-URL:https://events.brandonu.ca
X-WR-CALDESC:Events for Events
REFRESH-INTERVAL;VALUE=DURATION:PT1H
X-Robots-Tag:noindex
X-PUBLISHED-TTL:PT1H
BEGIN:VTIMEZONE
TZID:America/Winnipeg
BEGIN:DAYLIGHT
TZOFFSETFROM:-0600
TZOFFSETTO:-0500
TZNAME:CDT
DTSTART:20230312T080000
END:DAYLIGHT
BEGIN:STANDARD
TZOFFSETFROM:-0500
TZOFFSETTO:-0600
TZNAME:CST
DTSTART:20231105T070000
END:STANDARD
BEGIN:DAYLIGHT
TZOFFSETFROM:-0600
TZOFFSETTO:-0500
TZNAME:CDT
DTSTART:20240310T080000
END:DAYLIGHT
BEGIN:STANDARD
TZOFFSETFROM:-0500
TZOFFSETTO:-0600
TZNAME:CST
DTSTART:20241103T070000
END:STANDARD
BEGIN:DAYLIGHT
TZOFFSETFROM:-0600
TZOFFSETTO:-0500
TZNAME:CDT
DTSTART:20250309T080000
END:DAYLIGHT
BEGIN:STANDARD
TZOFFSETFROM:-0500
TZOFFSETTO:-0600
TZNAME:CST
DTSTART:20251102T070000
END:STANDARD
END:VTIMEZONE
BEGIN:VEVENT
DTSTART;TZID=America/Winnipeg:20241024T120000
DTEND;TZID=America/Winnipeg:20241024T120000
DTSTAMP:20260420T184856
CREATED:20241009T165111Z
LAST-MODIFIED:20241009T165111Z
UID:10000267-1729771200-1729771200@events.brandonu.ca
SUMMARY:BU Teachings House: Etuaptmumk | Two Eyed Seeing
DESCRIPTION:Join BU Knowledge Keepers as they share teachings that reflect the importance of respectfully bringing together different ways of knowing\, to learn and lead in a way that draws on the strengths of our diverse knowledges and experience. Hosted by the Indigenous Peoples’ Centre. BU Teachings House gatherings are open invitations to students\, faculty\, staff\, alumni\, and the broader community to reflect\, listen\, and share. All are invited to attend! Coffee\, tea\, and bannock provided. \n 
URL:https://events.brandonu.ca/event/bu-teachings-house-etuaptmumk-two-eyed-seeing/
LOCATION:He Oyate Tawapi (Ceremony Room)\, Health Studies Complex\, Room 141\, 270-18th Street\, Brandon\, MB\, R7A 6A9\, Canada
CATEGORIES:Brandon University,Indigenous People's Centre
GEO:49.845352;-99.962159
X-APPLE-STRUCTURED-LOCATION;VALUE=URI;X-ADDRESS=He Oyate Tawapi (Ceremony Room) Health Studies Complex Room 141 270-18th Street Brandon MB R7A 6A9 Canada;X-APPLE-RADIUS=500;X-TITLE=270-18th Street:geo:-99.962159,49.845352
END:VEVENT
BEGIN:VEVENT
DTSTART;TZID=America/Winnipeg:20241024T130000
DTEND;TZID=America/Winnipeg:20241024T150000
DTSTAMP:20260420T184856
CREATED:20241023T042106Z
LAST-MODIFIED:20241023T042106Z
UID:10000276-1729774800-1729782000@events.brandonu.ca
SUMMARY:Bobcats Basketball
DESCRIPTION:BU Men&apos;s Basketball vs Calgary\nGame start: October 24\, 2024 1:00 pmGame details
URL:https://events.brandonu.ca/event/bobcats-basketball-2024-10-24/
LOCATION:Healthy Living Centre\, 2010 Louise Avenue\, Brandon\, MB\, R7B 0L4\, Canada
CATEGORIES:Bobcats
GEO:49.843586;-99.964781
X-APPLE-STRUCTURED-LOCATION;VALUE=URI;X-ADDRESS=Healthy Living Centre 2010 Louise Avenue Brandon MB R7B 0L4 Canada;X-APPLE-RADIUS=500;X-TITLE=2010 Louise Avenue:geo:-99.964781,49.843586
END:VEVENT
BEGIN:VEVENT
DTSTART;TZID=America/Winnipeg:20241024T153000
DTEND;TZID=America/Winnipeg:20241024T183000
DTSTAMP:20260420T184856
CREATED:20240927T192030Z
LAST-MODIFIED:20240927T192030Z
UID:10000262-1729783800-1729794600@events.brandonu.ca
SUMMARY:Horticultural Therapy
DESCRIPTION:Horticultural Therapy supports students to cope with stress using plants\, plant-based materials\, and plant-based activities to achieve specific therapeutic goals such as relieving stress and improving mood and attention. \nCo-facilitated by Marsha Harris\, Counselling Therapist\, and Deborah Tacan\, Cree Métis Grandmother. \nRegistration is now open—email HarrisM@BrandonU.ca to register
URL:https://events.brandonu.ca/event/horticultural-therapy/2024-10-24/
LOCATION:Indigenous Peoples’ Centre\, McKenzie Building\, Room 101\, 270-18th Street\, Brandon\, MB\, R7A 6A9\, Canada
CATEGORIES:Indigenous People's Centre
GEO:49.845331215797;-99.963746870812
X-APPLE-STRUCTURED-LOCATION;VALUE=URI;X-ADDRESS=Indigenous Peoples’ Centre McKenzie Building Room 101 270-18th Street Brandon MB R7A 6A9 Canada;X-APPLE-RADIUS=500;X-TITLE=270-18th Street:geo:-99.963746870812,49.845331215797
END:VEVENT
END:VCALENDAR