BEGIN:VCALENDAR
VERSION:2.0
PRODID:-//Events - ECPv6.15.17.1//NONSGML v1.0//EN
CALSCALE:GREGORIAN
METHOD:PUBLISH
X-WR-CALNAME:Events
X-ORIGINAL-URL:https://events.brandonu.ca
X-WR-CALDESC:Events for Events
REFRESH-INTERVAL;VALUE=DURATION:PT1H
X-Robots-Tag:noindex
X-PUBLISHED-TTL:PT1H
BEGIN:VTIMEZONE
TZID:America/Winnipeg
BEGIN:DAYLIGHT
TZOFFSETFROM:-0600
TZOFFSETTO:-0500
TZNAME:CDT
DTSTART:20230312T080000
END:DAYLIGHT
BEGIN:STANDARD
TZOFFSETFROM:-0500
TZOFFSETTO:-0600
TZNAME:CST
DTSTART:20231105T070000
END:STANDARD
BEGIN:DAYLIGHT
TZOFFSETFROM:-0600
TZOFFSETTO:-0500
TZNAME:CDT
DTSTART:20240310T080000
END:DAYLIGHT
BEGIN:STANDARD
TZOFFSETFROM:-0500
TZOFFSETTO:-0600
TZNAME:CST
DTSTART:20241103T070000
END:STANDARD
BEGIN:DAYLIGHT
TZOFFSETFROM:-0600
TZOFFSETTO:-0500
TZNAME:CDT
DTSTART:20250309T080000
END:DAYLIGHT
BEGIN:STANDARD
TZOFFSETFROM:-0500
TZOFFSETTO:-0600
TZNAME:CST
DTSTART:20251102T070000
END:STANDARD
END:VTIMEZONE
BEGIN:VEVENT
DTSTART;TZID=America/Winnipeg:20241105T124000
DTEND;TZID=America/Winnipeg:20241105T133000
DTSTAMP:20260420T171851
CREATED:20241031T180359Z
LAST-MODIFIED:20241031T180359Z
UID:10000284-1730810400-1730813400@events.brandonu.ca
SUMMARY:Law School Information Session
DESCRIPTION:BU grads who are now studying in the University of Manitoba Faculty of Law will share their insights on preparing for the LSAT\, the law school application process and what it’s like to study law. \nThis is a great opportunity to ask any questions you may have and learn from students with different experiences. \nInstagram: @bupolitics \nEmail: BrandonUPoliticsSociety@outlook.com
URL:https://events.brandonu.ca/event/law-school-information-session/
LOCATION:MB
CATEGORIES:Career Planning,Faculty of Arts
ATTACH;FMTTYPE=:
END:VEVENT
BEGIN:VEVENT
DTSTART;TZID=America/Winnipeg:20241105T193000
DTEND;TZID=America/Winnipeg:20241105T193000
DTSTAMP:20260420T171851
CREATED:20240822T193558Z
LAST-MODIFIED:20240822T193558Z
UID:10000214-1730835000-1730835000@events.brandonu.ca
SUMMARY:CANCELLED pro series: Teri Parker\, jazz piano
DESCRIPTION:Due to unforeseen circumstances\, this concert has been cancelled.  We apologize for any inconvenience.
URL:https://events.brandonu.ca/event/pro-series-teri-parker-jazz-piano/
LOCATION:Brandon\, MB\, Canada
CATEGORIES:Pro Series,School of Music
END:VEVENT
END:VCALENDAR