BEGIN:VCALENDAR
VERSION:2.0
PRODID:-//Events - ECPv6.15.17.1//NONSGML v1.0//EN
CALSCALE:GREGORIAN
METHOD:PUBLISH
X-WR-CALNAME:Events
X-ORIGINAL-URL:https://events.brandonu.ca
X-WR-CALDESC:Events for Events
REFRESH-INTERVAL;VALUE=DURATION:PT1H
X-Robots-Tag:noindex
X-PUBLISHED-TTL:PT1H
BEGIN:VTIMEZONE
TZID:America/Winnipeg
BEGIN:DAYLIGHT
TZOFFSETFROM:-0600
TZOFFSETTO:-0500
TZNAME:CDT
DTSTART:20230312T080000
END:DAYLIGHT
BEGIN:STANDARD
TZOFFSETFROM:-0500
TZOFFSETTO:-0600
TZNAME:CST
DTSTART:20231105T070000
END:STANDARD
BEGIN:DAYLIGHT
TZOFFSETFROM:-0600
TZOFFSETTO:-0500
TZNAME:CDT
DTSTART:20240310T080000
END:DAYLIGHT
BEGIN:STANDARD
TZOFFSETFROM:-0500
TZOFFSETTO:-0600
TZNAME:CST
DTSTART:20241103T070000
END:STANDARD
BEGIN:DAYLIGHT
TZOFFSETFROM:-0600
TZOFFSETTO:-0500
TZNAME:CDT
DTSTART:20250309T080000
END:DAYLIGHT
BEGIN:STANDARD
TZOFFSETFROM:-0500
TZOFFSETTO:-0600
TZNAME:CST
DTSTART:20251102T070000
END:STANDARD
END:VTIMEZONE
BEGIN:VEVENT
DTSTART;TZID=America/Winnipeg:20241106T190000
DTEND;TZID=America/Winnipeg:20241106T190000
DTSTAMP:20260420T171852
CREATED:20241031T174727Z
LAST-MODIFIED:20241031T174727Z
UID:10000283-1730919600-1730919600@events.brandonu.ca
SUMMARY:Spoken Word & Jazz
DESCRIPTION:Students from the Jazz Composition and Arranging II and Elucidata: Multimedia Poetry Workshop courses have collaborated on a project. \nThe students have created a program of live spoken word with music and will be perform these brand-new compositions. This event is free and open to the public.
URL:https://events.brandonu.ca/event/spoken-word-jazz/
LOCATION:Section 6 Brewing\, 1126 Princess Ave\, Brandon\, MB\, R7A 0P9\, Canada
CATEGORIES:Brandon University,Faculty of Arts,School of Music
END:VEVENT
END:VCALENDAR