BEGIN:VCALENDAR
VERSION:2.0
PRODID:-//Events - ECPv6.15.17.1//NONSGML v1.0//EN
CALSCALE:GREGORIAN
METHOD:PUBLISH
X-WR-CALNAME:Events
X-ORIGINAL-URL:https://events.brandonu.ca
X-WR-CALDESC:Events for Events
REFRESH-INTERVAL;VALUE=DURATION:PT1H
X-Robots-Tag:noindex
X-PUBLISHED-TTL:PT1H
BEGIN:VTIMEZONE
TZID:America/Winnipeg
BEGIN:DAYLIGHT
TZOFFSETFROM:-0600
TZOFFSETTO:-0500
TZNAME:CDT
DTSTART:20230312T080000
END:DAYLIGHT
BEGIN:STANDARD
TZOFFSETFROM:-0500
TZOFFSETTO:-0600
TZNAME:CST
DTSTART:20231105T070000
END:STANDARD
BEGIN:DAYLIGHT
TZOFFSETFROM:-0600
TZOFFSETTO:-0500
TZNAME:CDT
DTSTART:20240310T080000
END:DAYLIGHT
BEGIN:STANDARD
TZOFFSETFROM:-0500
TZOFFSETTO:-0600
TZNAME:CST
DTSTART:20241103T070000
END:STANDARD
BEGIN:DAYLIGHT
TZOFFSETFROM:-0600
TZOFFSETTO:-0500
TZNAME:CDT
DTSTART:20250309T080000
END:DAYLIGHT
BEGIN:STANDARD
TZOFFSETFROM:-0500
TZOFFSETTO:-0600
TZNAME:CST
DTSTART:20251102T070000
END:STANDARD
END:VTIMEZONE
BEGIN:VEVENT
DTSTART;TZID=America/Winnipeg:20241122T180000
DTEND;TZID=America/Winnipeg:20241122T200000
DTSTAMP:20260420T171853
CREATED:20241120T030449Z
LAST-MODIFIED:20241120T030449Z
UID:10000296-1732298400-1732305600@events.brandonu.ca
SUMMARY:Ethics Café
DESCRIPTION:Join us at Chez Angela to engage in critical discussions on technology and education. Explore how digital tools enhance or challenge learning. Co-hosted by the Manitoba Association for Rights and Liberties\, and the BU Department of Philosophy\, this event is free and open to the public. \nWhether you’re an educator\, student\, parent\, or community member\, this Ethics Café is for anyone interested in discussing how technology shapes our educational experiences and responsibilities. No preparation required – just bring your curiosity and perspectives! Participation is encouraged in any form. \nEveryone is welcome—no prep needed! Light refreshments provided. \nTopics: Phones in Schools\, Social Media\, and the Impact of Al \nRegister now to secure your spot: https://marl.mb.ca/events/brandon-ethics-cafe/
URL:https://events.brandonu.ca/event/ethics-cafe/
LOCATION:Chez Angela Bakery and Cafe\, 29c 10th Street\, Brandon\, MB\, R7A 4E4\, Canada
CATEGORIES:Around Campus,Brandon University
ATTACH;FMTTYPE=:
END:VEVENT
BEGIN:VEVENT
DTSTART;TZID=America/Winnipeg:20241122T180000
DTEND;TZID=America/Winnipeg:20241122T220000
DTSTAMP:20260420T171853
CREATED:20240704T144207Z
LAST-MODIFIED:20240704T144207Z
UID:10000169-1732298400-1732312800@events.brandonu.ca
SUMMARY:Bobcats Basketball
DESCRIPTION:BU Men’s Basketball vs Alberta\nGame start: November 22\, 2024 8:00 pm\nGame details \n\n \n\nBU Women’s Basketball vs Alberta\nGame start: November 22\, 2024 6:00 pm\nGame details
URL:https://events.brandonu.ca/event/bobcats-basketball-2024-11-22/
LOCATION:Healthy Living Centre\, 2010 Louise Avenue\, Brandon\, MB\, R7B 0L4\, Canada
CATEGORIES:Bobcats,Brandon University
GEO:49.843586;-99.964781
X-APPLE-STRUCTURED-LOCATION;VALUE=URI;X-ADDRESS=Healthy Living Centre 2010 Louise Avenue Brandon MB R7B 0L4 Canada;X-APPLE-RADIUS=500;X-TITLE=2010 Louise Avenue:geo:-99.964781,49.843586
END:VEVENT
BEGIN:VEVENT
DTSTART;TZID=America/Winnipeg:20241122T190000
DTEND;TZID=America/Winnipeg:20241122T190000
DTSTAMP:20260420T171853
CREATED:20240916T191035Z
LAST-MODIFIED:20240916T191035Z
UID:10000232-1732302000-1732302000@events.brandonu.ca
SUMMARY:Canada Music Week\, Masterclass @ 3 p.m. and Evening Concert @ 7 p.m.
DESCRIPTION:Please apply by November 10\, 2024 at this link:  https://forms.gle/4TB9TvJxjuUQstuG6 \nMaster Class Participation Limits: \n\n6 Junior Students\n4 Intermediate Students\n3 Senior Students\n\n(First come\, first-served basis) \nOpen to all Manitoba students\, regardless of age or instrument. Only works by Canadian composers\, preferably from Manitoba\, will be accepted. Memorization is encouraged but not required.  For more information please call 204-573-2423. \nMasterclass at 3:00 p.m. with Adjudicator\, Dr. Daniel Tselyakov\, piano in Classroom 1-26\, BU School of Music \nConcert at 7:00 p.m.\, Lorne Watson Recital Hall\, School of Music\, Brandon University \nConcert Admission: by donation \nComplimentary Refreshments: Provided after both Masterclass and Concert \n 
URL:https://events.brandonu.ca/event/canada-music-week-masterclass-3-p-m-and-evening-concert-7-p-m/
LOCATION:Brandon\, MB\, Canada
CATEGORIES:Brandon University,School of Music
END:VEVENT
BEGIN:VEVENT
DTSTART;TZID=America/Winnipeg:20241122T200000
DTEND;TZID=America/Winnipeg:20241122T220000
DTSTAMP:20260420T171853
CREATED:20240813T192138Z
LAST-MODIFIED:20240813T192138Z
UID:10000202-1732305600-1732312800@events.brandonu.ca
SUMMARY:Bobcats Basketball
DESCRIPTION:BU Men&apos;s Basketball vs Alberta\nGame start: November 22\, 2024 8:00 pmGame details
URL:https://events.brandonu.ca/event/bobcats-basketball-2024-11-22-2/
LOCATION:Healthy Living Centre\, 2010 Louise Avenue\, Brandon\, MB\, R7B 0L4\, Canada
CATEGORIES:Bobcats
GEO:49.843586;-99.964781
X-APPLE-STRUCTURED-LOCATION;VALUE=URI;X-ADDRESS=Healthy Living Centre 2010 Louise Avenue Brandon MB R7B 0L4 Canada;X-APPLE-RADIUS=500;X-TITLE=2010 Louise Avenue:geo:-99.964781,49.843586
END:VEVENT
END:VCALENDAR