BEGIN:VCALENDAR
VERSION:2.0
PRODID:-//Events - ECPv6.15.17.1//NONSGML v1.0//EN
CALSCALE:GREGORIAN
METHOD:PUBLISH
X-WR-CALNAME:Events
X-ORIGINAL-URL:https://events.brandonu.ca
X-WR-CALDESC:Events for Events
REFRESH-INTERVAL;VALUE=DURATION:PT1H
X-Robots-Tag:noindex
X-PUBLISHED-TTL:PT1H
BEGIN:VTIMEZONE
TZID:America/Winnipeg
BEGIN:DAYLIGHT
TZOFFSETFROM:-0600
TZOFFSETTO:-0500
TZNAME:CDT
DTSTART:20230312T080000
END:DAYLIGHT
BEGIN:STANDARD
TZOFFSETFROM:-0500
TZOFFSETTO:-0600
TZNAME:CST
DTSTART:20231105T070000
END:STANDARD
BEGIN:DAYLIGHT
TZOFFSETFROM:-0600
TZOFFSETTO:-0500
TZNAME:CDT
DTSTART:20240310T080000
END:DAYLIGHT
BEGIN:STANDARD
TZOFFSETFROM:-0500
TZOFFSETTO:-0600
TZNAME:CST
DTSTART:20241103T070000
END:STANDARD
BEGIN:DAYLIGHT
TZOFFSETFROM:-0600
TZOFFSETTO:-0500
TZNAME:CDT
DTSTART:20250309T080000
END:DAYLIGHT
BEGIN:STANDARD
TZOFFSETFROM:-0500
TZOFFSETTO:-0600
TZNAME:CST
DTSTART:20251102T070000
END:STANDARD
END:VTIMEZONE
BEGIN:VEVENT
DTSTART;TZID=America/Winnipeg:20241130T170000
DTEND;TZID=America/Winnipeg:20241130T204500
DTSTAMP:20260420T154402
CREATED:20240628T135850Z
LAST-MODIFIED:20240628T135850Z
UID:10000156-1732986000-1732999500@events.brandonu.ca
SUMMARY:Bobcats Volleyball
DESCRIPTION:BU Women’s Volleyball vs Alberta\nGame start: November 30\, 2024 5:00 pm\nGame details \n\n \n\nBU Men’s Volleyball vs U of Alberta\nGame start: November 30\, 2024 6:45 pm\nGame details
URL:https://events.brandonu.ca/event/bobcats-volleyball-2024-11-30/
LOCATION:Healthy Living Centre\, 2010 Louise Avenue\, Brandon\, MB\, R7B 0L4\, Canada
CATEGORIES:Bobcats,Brandon University
GEO:49.843586;-99.964781
X-APPLE-STRUCTURED-LOCATION;VALUE=URI;X-ADDRESS=Healthy Living Centre 2010 Louise Avenue Brandon MB R7B 0L4 Canada;X-APPLE-RADIUS=500;X-TITLE=2010 Louise Avenue:geo:-99.964781,49.843586
END:VEVENT
BEGIN:VEVENT
DTSTART;TZID=America/Winnipeg:20241130T193000
DTEND;TZID=America/Winnipeg:20241130T193000
DTSTAMP:20260420T154402
CREATED:20240916T173305Z
LAST-MODIFIED:20240916T173305Z
UID:10000230-1732995000-1732995000@events.brandonu.ca
SUMMARY:Pro Series Concert NÖEL NOCTURNE featuring Proximus5
DESCRIPTION:Immerse yourself in the calming vocal cadences of timeless holiday classics.  \nDan Rochegood\, countertenor \nScott Reimer\, baritone and countertenor \nJames Magnus-Johnston\, tenor \nPaul Bruch-Wiens\, baritone \nJereme Wall\, bass \nBrandon University Pro Series is thrilled to host Winnipeg’s premier male a cappella quintet\, Proximus 5\, on their Holiday Tour. Renowned for their spine-tingling harmonies and exquisite vocal arrangements\, these seasoned singers promise an unforgettable evening. The program will feature a festive mix of traditional carols and contemporary holiday compositions\, all beautifully arranged to highlight the ensemble’s dynamic vocal prowess.  Proximus will be joined by BU’s brand-new Men’s Chamber Ensemble who will be singing some holiday favourites of their own. Join us for a night of joyous music that celebrates the spirit of the holiday season. \nTICKETS ARE AVAILABLE AT THE DOOR.  $20 for adults (no fee for BU and Conservatory of Music students). \nFor more information about Proximus5\, please visit their website at: https://www.prox5.ca/ \n  \n 
URL:https://events.brandonu.ca/event/pro-series-concert-proximus5/
LOCATION:Brandon\, MB\, Canada
CATEGORIES:Brandon University,Pro Series,School of Music
END:VEVENT
END:VCALENDAR