BEGIN:VCALENDAR
VERSION:2.0
PRODID:-//Events - ECPv6.15.17.1//NONSGML v1.0//EN
CALSCALE:GREGORIAN
METHOD:PUBLISH
X-ORIGINAL-URL:https://events.brandonu.ca
X-WR-CALDESC:Events for Events
REFRESH-INTERVAL;VALUE=DURATION:PT1H
X-Robots-Tag:noindex
X-PUBLISHED-TTL:PT1H
BEGIN:VTIMEZONE
TZID:America/Winnipeg
BEGIN:DAYLIGHT
TZOFFSETFROM:-0600
TZOFFSETTO:-0500
TZNAME:CDT
DTSTART:20230312T080000
END:DAYLIGHT
BEGIN:STANDARD
TZOFFSETFROM:-0500
TZOFFSETTO:-0600
TZNAME:CST
DTSTART:20231105T070000
END:STANDARD
BEGIN:DAYLIGHT
TZOFFSETFROM:-0600
TZOFFSETTO:-0500
TZNAME:CDT
DTSTART:20240310T080000
END:DAYLIGHT
BEGIN:STANDARD
TZOFFSETFROM:-0500
TZOFFSETTO:-0600
TZNAME:CST
DTSTART:20241103T070000
END:STANDARD
BEGIN:DAYLIGHT
TZOFFSETFROM:-0600
TZOFFSETTO:-0500
TZNAME:CDT
DTSTART:20250309T080000
END:DAYLIGHT
BEGIN:STANDARD
TZOFFSETFROM:-0500
TZOFFSETTO:-0600
TZNAME:CST
DTSTART:20251102T070000
END:STANDARD
END:VTIMEZONE
BEGIN:VEVENT
DTSTART;TZID=America/Winnipeg:20241206T190000
DTEND;TZID=America/Winnipeg:20241206T190000
DTSTAMP:20260420T154440
CREATED:20241030T162806Z
LAST-MODIFIED:20241030T162806Z
UID:10000280-1733511600-1733511600@events.brandonu.ca
SUMMARY:Life is Wonderful
DESCRIPTION:The classic holiday film\, “It’s A Wonderful Life” gets an exciting re-vamp in Brandon University Theatre’s latest production “Life is Wonderful”\, on stage December 4th through 8th\, 2024 at the Evans Theatre. If you enjoyed last season’s “Salt-Water Moon\,” you are sure to be entertained by this heart-warming production. Learn more about the production here. \nTicket Prices\n\nGeneral Admission – $20\nSeniors – $15\nStudents – $10\n\nAdvance tickets available here. ‘Day-of’ tickets only available at the door (Cash or Debit). \nDates and Times\n\nWed. Dec. 4th – 7:00 pm\nThurs. Dec. 5th – 7:00 pm\nFri. Dec. 6th – 7:00 pm\nSat. Dec. 7th – 7:00 pm\nSun. Dec.8th – 2:00 pm
URL:https://events.brandonu.ca/event/life-is-wonderful/2024-12-06/
LOCATION:Evans Theatre\, McKenzie Building\, 270-18th Street\, Brandon\, MB\, R7A 6A9\, Canada
CATEGORIES:Brandon University,Faculty of Arts
ORGANIZER;CN="Brandon University Theatre":MAILTO:DourisR@BrandonU.CA
GEO:49.845327;-99.963905
X-APPLE-STRUCTURED-LOCATION;VALUE=URI;X-ADDRESS=Evans Theatre McKenzie Building 270-18th Street Brandon MB R7A 6A9 Canada;X-APPLE-RADIUS=500;X-TITLE=270-18th Street:geo:-99.963905,49.845327
END:VEVENT
END:VCALENDAR