BEGIN:VCALENDAR
VERSION:2.0
PRODID:-//Events - ECPv6.15.17.1//NONSGML v1.0//EN
CALSCALE:GREGORIAN
METHOD:PUBLISH
X-WR-CALNAME:Events
X-ORIGINAL-URL:https://events.brandonu.ca
X-WR-CALDESC:Events for Events
REFRESH-INTERVAL;VALUE=DURATION:PT1H
X-Robots-Tag:noindex
X-PUBLISHED-TTL:PT1H
BEGIN:VTIMEZONE
TZID:America/Winnipeg
BEGIN:DAYLIGHT
TZOFFSETFROM:-0600
TZOFFSETTO:-0500
TZNAME:CDT
DTSTART:20240310T080000
END:DAYLIGHT
BEGIN:STANDARD
TZOFFSETFROM:-0500
TZOFFSETTO:-0600
TZNAME:CST
DTSTART:20241103T070000
END:STANDARD
BEGIN:DAYLIGHT
TZOFFSETFROM:-0600
TZOFFSETTO:-0500
TZNAME:CDT
DTSTART:20250309T080000
END:DAYLIGHT
BEGIN:STANDARD
TZOFFSETFROM:-0500
TZOFFSETTO:-0600
TZNAME:CST
DTSTART:20251102T070000
END:STANDARD
BEGIN:DAYLIGHT
TZOFFSETFROM:-0600
TZOFFSETTO:-0500
TZNAME:CDT
DTSTART:20260308T080000
END:DAYLIGHT
BEGIN:STANDARD
TZOFFSETFROM:-0500
TZOFFSETTO:-0600
TZNAME:CST
DTSTART:20261101T070000
END:STANDARD
END:VTIMEZONE
BEGIN:VEVENT
DTSTART;TZID=America/Winnipeg:20250107T083000
DTEND;TZID=America/Winnipeg:20250107T163000
DTSTAMP:20260420T134958
CREATED:20241220T220000Z
LAST-MODIFIED:20241220T220000Z
UID:10000315-1736238600-1736267400@events.brandonu.ca
SUMMARY:First Day of Classes\, most programs
DESCRIPTION:Classes for most winter courses begin today\, except for BEd (AD)\, BEd (IP) Yr 5\, BMus/BEd Yr 5. \nClasses resume for full-year (both-term) courses. \nThis is also the tuition deadline. Winter tuition is payable in full.
URL:https://events.brandonu.ca/event/first-day-of-classes-most-programs/
LOCATION:Brandon University\, 270 18th Street\, Brandon\, MB\, Canada
CATEGORIES:Brandon University,Important Dates
END:VEVENT
END:VCALENDAR