BEGIN:VCALENDAR
VERSION:2.0
PRODID:-//Events - ECPv6.15.17.1//NONSGML v1.0//EN
CALSCALE:GREGORIAN
METHOD:PUBLISH
X-ORIGINAL-URL:https://events.brandonu.ca
X-WR-CALDESC:Events for Events
REFRESH-INTERVAL;VALUE=DURATION:PT1H
X-Robots-Tag:noindex
X-PUBLISHED-TTL:PT1H
BEGIN:VTIMEZONE
TZID:America/Winnipeg
BEGIN:DAYLIGHT
TZOFFSETFROM:-0600
TZOFFSETTO:-0500
TZNAME:CDT
DTSTART:20240310T080000
END:DAYLIGHT
BEGIN:STANDARD
TZOFFSETFROM:-0500
TZOFFSETTO:-0600
TZNAME:CST
DTSTART:20241103T070000
END:STANDARD
BEGIN:DAYLIGHT
TZOFFSETFROM:-0600
TZOFFSETTO:-0500
TZNAME:CDT
DTSTART:20250309T080000
END:DAYLIGHT
BEGIN:STANDARD
TZOFFSETFROM:-0500
TZOFFSETTO:-0600
TZNAME:CST
DTSTART:20251102T070000
END:STANDARD
BEGIN:DAYLIGHT
TZOFFSETFROM:-0600
TZOFFSETTO:-0500
TZNAME:CDT
DTSTART:20260308T080000
END:DAYLIGHT
BEGIN:STANDARD
TZOFFSETFROM:-0500
TZOFFSETTO:-0600
TZNAME:CST
DTSTART:20261101T070000
END:STANDARD
END:VTIMEZONE
BEGIN:VEVENT
DTSTART;TZID=America/Winnipeg:20250111T170000
DTEND;TZID=America/Winnipeg:20250111T210000
DTSTAMP:20260420T135017
CREATED:20240704T144205Z
LAST-MODIFIED:20240704T144205Z
UID:10000166-1736614800-1736629200@events.brandonu.ca
SUMMARY:Bobcats Basketball
DESCRIPTION:BU Men’s Basketball vs Manitoba\nGame start: January 11\, 2025 7:00 pm\nGame details \n\n \n\nBU Women’s Basketball vs Manitoba\nGame start: January 11\, 2025 5:00 pm\nGame details
URL:https://events.brandonu.ca/event/bobcats-basketball-2025-01-11/
LOCATION:Healthy Living Centre\, 2010 Louise Avenue\, Brandon\, MB\, R7B 0L4\, Canada
CATEGORIES:Bobcats,Brandon University
GEO:49.843586;-99.964781
X-APPLE-STRUCTURED-LOCATION;VALUE=URI;X-ADDRESS=Healthy Living Centre 2010 Louise Avenue Brandon MB R7B 0L4 Canada;X-APPLE-RADIUS=500;X-TITLE=2010 Louise Avenue:geo:-99.964781,49.843586
END:VEVENT
BEGIN:VEVENT
DTSTART;TZID=America/Winnipeg:20250111T170000
DTEND;TZID=America/Winnipeg:20250111T230000
DTSTAMP:20260420T135017
CREATED:20250109T223950Z
LAST-MODIFIED:20250109T223950Z
UID:10000319-1736614800-1736636400@events.brandonu.ca
SUMMARY:Nuit Blanche 2025: "Curious Dialogues"
DESCRIPTION:Wheat City Nuit Blanche is taking over the AGSM again in 2025 with Curious Dialogues: Conversations with Space\, Time\, and Beings. \nVisit the AGSM between 5:00 – 10:00pm on Saturday\, January 11\, 2025 to explore installations\, artworks\, music and performances featuring artists and musicians from around the prairie region. This is a free all-ages event. \nNuit Blanche (French for “White Night”) is a one-night festival of art that happens in over 120 cities around the world. Imagine an old department store where a new artistic experience lurked behind every door and down every hallway. That’s Nuit Blanche! It is different from other art festivals because it’s about art and audience engaging\, interacting\, and responding to each other.
URL:https://events.brandonu.ca/event/nuit-blanche-2025-curious-dialogues/
LOCATION:Art Gallery of Southwestern Manitoba (AGSM)\, Unit 2 — 710 Rosser Avenue\, Brandon\, Manitoba\, R7A 0K9\, Canada
CATEGORIES:Around Campus,Brandon University
ATTACH;FMTTYPE=:
GEO:49.8482957;-99.9477916
X-APPLE-STRUCTURED-LOCATION;VALUE=URI;X-ADDRESS=Art Gallery of Southwestern Manitoba (AGSM) Unit 2 — 710 Rosser Avenue Brandon Manitoba R7A 0K9 Canada;X-APPLE-RADIUS=500;X-TITLE=Unit 2 — 710 Rosser Avenue:geo:-99.9477916,49.8482957
END:VEVENT
BEGIN:VEVENT
DTSTART;TZID=America/Winnipeg:20250111T190000
DTEND;TZID=America/Winnipeg:20250111T210000
DTSTAMP:20260420T135017
CREATED:20240813T192136Z
LAST-MODIFIED:20240813T192136Z
UID:10000198-1736622000-1736629200@events.brandonu.ca
SUMMARY:Bobcats Basketball
DESCRIPTION:BU Men&apos;s Basketball vs Manitoba\nGame start: January 11\, 2025 7:00 pmGame details
URL:https://events.brandonu.ca/event/bobcats-basketball-2025-01-11-2/
LOCATION:Healthy Living Centre\, 2010 Louise Avenue\, Brandon\, MB\, R7B 0L4\, Canada
CATEGORIES:Bobcats
GEO:49.843586;-99.964781
X-APPLE-STRUCTURED-LOCATION;VALUE=URI;X-ADDRESS=Healthy Living Centre 2010 Louise Avenue Brandon MB R7B 0L4 Canada;X-APPLE-RADIUS=500;X-TITLE=2010 Louise Avenue:geo:-99.964781,49.843586
END:VEVENT
END:VCALENDAR