BEGIN:VCALENDAR
VERSION:2.0
PRODID:-//Events - ECPv6.15.17.1//NONSGML v1.0//EN
CALSCALE:GREGORIAN
METHOD:PUBLISH
X-ORIGINAL-URL:https://events.brandonu.ca
X-WR-CALDESC:Events for Events
REFRESH-INTERVAL;VALUE=DURATION:PT1H
X-Robots-Tag:noindex
X-PUBLISHED-TTL:PT1H
BEGIN:VTIMEZONE
TZID:America/Winnipeg
BEGIN:DAYLIGHT
TZOFFSETFROM:-0600
TZOFFSETTO:-0500
TZNAME:CDT
DTSTART:20240310T080000
END:DAYLIGHT
BEGIN:STANDARD
TZOFFSETFROM:-0500
TZOFFSETTO:-0600
TZNAME:CST
DTSTART:20241103T070000
END:STANDARD
BEGIN:DAYLIGHT
TZOFFSETFROM:-0600
TZOFFSETTO:-0500
TZNAME:CDT
DTSTART:20250309T080000
END:DAYLIGHT
BEGIN:STANDARD
TZOFFSETFROM:-0500
TZOFFSETTO:-0600
TZNAME:CST
DTSTART:20251102T070000
END:STANDARD
BEGIN:DAYLIGHT
TZOFFSETFROM:-0600
TZOFFSETTO:-0500
TZNAME:CDT
DTSTART:20260308T080000
END:DAYLIGHT
BEGIN:STANDARD
TZOFFSETFROM:-0500
TZOFFSETTO:-0600
TZNAME:CST
DTSTART:20261101T070000
END:STANDARD
END:VTIMEZONE
BEGIN:VEVENT
DTSTART;TZID=America/Winnipeg:20250131T180000
DTEND;TZID=America/Winnipeg:20250131T214500
DTSTAMP:20260420T064417
CREATED:20240628T135846Z
LAST-MODIFIED:20240628T135846Z
UID:10000148-1738346400-1738359900@events.brandonu.ca
SUMMARY:Bobcats Volleyball
DESCRIPTION:BU Men’s Volleyball vs Calgary\nGame start: January 31\, 2025 6:00 pm\nGame details \n\n \n\nBU Women’s Volleyball vs Calgary\nGame start: January 31\, 2025 7:45 pm\nGame details
URL:https://events.brandonu.ca/event/bobcats-volleyball-2025-01-31/
LOCATION:Healthy Living Centre\, 2010 Louise Avenue\, Brandon\, MB\, R7B 0L4\, Canada
CATEGORIES:Bobcats,Brandon University
GEO:49.843586;-99.964781
X-APPLE-STRUCTURED-LOCATION;VALUE=URI;X-ADDRESS=Healthy Living Centre 2010 Louise Avenue Brandon MB R7B 0L4 Canada;X-APPLE-RADIUS=500;X-TITLE=2010 Louise Avenue:geo:-99.964781,49.843586
END:VEVENT
BEGIN:VEVENT
DTSTART;TZID=America/Winnipeg:20250131T193000
DTEND;TZID=America/Winnipeg:20250131T193000
DTSTAMP:20260420T064417
CREATED:20250130T145821Z
LAST-MODIFIED:20250130T145821Z
UID:10000333-1738351800-1738351800@events.brandonu.ca
SUMMARY:BU Big Band Dance
DESCRIPTION:A night of jazz\, pop and dance featuring our BU Big Band and Eklektikos! \nRaffle and BUSMEA Thrift Pop-Up also! \nLOCATION: Bailey’s/Mingling Area \nDOORS OPEN: 7:30 p.m. \nMUSIC @ 8:00 p.m. \nTICKETS: $5 \nTickets available for purchase at the door.
URL:https://events.brandonu.ca/event/bu-big-band-dance/
LOCATION:MB
CATEGORIES:Brandon University,School of Music
END:VEVENT
END:VCALENDAR