BEGIN:VCALENDAR
VERSION:2.0
PRODID:-//Events - ECPv6.15.17.1//NONSGML v1.0//EN
CALSCALE:GREGORIAN
METHOD:PUBLISH
X-WR-CALNAME:Events
X-ORIGINAL-URL:https://events.brandonu.ca
X-WR-CALDESC:Events for Events
REFRESH-INTERVAL;VALUE=DURATION:PT1H
X-Robots-Tag:noindex
X-PUBLISHED-TTL:PT1H
BEGIN:VTIMEZONE
TZID:America/Toronto
BEGIN:DAYLIGHT
TZOFFSETFROM:-0500
TZOFFSETTO:-0400
TZNAME:EDT
DTSTART:20240310T070000
END:DAYLIGHT
BEGIN:STANDARD
TZOFFSETFROM:-0400
TZOFFSETTO:-0500
TZNAME:EST
DTSTART:20241103T060000
END:STANDARD
BEGIN:DAYLIGHT
TZOFFSETFROM:-0500
TZOFFSETTO:-0400
TZNAME:EDT
DTSTART:20250309T070000
END:DAYLIGHT
BEGIN:STANDARD
TZOFFSETFROM:-0400
TZOFFSETTO:-0500
TZNAME:EST
DTSTART:20251102T060000
END:STANDARD
BEGIN:DAYLIGHT
TZOFFSETFROM:-0500
TZOFFSETTO:-0400
TZNAME:EDT
DTSTART:20260308T070000
END:DAYLIGHT
BEGIN:STANDARD
TZOFFSETFROM:-0400
TZOFFSETTO:-0500
TZNAME:EST
DTSTART:20261101T060000
END:STANDARD
END:VTIMEZONE
BEGIN:VEVENT
DTSTART;TZID=America/Toronto:20250202T140000
DTEND;TZID=America/Toronto:20250202T160000
DTSTAMP:20260420T084735
CREATED:20250123T203547Z
LAST-MODIFIED:20250123T203547Z
UID:10000330-1738504800-1738512000@events.brandonu.ca
SUMMARY:Ottawa Alumni & Friends Reception
DESCRIPTION:Ottawa Alumni & Friends Reception \nSunday\, February 2\, 2025 \nLord Elgin Hotel – Mackenzie Room\n100 Elgin Street\, Ottawa\, ON \n2:00 p.m. – 4:00 p.m.\nHors d’oeuvres and refreshments (cash bar) \nRSVP to 1.877.282.4483 or alumni@brandonu.ca\nby Monday\, January 27\, 2025
URL:https://events.brandonu.ca/event/ottawa-alumni-friends-reception/
LOCATION:MB
CATEGORIES:Alumni,Brandon University
END:VEVENT
END:VCALENDAR