BEGIN:VCALENDAR
VERSION:2.0
PRODID:-//Events - ECPv6.15.17.1//NONSGML v1.0//EN
CALSCALE:GREGORIAN
METHOD:PUBLISH
X-WR-CALNAME:Events
X-ORIGINAL-URL:https://events.brandonu.ca
X-WR-CALDESC:Events for Events
REFRESH-INTERVAL;VALUE=DURATION:PT1H
X-Robots-Tag:noindex
X-PUBLISHED-TTL:PT1H
BEGIN:VTIMEZONE
TZID:America/Winnipeg
BEGIN:DAYLIGHT
TZOFFSETFROM:-0600
TZOFFSETTO:-0500
TZNAME:CDT
DTSTART:20240310T080000
END:DAYLIGHT
BEGIN:STANDARD
TZOFFSETFROM:-0500
TZOFFSETTO:-0600
TZNAME:CST
DTSTART:20241103T070000
END:STANDARD
BEGIN:DAYLIGHT
TZOFFSETFROM:-0600
TZOFFSETTO:-0500
TZNAME:CDT
DTSTART:20250309T080000
END:DAYLIGHT
BEGIN:STANDARD
TZOFFSETFROM:-0500
TZOFFSETTO:-0600
TZNAME:CST
DTSTART:20251102T070000
END:STANDARD
BEGIN:DAYLIGHT
TZOFFSETFROM:-0600
TZOFFSETTO:-0500
TZNAME:CDT
DTSTART:20260308T080000
END:DAYLIGHT
BEGIN:STANDARD
TZOFFSETFROM:-0500
TZOFFSETTO:-0600
TZNAME:CST
DTSTART:20261101T070000
END:STANDARD
END:VTIMEZONE
BEGIN:VEVENT
DTSTART;TZID=America/Winnipeg:20250214T080000
DTEND;TZID=America/Winnipeg:20250214T153000
DTSTAMP:20260420T084736
CREATED:20250213T174814Z
LAST-MODIFIED:20250213T174814Z
UID:10000338-1739520000-1739547000@events.brandonu.ca
SUMMARY:BYTE 2025 — Build Your Own Teaching Experience conference
DESCRIPTION:The longest running and largest professional development conference for teachers in Manitoba — BYTE (Build Your Own Teaching Experience) — is coming to Brandon University. Hosted in the Faculty of Education building and the Western Manitoba Centennial Auditorium\, BYTE will welcome about 200 attendees\, including many students from the BU Faculty of Education. \nThe daylong ticketed conference\, held on Valentine’s Day\, Friday\, Feb. 14\, features the appropriate theme of I Love To Read: Embracing Literacy In A Digital Era. \nThe conference provides many professional development sessions for teachers and pre-service teachers\, and welcomes as a keynote speaker the author and creator of “Ditch that Textbook\,” Matt Miller. \nThis year the BU Education Career Fair is running simultaneously in the basement of the WMCA\, welcoming representatives from more than 32 schools. \nFor more information\, visit the conference website. \n 
URL:https://events.brandonu.ca/event/byte-2025-build-your-own-teaching-experience-conference/
LOCATION:Western Manitoba Centennial Auditorium\, 205 20th Street\, Brandon\, MB\, R7B 1L6\, Canada
CATEGORIES:Brandon University,Faculty of Education
GEO:49.84639593;-99.9642241
X-APPLE-STRUCTURED-LOCATION;VALUE=URI;X-ADDRESS=Western Manitoba Centennial Auditorium 205 20th Street Brandon MB R7B 1L6 Canada;X-APPLE-RADIUS=500;X-TITLE=205 20th Street:geo:-99.9642241,49.84639593
END:VEVENT
BEGIN:VEVENT
DTSTART;TZID=America/Winnipeg:20250214T180000
DTEND;TZID=America/Winnipeg:20250214T220000
DTSTAMP:20260420T084736
CREATED:20240704T144201Z
LAST-MODIFIED:20240704T144201Z
UID:10000160-1739556000-1739570400@events.brandonu.ca
SUMMARY:Bobcats Basketball
DESCRIPTION:BU Women&apos;s Basketball vs Saskatchewan\nGame start: February 14\, 2025 6:00 pmGame details \n\n \n\n BU Men&apos;s Basketball vs Saskatchewan\nGame start: February 14\, 2025 8:00 pmGame details
URL:https://events.brandonu.ca/event/bobcats-basketball-2025-02-14/
LOCATION:Healthy Living Centre\, 2010 Louise Avenue\, Brandon\, MB\, R7B 0L4\, Canada
CATEGORIES:Bobcats
GEO:49.843586;-99.964781
X-APPLE-STRUCTURED-LOCATION;VALUE=URI;X-ADDRESS=Healthy Living Centre 2010 Louise Avenue Brandon MB R7B 0L4 Canada;X-APPLE-RADIUS=500;X-TITLE=2010 Louise Avenue:geo:-99.964781,49.843586
END:VEVENT
BEGIN:VEVENT
DTSTART;TZID=America/Winnipeg:20250214T190000
DTEND;TZID=America/Winnipeg:20250214T190000
DTSTAMP:20260420T084736
CREATED:20241125T170953Z
LAST-MODIFIED:20241125T170953Z
UID:10000306-1739559600-1739559600@events.brandonu.ca
SUMMARY:Rocio Luna Perez\, violin
DESCRIPTION:Graduate Student Recital \nwith Daniel Tselyakov\, piano \nAll are welcome! No Admission charge.
URL:https://events.brandonu.ca/event/rocio-luna-perez-violin/
LOCATION:Brandon\, MB\, Canada
CATEGORIES:School of Music,Student Recital
END:VEVENT
BEGIN:VEVENT
DTSTART;TZID=America/Winnipeg:20250214T200000
DTEND;TZID=America/Winnipeg:20250214T220000
DTSTAMP:20260420T084736
CREATED:20240813T192137Z
LAST-MODIFIED:20240813T192137Z
UID:10000201-1739563200-1739570400@events.brandonu.ca
SUMMARY:Bobcats Basketball
DESCRIPTION:BU Men&apos;s Basketball vs Saskatchewan\nGame start: February 14\, 2025 8:00 pmGame details
URL:https://events.brandonu.ca/event/bobcats-basketball-2025-02-14-2/
LOCATION:Healthy Living Centre\, 2010 Louise Avenue\, Brandon\, MB\, R7B 0L4\, Canada
CATEGORIES:Bobcats
GEO:49.843586;-99.964781
X-APPLE-STRUCTURED-LOCATION;VALUE=URI;X-ADDRESS=Healthy Living Centre 2010 Louise Avenue Brandon MB R7B 0L4 Canada;X-APPLE-RADIUS=500;X-TITLE=2010 Louise Avenue:geo:-99.964781,49.843586
END:VEVENT
END:VCALENDAR