BEGIN:VCALENDAR
VERSION:2.0
PRODID:-//Events - ECPv6.15.17.1//NONSGML v1.0//EN
CALSCALE:GREGORIAN
METHOD:PUBLISH
X-WR-CALNAME:Events
X-ORIGINAL-URL:https://events.brandonu.ca
X-WR-CALDESC:Events for Events
REFRESH-INTERVAL;VALUE=DURATION:PT1H
X-Robots-Tag:noindex
X-PUBLISHED-TTL:PT1H
BEGIN:VTIMEZONE
TZID:America/Winnipeg
BEGIN:DAYLIGHT
TZOFFSETFROM:-0600
TZOFFSETTO:-0500
TZNAME:CDT
DTSTART:20240310T080000
END:DAYLIGHT
BEGIN:STANDARD
TZOFFSETFROM:-0500
TZOFFSETTO:-0600
TZNAME:CST
DTSTART:20241103T070000
END:STANDARD
BEGIN:DAYLIGHT
TZOFFSETFROM:-0600
TZOFFSETTO:-0500
TZNAME:CDT
DTSTART:20250309T080000
END:DAYLIGHT
BEGIN:STANDARD
TZOFFSETFROM:-0500
TZOFFSETTO:-0600
TZNAME:CST
DTSTART:20251102T070000
END:STANDARD
BEGIN:DAYLIGHT
TZOFFSETFROM:-0600
TZOFFSETTO:-0500
TZNAME:CDT
DTSTART:20260308T080000
END:DAYLIGHT
BEGIN:STANDARD
TZOFFSETFROM:-0500
TZOFFSETTO:-0600
TZNAME:CST
DTSTART:20261101T070000
END:STANDARD
END:VTIMEZONE
BEGIN:VEVENT
DTSTART;TZID=America/Winnipeg:20250215T110000
DTEND;TZID=America/Winnipeg:20250215T181500
DTSTAMP:20260420T064255
CREATED:20250115T122702Z
LAST-MODIFIED:20250115T122702Z
UID:10000320-1739617200-1739643300@events.brandonu.ca
SUMMARY:Bobcats Soccer
DESCRIPTION:BU Men&apos;s Soccer vs Canadian Mennonite U\nGame start: February 15\, 2025 4:15 pmGame details \n\n \n\n BU Women&apos;s Soccer vs Canadian Mennonite U\nGame start: February 15\, 2025 4:15 pmGame details \n\n \n\n BU Men&apos;s Soccer vs St. Boniface\nGame start: February 15\, 2025 12:45 pmGame details \n\n \n\n BU Women&apos;s Soccer vs St. Boniface\nGame start: February 15\, 2025 11:00 amGame details
URL:https://events.brandonu.ca/event/bobcats-soccer-2025-02-15/
LOCATION:Brandon University\, 270 18th Street\, Brandon\, MB\, Canada
CATEGORIES:Bobcats
END:VEVENT
BEGIN:VEVENT
DTSTART;TZID=America/Winnipeg:20250215T170000
DTEND;TZID=America/Winnipeg:20250215T210000
DTSTAMP:20260420T064255
CREATED:20240704T144202Z
LAST-MODIFIED:20240704T144202Z
UID:10000162-1739638800-1739653200@events.brandonu.ca
SUMMARY:Bobcats Basketball
DESCRIPTION:BU Men&apos;s Basketball vs Saskatchewan\nGame start: February 15\, 2025 7:00 pmGame details \n\n \n\n BU Women&apos;s Basketball vs Saskatchewan\nGame start: February 15\, 2025 5:00 pmGame details
URL:https://events.brandonu.ca/event/bobcats-basketball-2025-02-15/
LOCATION:Healthy Living Centre\, 2010 Louise Avenue\, Brandon\, MB\, R7B 0L4\, Canada
CATEGORIES:Bobcats
GEO:49.843586;-99.964781
X-APPLE-STRUCTURED-LOCATION;VALUE=URI;X-ADDRESS=Healthy Living Centre 2010 Louise Avenue Brandon MB R7B 0L4 Canada;X-APPLE-RADIUS=500;X-TITLE=2010 Louise Avenue:geo:-99.964781,49.843586
END:VEVENT
BEGIN:VEVENT
DTSTART;TZID=America/Winnipeg:20250215T190000
DTEND;TZID=America/Winnipeg:20250215T210000
DTSTAMP:20260420T064255
CREATED:20240813T192137Z
LAST-MODIFIED:20240813T192137Z
UID:10000200-1739646000-1739653200@events.brandonu.ca
SUMMARY:Bobcats Basketball
DESCRIPTION:BU Men&apos;s Basketball vs Saskatchewan\nGame start: February 15\, 2025 7:00 pmGame details
URL:https://events.brandonu.ca/event/bobcats-basketball-2025-02-15-2/
LOCATION:Healthy Living Centre\, 2010 Louise Avenue\, Brandon\, MB\, R7B 0L4\, Canada
CATEGORIES:Bobcats
GEO:49.843586;-99.964781
X-APPLE-STRUCTURED-LOCATION;VALUE=URI;X-ADDRESS=Healthy Living Centre 2010 Louise Avenue Brandon MB R7B 0L4 Canada;X-APPLE-RADIUS=500;X-TITLE=2010 Louise Avenue:geo:-99.964781,49.843586
END:VEVENT
BEGIN:VEVENT
DTSTART;TZID=America/Winnipeg:20250215T193000
DTEND;TZID=America/Winnipeg:20250215T193000
DTSTAMP:20260420T064255
CREATED:20250122T181358Z
LAST-MODIFIED:20250122T181358Z
UID:10000328-1739647800-1739647800@events.brandonu.ca
SUMMARY:Jeremy Littlefield\, jazz piano
DESCRIPTION:STUDENT RECITAL \nAssisted by Nic Bray\, saxophone; Kendra Martinussen\, saxophone; Zianna De Leon\, trumpet; Kurtis Johnson\, trombone; Emily Penney\, voice; Akash Ramgotra\, bass; Josh Geddert\, drums; Tim Franklin\, drums \nNo Admission Charge. All are welcome!
URL:https://events.brandonu.ca/event/jeremy-littlefield-jazz-piano/
LOCATION:Brandon\, MB\, Canada
CATEGORIES:School of Music,Student Recital
END:VEVENT
END:VCALENDAR