BEGIN:VCALENDAR
VERSION:2.0
PRODID:-//Events - ECPv6.15.17.1//NONSGML v1.0//EN
CALSCALE:GREGORIAN
METHOD:PUBLISH
X-WR-CALNAME:Events
X-ORIGINAL-URL:https://events.brandonu.ca
X-WR-CALDESC:Events for Events
REFRESH-INTERVAL;VALUE=DURATION:PT1H
X-Robots-Tag:noindex
X-PUBLISHED-TTL:PT1H
BEGIN:VTIMEZONE
TZID:America/Winnipeg
BEGIN:DAYLIGHT
TZOFFSETFROM:-0600
TZOFFSETTO:-0500
TZNAME:CDT
DTSTART:20240310T080000
END:DAYLIGHT
BEGIN:STANDARD
TZOFFSETFROM:-0500
TZOFFSETTO:-0600
TZNAME:CST
DTSTART:20241103T070000
END:STANDARD
BEGIN:DAYLIGHT
TZOFFSETFROM:-0600
TZOFFSETTO:-0500
TZNAME:CDT
DTSTART:20250309T080000
END:DAYLIGHT
BEGIN:STANDARD
TZOFFSETFROM:-0500
TZOFFSETTO:-0600
TZNAME:CST
DTSTART:20251102T070000
END:STANDARD
BEGIN:DAYLIGHT
TZOFFSETFROM:-0600
TZOFFSETTO:-0500
TZNAME:CDT
DTSTART:20260308T080000
END:DAYLIGHT
BEGIN:STANDARD
TZOFFSETFROM:-0500
TZOFFSETTO:-0600
TZNAME:CST
DTSTART:20261101T070000
END:STANDARD
END:VTIMEZONE
BEGIN:VEVENT
DTSTART;VALUE=DATE:20250301
DTEND;VALUE=DATE:20250303
DTSTAMP:20260420T051138
CREATED:20241121T190442Z
LAST-MODIFIED:20241121T190442Z
UID:10000300-1740787200-1740959999@events.brandonu.ca
SUMMARY:Clarinetfest 2025
DESCRIPTION:Please join us for the 15th anniversary of the Brandon University Clarinet Festival on March 1st and 2nd\, 2025. We are celebrating this anniversary by featuring an incredible line-up of guest artists\, including: Rachel Yoder\, Wonkak Kim\, and Michael Dassios. The festival features BU faculty Callie Siverson and former BU faculty Kyung Kim and Victoria Sparks. We welcome back BU alum and guest conductor Justine Burke who will lead the festival clarinet choir. The BU Clarinet Choir and festival host Cathy Wood will also be performing. \nGreat PD opportunity for musicians of all ages! The festival events include: \n\nWorkshops\, Dassios Mouthpiece booth\, and concerts\nFestival Clarinet Choir for all participants (all levels)\nPrize draws!\n\nAll events take place at Brandon University School of Music. \nRegistration Link: ($25 for students/seniors; $40 for adults): https://bit.ly/42Ck7uW \nRegister by February 20th for a $5 discount ($20/$35) \nInformation is available in the Google Folder: https://bit.ly/3E8pmZs
URL:https://events.brandonu.ca/event/clarinetfest-2025/
LOCATION:Brandon\, MB\, Canada
CATEGORIES:Brandon University,School of Music
END:VEVENT
BEGIN:VEVENT
DTSTART;TZID=America/Winnipeg:20250302T121500
DTEND;TZID=America/Winnipeg:20250302T130000
DTSTAMP:20260420T051138
CREATED:20250220T202048Z
LAST-MODIFIED:20250220T202048Z
UID:10000351-1740917700-1740920400@events.brandonu.ca
SUMMARY:Clarinet Festival 2025: Guest Artist Concert
DESCRIPTION:Featuring Callie Siverson\, horn; Colin Mehmel\, clarinet; and Danielle Guina\, piano \nNo admission charge. All are welcome! \nFor more information about the Clarinet Festival\, please visit this link: https://events.brandonu.ca/event/clarinetfest-2025/
URL:https://events.brandonu.ca/event/clarinet-festival-2025-guest-artist-concert/
LOCATION:Brandon\, MB\, Canada
CATEGORIES:School of Music
END:VEVENT
BEGIN:VEVENT
DTSTART;TZID=America/Winnipeg:20250302T140000
DTEND;TZID=America/Winnipeg:20250302T150000
DTSTAMP:20260420T051138
CREATED:20250220T202233Z
LAST-MODIFIED:20250220T202233Z
UID:10000352-1740924000-1740927600@events.brandonu.ca
SUMMARY:Clarinet Festival 2025: Guest Artist Concert
DESCRIPTION:Featuring Michael Dassios\, clarinet and Rachel Yoder\, clarinet\, bass clarinet and electronics. \nNo admission charge. All are welcome! \nFor more information on Clarinet Festival\, please visit this link: https://events.brandonu.ca/event/clarinetfest-2025/
URL:https://events.brandonu.ca/event/clarinet-festival-2025-guest-artist-concert-2/
LOCATION:Brandon\, MB\, Canada
CATEGORIES:School of Music
END:VEVENT
BEGIN:VEVENT
DTSTART;TZID=America/Winnipeg:20250302T150000
DTEND;TZID=America/Winnipeg:20250302T173000
DTSTAMP:20260420T051138
CREATED:20250220T202414Z
LAST-MODIFIED:20250220T202414Z
UID:10000353-1740927600-1740936600@events.brandonu.ca
SUMMARY:Clarinet Festival 2025: Final Concert
DESCRIPTION:Featuring BU Clarinet Choir and Festival Clarinet Choir \nFor more information on the Clarinet Festival\, please visit this link: https://events.brandonu.ca/event/clarinetfest-2025/ \nNo admission charge. All are welcome!
URL:https://events.brandonu.ca/event/clarinet-festival-2025-final-concert/
LOCATION:MB
CATEGORIES:School of Music
END:VEVENT
END:VCALENDAR