BEGIN:VCALENDAR
VERSION:2.0
PRODID:-//Events - ECPv6.15.17.1//NONSGML v1.0//EN
CALSCALE:GREGORIAN
METHOD:PUBLISH
X-WR-CALNAME:Events
X-ORIGINAL-URL:https://events.brandonu.ca
X-WR-CALDESC:Events for Events
REFRESH-INTERVAL;VALUE=DURATION:PT1H
X-Robots-Tag:noindex
X-PUBLISHED-TTL:PT1H
BEGIN:VTIMEZONE
TZID:America/Winnipeg
BEGIN:DAYLIGHT
TZOFFSETFROM:-0600
TZOFFSETTO:-0500
TZNAME:CDT
DTSTART:20240310T080000
END:DAYLIGHT
BEGIN:STANDARD
TZOFFSETFROM:-0500
TZOFFSETTO:-0600
TZNAME:CST
DTSTART:20241103T070000
END:STANDARD
BEGIN:DAYLIGHT
TZOFFSETFROM:-0600
TZOFFSETTO:-0500
TZNAME:CDT
DTSTART:20250309T080000
END:DAYLIGHT
BEGIN:STANDARD
TZOFFSETFROM:-0500
TZOFFSETTO:-0600
TZNAME:CST
DTSTART:20251102T070000
END:STANDARD
BEGIN:DAYLIGHT
TZOFFSETFROM:-0600
TZOFFSETTO:-0500
TZNAME:CDT
DTSTART:20260308T080000
END:DAYLIGHT
BEGIN:STANDARD
TZOFFSETFROM:-0500
TZOFFSETTO:-0600
TZNAME:CST
DTSTART:20261101T070000
END:STANDARD
END:VTIMEZONE
BEGIN:VEVENT
DTSTART;VALUE=DATE:20250313
DTEND;VALUE=DATE:20250316
DTSTAMP:20260420T051140
CREATED:20241121T191019Z
LAST-MODIFIED:20241121T191019Z
UID:10000301-1741824000-1742083199@events.brandonu.ca
SUMMARY:Brandon University Jazz Festival 2025
DESCRIPTION:More details to follow. \nhttps://bujazzfest.ca/
URL:https://events.brandonu.ca/event/https-bujazzfest-ca-2/
LOCATION:MB
CATEGORIES:Brandon Jazz Festival,Brandon University,School of Music
ATTACH;FMTTYPE=:
END:VEVENT
BEGIN:VEVENT
DTSTART;TZID=America/Winnipeg:20250314T154000
DTEND;TZID=America/Winnipeg:20250314T170000
DTSTAMP:20260420T051140
CREATED:20250304T160402Z
LAST-MODIFIED:20250304T160402Z
UID:10000373-1741966800-1741971600@events.brandonu.ca
SUMMARY:Faculty of Arts Speaker Series: Dr. Stacey Koosel
DESCRIPTION:Don’t miss the third event of our winter 2025 Faculty of Arts Speaker Series. \nJoin us to hear Dr. Stacey Koosel\, from IshKaabatens Waasa Gaa Inaabateg Department of Visual Art\, present “Indigenous Contemporary Art: Decolonizing Curatorial Practices.”
URL:https://events.brandonu.ca/event/faculty-of-arts-speaker-series-dr-stacey-koosel/
LOCATION:Clark Hall\, Room 104\, 270-18th Street\, Brandon\, MB\, R7A 6A9\, Canada
CATEGORIES:Brandon University,Faculty of Arts
ORGANIZER;CN="Faculty of Arts":MAILTO:arts@brandonu.ca
GEO:49.84553458;-99.96289372
X-APPLE-STRUCTURED-LOCATION;VALUE=URI;X-ADDRESS=Clark Hall Room 104 270-18th Street Brandon MB R7A 6A9 Canada;X-APPLE-RADIUS=500;X-TITLE=270-18th Street:geo:-99.96289372,49.84553458
END:VEVENT
END:VCALENDAR