BEGIN:VCALENDAR
VERSION:2.0
PRODID:-//Events - ECPv6.15.17.1//NONSGML v1.0//EN
CALSCALE:GREGORIAN
METHOD:PUBLISH
X-WR-CALNAME:Events
X-ORIGINAL-URL:https://events.brandonu.ca
X-WR-CALDESC:Events for Events
REFRESH-INTERVAL;VALUE=DURATION:PT1H
X-Robots-Tag:noindex
X-PUBLISHED-TTL:PT1H
BEGIN:VTIMEZONE
TZID:America/Winnipeg
BEGIN:DAYLIGHT
TZOFFSETFROM:-0600
TZOFFSETTO:-0500
TZNAME:CDT
DTSTART:20230312T080000
END:DAYLIGHT
BEGIN:STANDARD
TZOFFSETFROM:-0500
TZOFFSETTO:-0600
TZNAME:CST
DTSTART:20231105T070000
END:STANDARD
BEGIN:DAYLIGHT
TZOFFSETFROM:-0600
TZOFFSETTO:-0500
TZNAME:CDT
DTSTART:20240310T080000
END:DAYLIGHT
BEGIN:STANDARD
TZOFFSETFROM:-0500
TZOFFSETTO:-0600
TZNAME:CST
DTSTART:20241103T070000
END:STANDARD
BEGIN:DAYLIGHT
TZOFFSETFROM:-0600
TZOFFSETTO:-0500
TZNAME:CDT
DTSTART:20250309T080000
END:DAYLIGHT
BEGIN:STANDARD
TZOFFSETFROM:-0500
TZOFFSETTO:-0600
TZNAME:CST
DTSTART:20251102T070000
END:STANDARD
END:VTIMEZONE
BEGIN:VEVENT
DTSTART;TZID=America/Winnipeg:20240208T173000
DTEND;TZID=America/Winnipeg:20240208T193000
DTSTAMP:20260420T185419
CREATED:20240119T211831Z
LAST-MODIFIED:20240119T211831Z
UID:10000022-1707413400-1707420600@events.brandonu.ca
SUMMARY:'Uncharitable' screening
DESCRIPTION:If you work in\, donate to or volunteer for the charitable sector\, you will want to see this movie. The movie is about how the charitable sector is operating under certain limiting mindsets that are based on thinking and structures that were put in place over 400 years ago. If we can free charities from their traditional constraints and introduce a radical new way of thinking\, we can truly change the world. \nThe film will be screened at the JRC Evans Theatre\, at Brandon University on Thursday\, Feb. 8\, from 5:30 – 7:30 p.m.  Free parking in any BU lot after 4:30 p.m. The event is free but requires an RSVP. Seating is limited to 100 people. \nTo attend\, please contact Beth at provenb2@assiniboine.net or call/text (204) 223-5708 by Feb. 6 at 4:00 p.m. \nAbout “UnCharitable”\nAfter three of the most dynamic and successful U.S. charities were shut down by conservative charity watchdogs\, destroying lives and cutting off precious resources\, many of the top influencers in the field knew something had to be done to overhaul the nonprofit sector. \nLed by Dan Pallotta\, whose record-breaking TED Talk on the subject has inspired leading philanthropists and changemakers\, this feature-length documentary directed by Stephen Gyllenhaal exposes the dark side of philanthropy and introduces a radical new way of giving. In a powerful call to action\, Uncharitable demands that charities be freed from the traditional sackcloth-and-ashes constraints\, so that they can truly change the world. \nDriven by the poignant\, personal stories of Dan Pallotta\, Steve Nardizzi\, Dorri McWhorter\, Scott Harrison\, Edward Norton\, Darren Walker and other prominent figures in philanthropy\, Uncharitable delivers an emotional journey that moves\, persuades and inspires its audience to change the way we think about giving. \nNo topic is more crucial and timely as we confront an increasingly unstable world with the growing revelation that we are all interconnected and that our fate lies in how much we are willing to invest in positive change. \nFor more information go to: https://uncharitablemovie.com/
URL:https://events.brandonu.ca/event/uncharitable-screening/
LOCATION:Evans Theatre\, McKenzie Building\, 270-18th Street\, Brandon\, MB\, R7A 6A9\, Canada
CATEGORIES:Brandon University,Evans Theatre movies
ATTACH;FMTTYPE=:
GEO:49.845327;-99.963905
X-APPLE-STRUCTURED-LOCATION;VALUE=URI;X-ADDRESS=Evans Theatre McKenzie Building 270-18th Street Brandon MB R7A 6A9 Canada;X-APPLE-RADIUS=500;X-TITLE=270-18th Street:geo:-99.963905,49.845327
END:VEVENT
END:VCALENDAR