BEGIN:VCALENDAR
VERSION:2.0
PRODID:-//Events - ECPv6.15.17.1//NONSGML v1.0//EN
CALSCALE:GREGORIAN
METHOD:PUBLISH
X-WR-CALNAME:Events
X-ORIGINAL-URL:https://events.brandonu.ca
X-WR-CALDESC:Events for Events
REFRESH-INTERVAL;VALUE=DURATION:PT1H
X-Robots-Tag:noindex
X-PUBLISHED-TTL:PT1H
BEGIN:VTIMEZONE
TZID:America/Winnipeg
BEGIN:DAYLIGHT
TZOFFSETFROM:-0600
TZOFFSETTO:-0500
TZNAME:CDT
DTSTART:20230312T080000
END:DAYLIGHT
BEGIN:STANDARD
TZOFFSETFROM:-0500
TZOFFSETTO:-0600
TZNAME:CST
DTSTART:20231105T070000
END:STANDARD
BEGIN:DAYLIGHT
TZOFFSETFROM:-0600
TZOFFSETTO:-0500
TZNAME:CDT
DTSTART:20240310T080000
END:DAYLIGHT
BEGIN:STANDARD
TZOFFSETFROM:-0500
TZOFFSETTO:-0600
TZNAME:CST
DTSTART:20241103T070000
END:STANDARD
BEGIN:DAYLIGHT
TZOFFSETFROM:-0600
TZOFFSETTO:-0500
TZNAME:CDT
DTSTART:20250309T080000
END:DAYLIGHT
BEGIN:STANDARD
TZOFFSETFROM:-0500
TZOFFSETTO:-0600
TZNAME:CST
DTSTART:20251102T070000
END:STANDARD
END:VTIMEZONE
BEGIN:VEVENT
DTSTART;TZID=America/Winnipeg:20240202T130000
DTEND;TZID=America/Winnipeg:20240202T160000
DTSTAMP:20260420T231607
CREATED:20240111T214157Z
LAST-MODIFIED:20240111T214157Z
UID:10000014-1706878800-1706889600@events.brandonu.ca
SUMMARY:Nostalgiacore Faculty Art Exhibition
DESCRIPTION:This Fine Arts faculty show features new exciting works by Professors Lisa Wood\, Kevin McKenzie\, Lin Xu and Kevin Eichi DeForest\, curated by their newest faculty member Dr. Stacey Koosel. The exhibition is open from Thursday to Saturday each week\, from 1 to 4 p.m.\, and will run until February 18. \nNostalgiacore is a contemporary art exhibition that features paintings\, ceramic sculptures\, photography\, drawings\, sound installations and immersive installations by the Professors who make up the faculty of the IshKaabatens Waasa Gaa Inaabateg Department of Visual Art at Brandon University. \nThe theme of the exhibition is a play on an aesthetic movement in popular culture that finds nostalgia and longing in everyday spaces and liminal places. The exhibition explores the concept of Nostalgia in a variety of iterations and mediums\, from personal relationships to the past\, to longings for places\, spaces\, and people that no longer exist.
URL:https://events.brandonu.ca/event/nostalgicore-opening/2024-02-02/
LOCATION:Sutherland Gallery of Art\, 2021 Victoria Avenue\, Brandon\, MB\, Canada
CATEGORIES:Brandon University,Faculty and Staff Events,Faculty of Arts
ATTACH;FMTTYPE=:
GEO:49.842485;-99.96515
X-APPLE-STRUCTURED-LOCATION;VALUE=URI;X-ADDRESS=Sutherland Gallery of Art 2021 Victoria Avenue Brandon MB Canada;X-APPLE-RADIUS=500;X-TITLE=2021 Victoria Avenue:geo:-99.96515,49.842485
END:VEVENT
BEGIN:VEVENT
DTSTART;TZID=America/Winnipeg:20240201T130000
DTEND;TZID=America/Winnipeg:20240201T160000
DTSTAMP:20260420T231607
CREATED:20240111T214157Z
LAST-MODIFIED:20240111T214157Z
UID:10000013-1706792400-1706803200@events.brandonu.ca
SUMMARY:Nostalgiacore Faculty Art Exhibition
DESCRIPTION:This Fine Arts faculty show features new exciting works by Professors Lisa Wood\, Kevin McKenzie\, Lin Xu and Kevin Eichi DeForest\, curated by their newest faculty member Dr. Stacey Koosel. The exhibition is open from Thursday to Saturday each week\, from 1 to 4 p.m.\, and will run until February 18. \nNostalgiacore is a contemporary art exhibition that features paintings\, ceramic sculptures\, photography\, drawings\, sound installations and immersive installations by the Professors who make up the faculty of the IshKaabatens Waasa Gaa Inaabateg Department of Visual Art at Brandon University. \nThe theme of the exhibition is a play on an aesthetic movement in popular culture that finds nostalgia and longing in everyday spaces and liminal places. The exhibition explores the concept of Nostalgia in a variety of iterations and mediums\, from personal relationships to the past\, to longings for places\, spaces\, and people that no longer exist.
URL:https://events.brandonu.ca/event/nostalgicore-opening/2024-02-01/
LOCATION:Sutherland Gallery of Art\, 2021 Victoria Avenue\, Brandon\, MB\, Canada
CATEGORIES:Brandon University,Faculty and Staff Events,Faculty of Arts
ATTACH;FMTTYPE=:
GEO:49.842485;-99.96515
X-APPLE-STRUCTURED-LOCATION;VALUE=URI;X-ADDRESS=Sutherland Gallery of Art 2021 Victoria Avenue Brandon MB Canada;X-APPLE-RADIUS=500;X-TITLE=2021 Victoria Avenue:geo:-99.96515,49.842485
END:VEVENT
BEGIN:VEVENT
DTSTART;TZID=America/Winnipeg:20240127T220000
DTEND;TZID=America/Winnipeg:20240128T020000
DTSTAMP:20260420T231607
CREATED:20240123T010745Z
LAST-MODIFIED:20240123T010745Z
UID:10000023-1706392800-1706407200@events.brandonu.ca
SUMMARY:Renaissance Ball
DESCRIPTION:Join us for the Renaissance World Tour themed Ball\, hosted by BUSU and the Racialized Collective. This is our special celebration in honour of Black History Month\, aiming to pay tribute to the rich heritage of Black history and acknowledge the invaluable contributions of the LGBTTQ* community. \nSpecial performance by the House of Hex. \nTheme: Silver/Chrome and Black (Participation optional) \nTickets: $15 (available at the BUSU office or Cafe do Good\, 1502 Rosser Ave) \nCategories for Public Participation: Vogue\, Runway\, Sex Siren\, Lip Synch\, Best Dressed\, Renaissance\, more information regarding the categories can be found on our Instagram (@Racialized_collective)
URL:https://events.brandonu.ca/event/renaissance-ball/
LOCATION:Bailey’s Cafe\, Knowles-Douglas Building\, 270 18th Street\, Brandon\, Manitoba\, R7A 6A9
CATEGORIES:Around Campus,Brandon University
ATTACH;FMTTYPE=:
GEO:49.844614;-99.962769
X-APPLE-STRUCTURED-LOCATION;VALUE=URI;X-ADDRESS=Bailey’s Cafe Knowles-Douglas Building 270 18th Street Brandon Manitoba R7A 6A9;X-APPLE-RADIUS=500;X-TITLE=270 18th Street:geo:-99.962769,49.844614
END:VEVENT
BEGIN:VEVENT
DTSTART;TZID=America/Winnipeg:20240127T193000
DTEND;TZID=America/Winnipeg:20240127T193000
DTSTAMP:20260420T231607
CREATED:20240119T182229Z
LAST-MODIFIED:20240119T182229Z
UID:10000021-1706383800-1706383800@events.brandonu.ca
SUMMARY:Brandon Chamber Players present Tommy Crane's Dance Music For All Occasions
DESCRIPTION:Brandon Chamber Players  \npresents  \nDance Music For All Occasions by Tommy Crane \nin an evening of genre-bending electronic folk\, curated by School of Music faculty member Marika Galea. \nTommy Crane\, drums\, percussion\, synthesizer\, electronics \nThom Gill\, guitar synthesizer\, vocals \nLeanne Zacharias\, cello \nMarika Galea\, bass \nAnil Ramgotra\, percussion \nTommy Crane is a fixture on both the Montreal and New York creative music scenes. He has performed and recorded with Aaron Parks’ Little Big\, Melissa Aldana\, Joe Chambers\, FYEAR\, Half Waif\, Joe Chambers\, La Force\, Richard Reed Parry\, Unessential Oils\, and Martha Wainwright. His debut solo effort\, We’re All Improvisers Now\, covers a broad spectrum of sonic territory. Cascading walls of ambient synthesizers prevail – and yet each cut still maintains the feeling of a solo musician exploring their inner self. Dance Music For All Occasions\, Tommy’s forthcoming sophomore album\, is titled as a nod to his father\, the late Nolan Crane. The elder Crane was also a drummer who lead a dance band in St. Louis\, Missouri in the early 1960s. Also accompanying Tommy are Thom Gill on guitar and keyboard\, Leanne Zacharias on cello and Marika Galea on bass. \nThom Gill (he/him) is a freelance music person based in Toronto for the last twenty years\, working closely with Martha Wainwright\, Sam Amidon\, KNOWER\, Owen Pallett\, Queer Songbook Orchestra\, Bernice\, Beverly Glenn Copeland\, Toronto Dance Theatre\, Fievel is Glauque and many more. He recently traveled to Japan with Sam Wilkes\, co-wrote songs and played on Chaka Khan’s last record\, and played a piece by Pauline Oliveros inside Toronto City Hall Council Chambers. Coming up this year Thom can be heard on new releases by Sam Wilkes\, Jeremy Dutcher\, and Joseph Shabason\, among others; and on Tanya Tagaq and Jean Martin’s score for Caroline Monnet’s film Bootlegger. You can also catch him on tour this year with Aline Homzy\, Jeremy Dutcher\, and Ariel Engle’s La Force. \nCellist Leanne Zacharias is an interdisciplinary artist who creates unique sound environments in both tiny and large- scale public works within museums\, art galleries\, chimneys\, stairwells\, rowboats\, canoes\, skating trails and other unlikely sites. Her work has been presented by the Canadian Museum for Human Rights\, LandMarks2017\, the International Cello Festival of Canada\, Austin’s New Music Coop\, Winnipeg Design Festival\, Iceland’s Nes Residency\, Open Ears Festival\, SappyFest (NB)\, Sound Symposium (NFLD) and FastForwardAustin. From the National Arts Centre to the Andy Warhol Museum to Yukon Arts Centre\, she performs across genres including with the Australian Art Orchestra\, the Houston Symphony Orchestra\, Manitoba Chamber Orchestra\, and songwriters John K. Samson\, the Mountain Goats and her long-time collaborator\, Christine Fellows. On faculty at Brandon University’s School of Music\, she adjudicates across Canada and has lectured at Parsons School of Design in New York\, the Winnipeg Art Gallery’s 10x20x20 series\, and Banff’s Research In Culture workshop. She co-directs Wheat City Nuit Blanche\, A Wild Studio (Canadian National Parks) and Hybrid Intensive (San Francisco). \nMarika Galea is an award-winning performer\, composer and writer from Toronto. Best known as a bassist\, her work explores the space between improvised jazz\, narrative songwriting\, and hypnotic soundscapes. She has supported artists across jazz\, pop\, rock\, indie\, hip hop\, new music and experimental genres including Terence Blanchard\, Cyrus Chestnut\, Vincent Herring\, Ralph Peterson Jr.\, Rachel Therrien\, Jason Palmer\, L’Orchestre national du jazz de Montréal\, Basia Bulat\, Tim Kingsbury (Arcade Fire)\, Aerialists\, Jake Clemons (E Street Band)\, U.S. Girls and Laura Niquay. Her collaborations have garnered nominations and wins for JUNO\, Golden Globe\, Academy\, Polaris\, Iris\, RIDM and HotDocs Awards. In 2017\, she earned a spot as one of CBC Music’s 35 best Canadian jazz artists under 35. She has taught at McGill University\, McGill Conservatory\, Berklee College of Music\, and is currently an Assistant Professor at Brandon University. She has been invited to speak at the McGill Executive Institute\, Malta Jazz Festival\, Monterey Next Generation Jazz Festival\, Prince Edward County Jazz Festival\, McGill University School of Continuing Studies and University of Manitoba. She recognizes support for her work from the Social Sciences and Humanities Research Council of Canada and the Foundation Assisting Canadian Talent on Recordings. \nTickets: \nReserve through https://brandonchamberplayers.ca/contact-us\, by calling the School of Music office at 204-727-9631 or at the door. $40 adults / $20 students. \nAdditional info: \nKinsmen Rehearsal Hall is located inside the Brandon University School of Music (Queen Elizabeth Music Building)\, with access from 19th street between Princess and Lorne. The space is wheelchair accessible through the main (South) doors to the School of Music\, and the North door to the hall. \n  \n  \n  \n 
URL:https://events.brandonu.ca/event/brandon-chamber-players-presents-tommy-cranes-dance-music-for-all-occasions/
LOCATION:Kinsmen Rehearsal Hall\, QEII Music Building\, Room 1-20\, 270-18th Street\, Brandon\, MB\, R7A 6A9\, Canada
CATEGORIES:Brandon University,School of Music
GEO:49.845352;-99.962159
X-APPLE-STRUCTURED-LOCATION;VALUE=URI;X-ADDRESS=Kinsmen Rehearsal Hall QEII Music Building Room 1-20 270-18th Street Brandon MB R7A 6A9 Canada;X-APPLE-RADIUS=500;X-TITLE=270-18th Street:geo:-99.962159,49.845352
END:VEVENT
BEGIN:VEVENT
DTSTART;TZID=America/Winnipeg:20240127T130000
DTEND;TZID=America/Winnipeg:20240127T160000
DTSTAMP:20260420T231607
CREATED:20240111T214157Z
LAST-MODIFIED:20240111T214157Z
UID:10000012-1706360400-1706371200@events.brandonu.ca
SUMMARY:Nostalgiacore Faculty Art Exhibition
DESCRIPTION:This Fine Arts faculty show features new exciting works by Professors Lisa Wood\, Kevin McKenzie\, Lin Xu and Kevin Eichi DeForest\, curated by their newest faculty member Dr. Stacey Koosel. The exhibition is open from Thursday to Saturday each week\, from 1 to 4 p.m.\, and will run until February 18. \nNostalgiacore is a contemporary art exhibition that features paintings\, ceramic sculptures\, photography\, drawings\, sound installations and immersive installations by the Professors who make up the faculty of the IshKaabatens Waasa Gaa Inaabateg Department of Visual Art at Brandon University. \nThe theme of the exhibition is a play on an aesthetic movement in popular culture that finds nostalgia and longing in everyday spaces and liminal places. The exhibition explores the concept of Nostalgia in a variety of iterations and mediums\, from personal relationships to the past\, to longings for places\, spaces\, and people that no longer exist.
URL:https://events.brandonu.ca/event/nostalgicore-opening/2024-01-27/
LOCATION:Sutherland Gallery of Art\, 2021 Victoria Avenue\, Brandon\, MB\, Canada
CATEGORIES:Brandon University,Faculty and Staff Events,Faculty of Arts
ATTACH;FMTTYPE=:
GEO:49.842485;-99.96515
X-APPLE-STRUCTURED-LOCATION;VALUE=URI;X-ADDRESS=Sutherland Gallery of Art 2021 Victoria Avenue Brandon MB Canada;X-APPLE-RADIUS=500;X-TITLE=2021 Victoria Avenue:geo:-99.96515,49.842485
END:VEVENT
BEGIN:VEVENT
DTSTART;TZID=America/Winnipeg:20240126T130000
DTEND;TZID=America/Winnipeg:20240126T160000
DTSTAMP:20260420T231607
CREATED:20240111T214157Z
LAST-MODIFIED:20240111T214157Z
UID:10000011-1706274000-1706284800@events.brandonu.ca
SUMMARY:Nostalgiacore Faculty Art Exhibition
DESCRIPTION:This Fine Arts faculty show features new exciting works by Professors Lisa Wood\, Kevin McKenzie\, Lin Xu and Kevin Eichi DeForest\, curated by their newest faculty member Dr. Stacey Koosel. The exhibition is open from Thursday to Saturday each week\, from 1 to 4 p.m.\, and will run until February 18. \nNostalgiacore is a contemporary art exhibition that features paintings\, ceramic sculptures\, photography\, drawings\, sound installations and immersive installations by the Professors who make up the faculty of the IshKaabatens Waasa Gaa Inaabateg Department of Visual Art at Brandon University. \nThe theme of the exhibition is a play on an aesthetic movement in popular culture that finds nostalgia and longing in everyday spaces and liminal places. The exhibition explores the concept of Nostalgia in a variety of iterations and mediums\, from personal relationships to the past\, to longings for places\, spaces\, and people that no longer exist.
URL:https://events.brandonu.ca/event/nostalgicore-opening/2024-01-26/
LOCATION:Sutherland Gallery of Art\, 2021 Victoria Avenue\, Brandon\, MB\, Canada
CATEGORIES:Brandon University,Faculty and Staff Events,Faculty of Arts
ATTACH;FMTTYPE=:
GEO:49.842485;-99.96515
X-APPLE-STRUCTURED-LOCATION;VALUE=URI;X-ADDRESS=Sutherland Gallery of Art 2021 Victoria Avenue Brandon MB Canada;X-APPLE-RADIUS=500;X-TITLE=2021 Victoria Avenue:geo:-99.96515,49.842485
END:VEVENT
BEGIN:VEVENT
DTSTART;TZID=America/Winnipeg:20240125T130000
DTEND;TZID=America/Winnipeg:20240125T160000
DTSTAMP:20260420T231607
CREATED:20240111T214157Z
LAST-MODIFIED:20240111T214157Z
UID:10000010-1706187600-1706198400@events.brandonu.ca
SUMMARY:Nostalgiacore Faculty Art Exhibition
DESCRIPTION:This Fine Arts faculty show features new exciting works by Professors Lisa Wood\, Kevin McKenzie\, Lin Xu and Kevin Eichi DeForest\, curated by their newest faculty member Dr. Stacey Koosel. The exhibition is open from Thursday to Saturday each week\, from 1 to 4 p.m.\, and will run until February 18. \nNostalgiacore is a contemporary art exhibition that features paintings\, ceramic sculptures\, photography\, drawings\, sound installations and immersive installations by the Professors who make up the faculty of the IshKaabatens Waasa Gaa Inaabateg Department of Visual Art at Brandon University. \nThe theme of the exhibition is a play on an aesthetic movement in popular culture that finds nostalgia and longing in everyday spaces and liminal places. The exhibition explores the concept of Nostalgia in a variety of iterations and mediums\, from personal relationships to the past\, to longings for places\, spaces\, and people that no longer exist.
URL:https://events.brandonu.ca/event/nostalgicore-opening/2024-01-25/
LOCATION:Sutherland Gallery of Art\, 2021 Victoria Avenue\, Brandon\, MB\, Canada
CATEGORIES:Brandon University,Faculty and Staff Events,Faculty of Arts
ATTACH;FMTTYPE=:
GEO:49.842485;-99.96515
X-APPLE-STRUCTURED-LOCATION;VALUE=URI;X-ADDRESS=Sutherland Gallery of Art 2021 Victoria Avenue Brandon MB Canada;X-APPLE-RADIUS=500;X-TITLE=2021 Victoria Avenue:geo:-99.96515,49.842485
END:VEVENT
BEGIN:VEVENT
DTSTART;TZID=America/Winnipeg:20240120T170000
DTEND;TZID=America/Winnipeg:20240120T210000
DTSTAMP:20260420T231607
CREATED:20240106T000919Z
LAST-MODIFIED:20240106T000919Z
UID:10000001-1705770000-1705784400@events.brandonu.ca
SUMMARY:Alumni Night at the Games
DESCRIPTION:The Alumni Association is excited to host the annual Alumni Night at the Games on Saturday Jan. 20 at the Healthy Living Centre. \nThe Bobcats will be taking on the U of S Huskies in two exciting basketball games. The women start at 5 p.m.\, and the men at 7 p.m. \nClaim your two free tickets using this FORM. \nFree pizza will be served at 6pm!
URL:https://events.brandonu.ca/event/alumni-night-at-the-games-3/
LOCATION:Healthy Living Centre\, 2010 Louise Avenue\, Brandon\, MB\, R7B 0L4\, Canada
CATEGORIES:Alumni,Brandon University
ATTACH;FMTTYPE=:
ORGANIZER;CN="Brandon University Alumni Association":MAILTO:Alumni@BrandonU.ca
GEO:49.843586;-99.964781
X-APPLE-STRUCTURED-LOCATION;VALUE=URI;X-ADDRESS=Healthy Living Centre 2010 Louise Avenue Brandon MB R7B 0L4 Canada;X-APPLE-RADIUS=500;X-TITLE=2010 Louise Avenue:geo:-99.964781,49.843586
END:VEVENT
BEGIN:VEVENT
DTSTART;TZID=America/Winnipeg:20240120T130000
DTEND;TZID=America/Winnipeg:20240120T160000
DTSTAMP:20260420T231607
CREATED:20240111T214157Z
LAST-MODIFIED:20240111T214157Z
UID:10000009-1705755600-1705766400@events.brandonu.ca
SUMMARY:Nostalgiacore Faculty Art Exhibition
DESCRIPTION:This Fine Arts faculty show features new exciting works by Professors Lisa Wood\, Kevin McKenzie\, Lin Xu and Kevin Eichi DeForest\, curated by their newest faculty member Dr. Stacey Koosel. The exhibition is open from Thursday to Saturday each week\, from 1 to 4 p.m.\, and will run until February 18. \nNostalgiacore is a contemporary art exhibition that features paintings\, ceramic sculptures\, photography\, drawings\, sound installations and immersive installations by the Professors who make up the faculty of the IshKaabatens Waasa Gaa Inaabateg Department of Visual Art at Brandon University. \nThe theme of the exhibition is a play on an aesthetic movement in popular culture that finds nostalgia and longing in everyday spaces and liminal places. The exhibition explores the concept of Nostalgia in a variety of iterations and mediums\, from personal relationships to the past\, to longings for places\, spaces\, and people that no longer exist.
URL:https://events.brandonu.ca/event/nostalgicore-opening/2024-01-20/
LOCATION:Sutherland Gallery of Art\, 2021 Victoria Avenue\, Brandon\, MB\, Canada
CATEGORIES:Brandon University,Faculty and Staff Events,Faculty of Arts
ATTACH;FMTTYPE=:
GEO:49.842485;-99.96515
X-APPLE-STRUCTURED-LOCATION;VALUE=URI;X-ADDRESS=Sutherland Gallery of Art 2021 Victoria Avenue Brandon MB Canada;X-APPLE-RADIUS=500;X-TITLE=2021 Victoria Avenue:geo:-99.96515,49.842485
END:VEVENT
BEGIN:VEVENT
DTSTART;TZID=America/Winnipeg:20240119T190000
DTEND;TZID=America/Winnipeg:20240119T190000
DTSTAMP:20260420T231607
CREATED:20240115T214723Z
LAST-MODIFIED:20240115T214723Z
UID:10000019-1705690800-1705690800@events.brandonu.ca
SUMMARY:Jazz Small Ensemble Concert
DESCRIPTION:Featuring two small ensembles under the direction of Eric Platz. \nMusic will include the old and the new\, plus original student compositions. \nNo Admission Charge. All are welcome to attend! \nVENUE: Student Lounge\, Lower Level\, School of Music
URL:https://events.brandonu.ca/event/jazz-small-ensemble-concert/
LOCATION:MB
CATEGORIES:School of Music
ORGANIZER;CN="School of Music":MAILTO:music@brandonu.ca
END:VEVENT
BEGIN:VEVENT
DTSTART;TZID=America/Winnipeg:20240119T130000
DTEND;TZID=America/Winnipeg:20240119T160000
DTSTAMP:20260420T231607
CREATED:20240111T214157Z
LAST-MODIFIED:20240111T214157Z
UID:10000008-1705669200-1705680000@events.brandonu.ca
SUMMARY:Nostalgiacore Faculty Art Exhibition
DESCRIPTION:This Fine Arts faculty show features new exciting works by Professors Lisa Wood\, Kevin McKenzie\, Lin Xu and Kevin Eichi DeForest\, curated by their newest faculty member Dr. Stacey Koosel. The exhibition is open from Thursday to Saturday each week\, from 1 to 4 p.m.\, and will run until February 18. \nNostalgiacore is a contemporary art exhibition that features paintings\, ceramic sculptures\, photography\, drawings\, sound installations and immersive installations by the Professors who make up the faculty of the IshKaabatens Waasa Gaa Inaabateg Department of Visual Art at Brandon University. \nThe theme of the exhibition is a play on an aesthetic movement in popular culture that finds nostalgia and longing in everyday spaces and liminal places. The exhibition explores the concept of Nostalgia in a variety of iterations and mediums\, from personal relationships to the past\, to longings for places\, spaces\, and people that no longer exist.
URL:https://events.brandonu.ca/event/nostalgicore-opening/2024-01-19/
LOCATION:Sutherland Gallery of Art\, 2021 Victoria Avenue\, Brandon\, MB\, Canada
CATEGORIES:Brandon University,Faculty and Staff Events,Faculty of Arts
ATTACH;FMTTYPE=:
GEO:49.842485;-99.96515
X-APPLE-STRUCTURED-LOCATION;VALUE=URI;X-ADDRESS=Sutherland Gallery of Art 2021 Victoria Avenue Brandon MB Canada;X-APPLE-RADIUS=500;X-TITLE=2021 Victoria Avenue:geo:-99.96515,49.842485
END:VEVENT
BEGIN:VEVENT
DTSTART;TZID=America/Winnipeg:20240118T190000
DTEND;TZID=America/Winnipeg:20240118T190000
DTSTAMP:20260420T231607
CREATED:20240111T215043Z
LAST-MODIFIED:20240111T215043Z
UID:10000005-1705604400-1705604400@events.brandonu.ca
SUMMARY:Graduate Music Recital\, Rocio Luna\, violin
DESCRIPTION:Rocio Luna\, violin (from the Studio of Heng-Han Hou) \nwith Madeline Hildebrand\, accompanist \nNo Admission Charge. All are welcome!
URL:https://events.brandonu.ca/event/graduate-music-recital-rocio-luna-violin/
LOCATION:Brandon\, MB\, Canada
CATEGORIES:School of Music
ORGANIZER;CN="School of Music":MAILTO:music@brandonu.ca
END:VEVENT
BEGIN:VEVENT
DTSTART;TZID=America/Winnipeg:20240118T170000
DTEND;TZID=America/Winnipeg:20240118T190000
DTSTAMP:20260420T231607
CREATED:20240111T220628Z
LAST-MODIFIED:20240111T220628Z
UID:10000007-1705597200-1705604400@events.brandonu.ca
SUMMARY:Nostalgiacore Opening
DESCRIPTION:On January 18 at 5 p.m.\, the first Fine Arts faculty show will open at Glen P. Sutherland Art Gallery on Brandon University\, featuring new exciting works by Professors Lisa Wood\, Kevin McKenzie\, Lin Xu and Kevin Eichi DeForest\, curated by their newest faculty member Dr. Stacey Koosel. \nNostalgiacore is a contemporary art exhibition that features paintings\, ceramic sculptures\, photography\, drawings\, sound installations and immersive installations by the Professors who make up the faculty of the IshKaabatens Waasa Gaa Inaabateg Department of Visual Art at Brandon University. \nThe theme of the exhibition is a play on an aesthetic movement in popular culture that finds nostalgia and longing in everyday spaces and liminal places. The exhibition explores the concept of Nostalgia in a variety of iterations and mediums\, from personal relationships to the past\, to longings for places\, spaces\, and people that no longer exist. \nThe exhibition is open from Thursday to Saturday each week\, from 1 to 4 p.m.\, and will run until February 18. \n \n 
URL:https://events.brandonu.ca/event/nostalgicore-opening-copy/
LOCATION:Sutherland Gallery of Art\, 2021 Victoria Avenue\, Brandon\, MB\, Canada
CATEGORIES:Brandon University,Faculty and Staff Events,Faculty of Arts
ATTACH;FMTTYPE=:
GEO:49.842485;-99.96515
X-APPLE-STRUCTURED-LOCATION;VALUE=URI;X-ADDRESS=Sutherland Gallery of Art 2021 Victoria Avenue Brandon MB Canada;X-APPLE-RADIUS=500;X-TITLE=2021 Victoria Avenue:geo:-99.96515,49.842485
END:VEVENT
BEGIN:VEVENT
DTSTART;TZID=America/Winnipeg:20240118T130000
DTEND;TZID=America/Winnipeg:20240118T160000
DTSTAMP:20260420T231607
CREATED:20240111T214157Z
LAST-MODIFIED:20240111T214157Z
UID:10000004-1705582800-1705593600@events.brandonu.ca
SUMMARY:Nostalgiacore Faculty Art Exhibition
DESCRIPTION:This Fine Arts faculty show features new exciting works by Professors Lisa Wood\, Kevin McKenzie\, Lin Xu and Kevin Eichi DeForest\, curated by their newest faculty member Dr. Stacey Koosel. The exhibition is open from Thursday to Saturday each week\, from 1 to 4 p.m.\, and will run until February 18. \nNostalgiacore is a contemporary art exhibition that features paintings\, ceramic sculptures\, photography\, drawings\, sound installations and immersive installations by the Professors who make up the faculty of the IshKaabatens Waasa Gaa Inaabateg Department of Visual Art at Brandon University. \nThe theme of the exhibition is a play on an aesthetic movement in popular culture that finds nostalgia and longing in everyday spaces and liminal places. The exhibition explores the concept of Nostalgia in a variety of iterations and mediums\, from personal relationships to the past\, to longings for places\, spaces\, and people that no longer exist.
URL:https://events.brandonu.ca/event/nostalgicore-opening/2024-01-18/
LOCATION:Sutherland Gallery of Art\, 2021 Victoria Avenue\, Brandon\, MB\, Canada
CATEGORIES:Brandon University,Faculty and Staff Events,Faculty of Arts
ATTACH;FMTTYPE=:
GEO:49.842485;-99.96515
X-APPLE-STRUCTURED-LOCATION;VALUE=URI;X-ADDRESS=Sutherland Gallery of Art 2021 Victoria Avenue Brandon MB Canada;X-APPLE-RADIUS=500;X-TITLE=2021 Victoria Avenue:geo:-99.96515,49.842485
END:VEVENT
END:VCALENDAR