BEGIN:VCALENDAR
VERSION:2.0
PRODID:-//Events - ECPv6.15.17.1//NONSGML v1.0//EN
CALSCALE:GREGORIAN
METHOD:PUBLISH
X-WR-CALNAME:Events
X-ORIGINAL-URL:https://events.brandonu.ca
X-WR-CALDESC:Events for Events
REFRESH-INTERVAL;VALUE=DURATION:PT1H
X-Robots-Tag:noindex
X-PUBLISHED-TTL:PT1H
BEGIN:VTIMEZONE
TZID:America/Winnipeg
BEGIN:DAYLIGHT
TZOFFSETFROM:-0600
TZOFFSETTO:-0500
TZNAME:CDT
DTSTART:20230312T080000
END:DAYLIGHT
BEGIN:STANDARD
TZOFFSETFROM:-0500
TZOFFSETTO:-0600
TZNAME:CST
DTSTART:20231105T070000
END:STANDARD
BEGIN:DAYLIGHT
TZOFFSETFROM:-0600
TZOFFSETTO:-0500
TZNAME:CDT
DTSTART:20240310T080000
END:DAYLIGHT
BEGIN:STANDARD
TZOFFSETFROM:-0500
TZOFFSETTO:-0600
TZNAME:CST
DTSTART:20241103T070000
END:STANDARD
BEGIN:DAYLIGHT
TZOFFSETFROM:-0600
TZOFFSETTO:-0500
TZNAME:CDT
DTSTART:20250309T080000
END:DAYLIGHT
BEGIN:STANDARD
TZOFFSETFROM:-0500
TZOFFSETTO:-0600
TZNAME:CST
DTSTART:20251102T070000
END:STANDARD
END:VTIMEZONE
BEGIN:VEVENT
DTSTART;TZID=America/Winnipeg:20240608T110000
DTEND;TZID=America/Winnipeg:20240608T110000
DTSTAMP:20260420T235143
CREATED:20240528T164952Z
LAST-MODIFIED:20240528T164952Z
UID:10000139-1717844400-1717844400@events.brandonu.ca
SUMMARY:BU in the Brandon Travellers' Day Parade
DESCRIPTION:Staring at the corner of 6th St. and Rosser Ave.\n\nJoin in with the BU Float!\n\nhttp://www.travellersdayparade.com
URL:https://events.brandonu.ca/event/bu-in-the-brandon-travellers-day-parade/
LOCATION:Traveller’s Day Parade Starting Point\, 600 Rosser Ave.\, Brandon\, MB\, Canada
CATEGORIES:Brandon University
END:VEVENT
BEGIN:VEVENT
DTSTART;TZID=America/Winnipeg:20240610T103000
DTEND;TZID=America/Winnipeg:20240610T120000
DTSTAMP:20260420T235143
CREATED:20240604T213638Z
LAST-MODIFIED:20240604T213638Z
UID:10000143-1718015400-1718020800@events.brandonu.ca
SUMMARY:Gerry Friesen Book Launch
DESCRIPTION:Join the Centre for Critical Studies of Rural Mental Health for coffee and conversation with Gerry Friesen. This event is a launch for Friesen’s new book\, The Recovering Farmer. \nThe Recovering Farmer chronicles his journey through anxiety\, depression\, and addiction to a place of improved mental health—and even\, sometimes\, happiness.
URL:https://events.brandonu.ca/event/gerry-friesen-book-launch/
LOCATION:Gathering Space\, John E. Robbins Library\, Canada
CATEGORIES:Brandon University,Centre for Critical Studies of Rural Mental Health
ATTACH;FMTTYPE=:
GEO:49.844895798153;-99.96376052603
END:VEVENT
BEGIN:VEVENT
DTSTART;TZID=America/Winnipeg:20240610T173000
DTEND;TZID=America/Winnipeg:20240610T193000
DTSTAMP:20260420T235143
CREATED:20240603T145718Z
LAST-MODIFIED:20240603T145718Z
UID:10000140-1718040600-1718047800@events.brandonu.ca
SUMMARY:Pride Week: Storytime and Supportive Parenting Workshop with SERC
DESCRIPTION:Held in the John E. Robbins Library Gathering Space and Convergys Lab \n2STLGBQ+ Supportive Parenting Workshop\nThe Sexuality Education Resource Centre (SERC) staff invite parents and caregivers to learn more about supporting the 2STLGBQ+ youth in their lives and want to be more informed! Topics covered in the workshop will include: language\, terminology\, how to support someone who comes out\, and resources and supports available in-person and online. \n2STLGBQ+ Story Time\nWhile caregivers attend the workshop\, youth and littles are welcome to participate in story time and crafts with SERC staff! \nThis event is free but registration is required for both the workshop and story time\, please email rachealw@serc.mb.ca to sign up! \nMore details on Brandon Pride events: https://www.bdnpride.ca/
URL:https://events.brandonu.ca/event/pride-week-storytime-and-supportive-parenting-workshop-with-serc/
LOCATION:John E. Robbins Library
CATEGORIES:Brandon University,John E. Robbins Library
GEO:49.84492575;-99.96371448
END:VEVENT
BEGIN:VEVENT
DTSTART;TZID=America/Winnipeg:20240610T180000
DTEND;TZID=America/Winnipeg:20240610T190000
DTSTAMP:20260420T235143
CREATED:20240603T145916Z
LAST-MODIFIED:20240603T145916Z
UID:10000141-1718042400-1718046000@events.brandonu.ca
SUMMARY:Pride Week: Guitar Art exhibition\, with Wendy Friesen
DESCRIPTION:Join artist Wendy Friesen for a talk and tour of her ‘Guitars’ exhibition on display in the Curve Gallery\, upstairs in the John E. Robbins Library at Brandon University. \nFriesen’s Guitars is a pop art exhibit representing themes of rock and roll\, healing\, community\, inclusivity\, and Pride. This series brings together miniature guitars\, both replicas and original conceptions\, constructed in detail\, evoking a sense of celebration and joy. Hand constructed in mixed media\, Guitars draws in the viewer in with playful delight\, then focuses attention on finer details in thought-provoking ways. The exhibition is interspersed with Friesen’s poetry – written on many subject matters\, but primarily about her personal queer experiences and queer advocacy. Information on the Westman Empowerment Fund is also shared as part of the exhibition. \nThis event is free with no registration required. \nMore details on Brandon Pride events: https://www.bdnpride.ca/
URL:https://events.brandonu.ca/event/pride-week-guitar-art-exhibition-with-wendy-friesen/
LOCATION:Tommy McLeod Curve Gallery\, John E. Robbins Library\, 270-18th Street\, Brandon\, MB\, R7A 6A9\, Canada
CATEGORIES:Around Campus,Brandon University
GEO:49.844943;-99.963763
X-APPLE-STRUCTURED-LOCATION;VALUE=URI;X-ADDRESS=Tommy McLeod Curve Gallery John E. Robbins Library 270-18th Street Brandon MB R7A 6A9 Canada;X-APPLE-RADIUS=500;X-TITLE=270-18th Street:geo:-99.963763,49.844943
END:VEVENT
BEGIN:VEVENT
DTSTART;TZID=America/Winnipeg:20240611T090000
DTEND;TZID=America/Winnipeg:20240611T100000
DTSTAMP:20260420T235143
CREATED:20240610T183827Z
LAST-MODIFIED:20240610T183827Z
UID:10000144-1718096400-1718100000@events.brandonu.ca
SUMMARY:Bike to Work Day ride
DESCRIPTION:We’re celebrating Bike to Work Day on Tuesday\, June 11\, 2024. The BU campus is well located for bicycle commuting\, as it’s right on the city’s Share the Road route\, and the new active transportation bridge on 18th Street makes for an easy connection over the railway tracks. \nWhether you’re an everyday rider\, an occasional pedallist\, or just looking to try a ride to to BU for the first time\, you’re invited to join a short small group ride to from downtown to Brandon University. \nShare the word — it’s more fun to ride in a group! \nMeet us at 9 a.m. (ride to start at 9:15 a.m.) at the Westman Immigrant Services building at 10th and Pacific\, and we’ll ride up 10th Street and over to Brandon City Hall\, then down Louise Avenue to the BU Healthy Living Centre. Some riders will then return to WIS. \nThe ride should take well under an hour\, even with socializing.
URL:https://events.brandonu.ca/event/bike-to-work-day-ride/
LOCATION:MB
CATEGORIES:Around Campus,Brandon University,Faculty and Staff Events
ATTACH;FMTTYPE=:
END:VEVENT
BEGIN:VEVENT
DTSTART;TZID=America/Winnipeg:20240614T180000
DTEND;TZID=America/Winnipeg:20240614T190000
DTSTAMP:20260420T235143
CREATED:20240603T150018Z
LAST-MODIFIED:20240603T150018Z
UID:10000142-1718388000-1718391600@events.brandonu.ca
SUMMARY:Pride Week: Pride in Politics with MLAs Logan Oxenham and Lisa Naylor
DESCRIPTION:Thank you to the Brandon and District Labour Council for organizing Pride in Politics for Brandon Pride Week 2024! This panel will take place in the Gathering Area in the John E. Robbins Library located on the Brandon University campus. \nThe goal of this event is to reach out to the 2SLGBTQI+ community and affirm that there is a place in politics. During the last year\, right here in Brandon and Manitoba\, the 2SLGBTQI+ community has been at the center of attacks\, including attempts to ban certain books in the Brandon School Division. This ongoing situation has heightened awareness of the political power held as voters\, the importance of the democratic process\, and why getting involved is so important. \nThis event aims to further engage the community\, empowering individuals to assert their political agency and possibly pursue a political future. Two politicians\, Lisa Naylor and Logan Oxenham\, will share their journeys as activists and their paths in politics\, providing insights and inspiration. \nJoin in the sharing of experiences and explore ways to collectively shape a more inclusive and representative political landscape. \nThis event is free with no registration required. \nMore details on Brandon Pride events: https://www.bdnpride.ca/ \n 
URL:https://events.brandonu.ca/event/pride-week-pride-in-politics-with-mlas-logan-oxenham-and-lisa-naylor/
LOCATION:Gathering Space\, John E. Robbins Library\, Canada
CATEGORIES:Around Campus,Brandon University
GEO:49.844895798153;-99.96376052603
END:VEVENT
BEGIN:VEVENT
DTSTART;TZID=America/Winnipeg:20240619T170000
DTEND;TZID=America/Winnipeg:20240619T170000
DTSTAMP:20260420T235143
CREATED:20240528T164159Z
LAST-MODIFIED:20240528T164159Z
UID:10000138-1718816400-1718816400@events.brandonu.ca
SUMMARY:BU Alumni Association Annual General Meeting
DESCRIPTION:Please register in advance by emailing alumni@brandonu.ca by Friday\, June 14.\nIf you’re interested in joining the Alumni Association board\, please email brownn@brandonu.ca with a brief bio.\nThe meeting will also be available by ZOOM.
URL:https://events.brandonu.ca/event/bu-alumni-association-annual-general-meeting-2/
LOCATION:Clark Hall\, Room 104\, 270-18th Street\, Brandon\, MB\, R7A 6A9\, Canada
CATEGORIES:Alumni,Brandon University
ORGANIZER;CN="Brandon University Alumni Association":MAILTO:Alumni@BrandonU.ca
GEO:49.84553458;-99.96289372
X-APPLE-STRUCTURED-LOCATION;VALUE=URI;X-ADDRESS=Clark Hall Room 104 270-18th Street Brandon MB R7A 6A9 Canada;X-APPLE-RADIUS=500;X-TITLE=270-18th Street:geo:-99.96289372,49.84553458
END:VEVENT
BEGIN:VEVENT
DTSTART;TZID=America/Winnipeg:20240620T170000
DTEND;TZID=America/Winnipeg:20240620T170000
DTSTAMP:20260420T235143
CREATED:20240522T212225Z
LAST-MODIFIED:20240522T212225Z
UID:10000136-1718902800-1718902800@events.brandonu.ca
SUMMARY:Alumni and Friends Reception — Winnipeg
DESCRIPTION:Alumni and Friends Reception\nThursday\, June 20th — 5 p.m.\nSt. Charles Country Club\n100 Country Club Blvd.\, Winnipeg\, MB\n\nPlease RSVP to alumni@brandonu.ca or 1.877.282.4483 by Wednesday\, June 12th
URL:https://events.brandonu.ca/event/alumni-and-friends-reception-winnipeg-2/
LOCATION:St. Charles Golf and Country Club\, 100 Country Club Blvd\, Winnipeg\, Manitoba\, R3K 1Z3\, Canada
CATEGORIES:Alumni,Brandon University
ORGANIZER;CN="Brandon University Alumni Association":MAILTO:Alumni@BrandonU.ca
GEO:49.871065;-97.2850361
X-APPLE-STRUCTURED-LOCATION;VALUE=URI;X-ADDRESS=St. Charles Golf and Country Club 100 Country Club Blvd Winnipeg Manitoba R3K 1Z3 Canada;X-APPLE-RADIUS=500;X-TITLE=100 Country Club Blvd:geo:-97.2850361,49.871065
END:VEVENT
BEGIN:VEVENT
DTSTART;TZID=America/Winnipeg:20240624T120000
DTEND;TZID=America/Winnipeg:20240624T140000
DTSTAMP:20260420T235143
CREATED:20240621T184007Z
LAST-MODIFIED:20240621T184007Z
UID:10000145-1719230400-1719237600@events.brandonu.ca
SUMMARY:Bee U at Bailey's Café
DESCRIPTION:Celebrate the Brandon University honeybee hives\, learn about our pollinator friends — and sample some delicious honey treats from our friends at Bailey’s. \nMonday\, June 24 from 12–2 p.m.\nJoin us in Bailey’s for lunch and a brief presentation\, then view come the hives! \nTuesday\, June 25 from 4–6 p.m.\nSweet treats at Bailey’s and a short presentation\, then come see the bees! \nBee U volunteers will crack open the honeybee hives\, showing you frames of honey swarming with bees. Meet us first at Bailey’s Café\, which is located in the lower level of the Knowles-Douglas Students’ Union Centre at Brandon University. After the presentation\, we’ll guide you to the best viewing for the hives\, which is from the windows by the Ancillary Services desk on the first floor of McMaster Hall.
URL:https://events.brandonu.ca/event/bee-u-at-baileys-cafe/2024-06-24/
LOCATION:Bailey’s Cafe\, Knowles-Douglas Building\, 270 18th Street\, Brandon\, Manitoba\, R7A 6A9
CATEGORIES:Around Campus,Brandon University
ATTACH;FMTTYPE=:
GEO:49.844614;-99.962769
X-APPLE-STRUCTURED-LOCATION;VALUE=URI;X-ADDRESS=Bailey’s Cafe Knowles-Douglas Building 270 18th Street Brandon Manitoba R7A 6A9;X-APPLE-RADIUS=500;X-TITLE=270 18th Street:geo:-99.962769,49.844614
END:VEVENT
BEGIN:VEVENT
DTSTART;TZID=America/Winnipeg:20240625T160000
DTEND;TZID=America/Winnipeg:20240625T180000
DTSTAMP:20260420T235143
CREATED:20240621T184007Z
LAST-MODIFIED:20240621T184007Z
UID:10000146-1719331200-1719338400@events.brandonu.ca
SUMMARY:Bee U at Bailey's Café
DESCRIPTION:Celebrate the Brandon University honeybee hives\, learn about our pollinator friends — and sample some delicious honey treats from our friends at Bailey’s. \nMonday\, June 24 from 12–2 p.m.\nJoin us in Bailey’s for lunch and a brief presentation\, then view come the hives! \nTuesday\, June 25 from 4–6 p.m.\nSweet treats at Bailey’s and a short presentation\, then come see the bees! \nBee U volunteers will crack open the honeybee hives\, showing you frames of honey swarming with bees. Meet us first at Bailey’s Café\, which is located in the lower level of the Knowles-Douglas Students’ Union Centre at Brandon University. After the presentation\, we’ll guide you to the best viewing for the hives\, which is from the windows by the Ancillary Services desk on the first floor of McMaster Hall.
URL:https://events.brandonu.ca/event/bee-u-at-baileys-cafe/2024-06-25/
LOCATION:Bailey’s Cafe\, Knowles-Douglas Building\, 270 18th Street\, Brandon\, Manitoba\, R7A 6A9
CATEGORIES:Around Campus,Brandon University
ATTACH;FMTTYPE=:
GEO:49.844614;-99.962769
X-APPLE-STRUCTURED-LOCATION;VALUE=URI;X-ADDRESS=Bailey’s Cafe Knowles-Douglas Building 270 18th Street Brandon Manitoba R7A 6A9;X-APPLE-RADIUS=500;X-TITLE=270 18th Street:geo:-99.962769,49.844614
END:VEVENT
END:VCALENDAR