BEGIN:VCALENDAR
VERSION:2.0
PRODID:-//Events - ECPv6.15.17.1//NONSGML v1.0//EN
CALSCALE:GREGORIAN
METHOD:PUBLISH
X-WR-CALNAME:Events
X-ORIGINAL-URL:https://events.brandonu.ca
X-WR-CALDESC:Events for Events
REFRESH-INTERVAL;VALUE=DURATION:PT1H
X-Robots-Tag:noindex
X-PUBLISHED-TTL:PT1H
BEGIN:VTIMEZONE
TZID:America/Winnipeg
BEGIN:DAYLIGHT
TZOFFSETFROM:-0600
TZOFFSETTO:-0500
TZNAME:CDT
DTSTART:20230312T080000
END:DAYLIGHT
BEGIN:STANDARD
TZOFFSETFROM:-0500
TZOFFSETTO:-0600
TZNAME:CST
DTSTART:20231105T070000
END:STANDARD
BEGIN:DAYLIGHT
TZOFFSETFROM:-0600
TZOFFSETTO:-0500
TZNAME:CDT
DTSTART:20240310T080000
END:DAYLIGHT
BEGIN:STANDARD
TZOFFSETFROM:-0500
TZOFFSETTO:-0600
TZNAME:CST
DTSTART:20241103T070000
END:STANDARD
BEGIN:DAYLIGHT
TZOFFSETFROM:-0600
TZOFFSETTO:-0500
TZNAME:CDT
DTSTART:20250309T080000
END:DAYLIGHT
BEGIN:STANDARD
TZOFFSETFROM:-0500
TZOFFSETTO:-0600
TZNAME:CST
DTSTART:20251102T070000
END:STANDARD
END:VTIMEZONE
BEGIN:VEVENT
DTSTART;TZID=America/Winnipeg:20241201T190000
DTEND;TZID=America/Winnipeg:20241201T190000
DTSTAMP:20260420T134957
CREATED:20241105T204747Z
LAST-MODIFIED:20241105T204747Z
UID:10000287-1733079600-1733079600@events.brandonu.ca
SUMMARY:BU Brass Ensemble Christmas Concert
DESCRIPTION:Please join our BU Brass Ensemble\, under the direction of Dr. Edward Bach. The concert will feature Christmas music from around the world and will be an evening to enjoy for all ages. Highlights will include Keith Snell’s arrangement of Lutebook Lullaby\, as well as a virtuosic rendering by Gregory Canella of God Rest Ye Merry Gentlemen.  \nAll are welcome! \nNo admission charge. \n 
URL:https://events.brandonu.ca/event/bu-brass-ensemble-christmas-concert-2/
LOCATION:Brandon\, MB\, Canada
CATEGORIES:Brandon University,School of Music
ORGANIZER;CN="School of Music":MAILTO:music@brandonu.ca
END:VEVENT
BEGIN:VEVENT
DTSTART;TZID=America/Winnipeg:20241203T124000
DTEND;TZID=America/Winnipeg:20241203T133000
DTSTAMP:20260420T134957
CREATED:20241122T211000Z
LAST-MODIFIED:20241122T211000Z
UID:10000305-1733229600-1733232600@events.brandonu.ca
SUMMARY:Out of Bounds Lecture: Graduate Students of Music
DESCRIPTION:All are welcome! \n 
URL:https://events.brandonu.ca/event/out-of-bounds-lecture-graduate-students-of-music/
LOCATION:MB
CATEGORIES:Brandon University,School of Music
ORGANIZER;CN="School of Music":MAILTO:music@brandonu.ca
END:VEVENT
BEGIN:VEVENT
DTSTART;VALUE=DATE:20241204
DTEND;VALUE=DATE:20241205
DTSTAMP:20260420T134957
CREATED:20241202T213553Z
LAST-MODIFIED:20241202T213553Z
UID:10000309-1733270400-1733356799@events.brandonu.ca
SUMMARY:Monday slot schedule today
DESCRIPTION:A reminder to students and faculty: On Wednesday\, December 4\, Brandon University will be following the Monday slot schedule. \nThis applies to everyone except those in BEd (AD)\, BEd (IP) Yr 5\, and BMus/BEd Yr 5.
URL:https://events.brandonu.ca/event/monday-slot-schedule-today/
LOCATION:Brandon University\, 270 18th Street\, Brandon\, MB\, Canada
CATEGORIES:Brandon University,Important Dates
ATTACH;FMTTYPE=:
END:VEVENT
BEGIN:VEVENT
DTSTART;TZID=America/Winnipeg:20241204T190000
DTEND;TZID=America/Winnipeg:20241204T190000
DTSTAMP:20260420T134957
CREATED:20241030T162806Z
LAST-MODIFIED:20241030T162806Z
UID:10000278-1733338800-1733338800@events.brandonu.ca
SUMMARY:Life is Wonderful
DESCRIPTION:The classic holiday film\, “It’s A Wonderful Life” gets an exciting re-vamp in Brandon University Theatre’s latest production “Life is Wonderful”\, on stage December 4th through 8th\, 2024 at the Evans Theatre. If you enjoyed last season’s “Salt-Water Moon\,” you are sure to be entertained by this heart-warming production. Learn more about the production here. \nTicket Prices\n\nGeneral Admission – $20\nSeniors – $15\nStudents – $10\n\nAdvance tickets available here. ‘Day-of’ tickets only available at the door (Cash or Debit). \nDates and Times\n\nWed. Dec. 4th – 7:00 pm\nThurs. Dec. 5th – 7:00 pm\nFri. Dec. 6th – 7:00 pm\nSat. Dec. 7th – 7:00 pm\nSun. Dec.8th – 2:00 pm
URL:https://events.brandonu.ca/event/life-is-wonderful/2024-12-04/
LOCATION:Evans Theatre\, McKenzie Building\, 270-18th Street\, Brandon\, MB\, R7A 6A9\, Canada
CATEGORIES:Brandon University,Faculty of Arts
ORGANIZER;CN="Brandon University Theatre":MAILTO:DourisR@BrandonU.CA
GEO:49.845327;-99.963905
X-APPLE-STRUCTURED-LOCATION;VALUE=URI;X-ADDRESS=Evans Theatre McKenzie Building 270-18th Street Brandon MB R7A 6A9 Canada;X-APPLE-RADIUS=500;X-TITLE=270-18th Street:geo:-99.963905,49.845327
END:VEVENT
BEGIN:VEVENT
DTSTART;TZID=America/Winnipeg:20241205T153000
DTEND;TZID=America/Winnipeg:20241205T180000
DTSTAMP:20260420T134957
CREATED:20241008T165410Z
LAST-MODIFIED:20241008T165410Z
UID:10000266-1733412600-1733421600@events.brandonu.ca
SUMMARY:Piano Ensemble Class Concert
DESCRIPTION:Please join us for our Piano Ensemble Class Concert under the director of Prof. Alexander Tselyakov. \nNo Admission Charge.  Everyone is welcome!
URL:https://events.brandonu.ca/event/piano-ensemble-class-concert/
LOCATION:Brandon\, MB\, Canada
CATEGORIES:Brandon University,School of Music
ORGANIZER;CN="School of Music":MAILTO:music@brandonu.ca
END:VEVENT
BEGIN:VEVENT
DTSTART;TZID=America/Winnipeg:20241205T190000
DTEND;TZID=America/Winnipeg:20241205T190000
DTSTAMP:20260420T134957
CREATED:20241030T162806Z
LAST-MODIFIED:20241030T162806Z
UID:10000279-1733425200-1733425200@events.brandonu.ca
SUMMARY:Life is Wonderful
DESCRIPTION:The classic holiday film\, “It’s A Wonderful Life” gets an exciting re-vamp in Brandon University Theatre’s latest production “Life is Wonderful”\, on stage December 4th through 8th\, 2024 at the Evans Theatre. If you enjoyed last season’s “Salt-Water Moon\,” you are sure to be entertained by this heart-warming production. Learn more about the production here. \nTicket Prices\n\nGeneral Admission – $20\nSeniors – $15\nStudents – $10\n\nAdvance tickets available here. ‘Day-of’ tickets only available at the door (Cash or Debit). \nDates and Times\n\nWed. Dec. 4th – 7:00 pm\nThurs. Dec. 5th – 7:00 pm\nFri. Dec. 6th – 7:00 pm\nSat. Dec. 7th – 7:00 pm\nSun. Dec.8th – 2:00 pm
URL:https://events.brandonu.ca/event/life-is-wonderful/2024-12-05/
LOCATION:Evans Theatre\, McKenzie Building\, 270-18th Street\, Brandon\, MB\, R7A 6A9\, Canada
CATEGORIES:Brandon University,Faculty of Arts
ORGANIZER;CN="Brandon University Theatre":MAILTO:DourisR@BrandonU.CA
GEO:49.845327;-99.963905
X-APPLE-STRUCTURED-LOCATION;VALUE=URI;X-ADDRESS=Evans Theatre McKenzie Building 270-18th Street Brandon MB R7A 6A9 Canada;X-APPLE-RADIUS=500;X-TITLE=270-18th Street:geo:-99.963905,49.845327
END:VEVENT
BEGIN:VEVENT
DTSTART;TZID=America/Winnipeg:20241206T190000
DTEND;TZID=America/Winnipeg:20241206T190000
DTSTAMP:20260420T134957
CREATED:20241030T162806Z
LAST-MODIFIED:20241030T162806Z
UID:10000280-1733511600-1733511600@events.brandonu.ca
SUMMARY:Life is Wonderful
DESCRIPTION:The classic holiday film\, “It’s A Wonderful Life” gets an exciting re-vamp in Brandon University Theatre’s latest production “Life is Wonderful”\, on stage December 4th through 8th\, 2024 at the Evans Theatre. If you enjoyed last season’s “Salt-Water Moon\,” you are sure to be entertained by this heart-warming production. Learn more about the production here. \nTicket Prices\n\nGeneral Admission – $20\nSeniors – $15\nStudents – $10\n\nAdvance tickets available here. ‘Day-of’ tickets only available at the door (Cash or Debit). \nDates and Times\n\nWed. Dec. 4th – 7:00 pm\nThurs. Dec. 5th – 7:00 pm\nFri. Dec. 6th – 7:00 pm\nSat. Dec. 7th – 7:00 pm\nSun. Dec.8th – 2:00 pm
URL:https://events.brandonu.ca/event/life-is-wonderful/2024-12-06/
LOCATION:Evans Theatre\, McKenzie Building\, 270-18th Street\, Brandon\, MB\, R7A 6A9\, Canada
CATEGORIES:Brandon University,Faculty of Arts
ORGANIZER;CN="Brandon University Theatre":MAILTO:DourisR@BrandonU.CA
GEO:49.845327;-99.963905
X-APPLE-STRUCTURED-LOCATION;VALUE=URI;X-ADDRESS=Evans Theatre McKenzie Building 270-18th Street Brandon MB R7A 6A9 Canada;X-APPLE-RADIUS=500;X-TITLE=270-18th Street:geo:-99.963905,49.845327
END:VEVENT
BEGIN:VEVENT
DTSTART;TZID=America/Winnipeg:20241207T190000
DTEND;TZID=America/Winnipeg:20241207T190000
DTSTAMP:20260420T134957
CREATED:20241030T162806Z
LAST-MODIFIED:20241030T162806Z
UID:10000281-1733598000-1733598000@events.brandonu.ca
SUMMARY:Life is Wonderful
DESCRIPTION:The classic holiday film\, “It’s A Wonderful Life” gets an exciting re-vamp in Brandon University Theatre’s latest production “Life is Wonderful”\, on stage December 4th through 8th\, 2024 at the Evans Theatre. If you enjoyed last season’s “Salt-Water Moon\,” you are sure to be entertained by this heart-warming production. Learn more about the production here. \nTicket Prices\n\nGeneral Admission – $20\nSeniors – $15\nStudents – $10\n\nAdvance tickets available here. ‘Day-of’ tickets only available at the door (Cash or Debit). \nDates and Times\n\nWed. Dec. 4th – 7:00 pm\nThurs. Dec. 5th – 7:00 pm\nFri. Dec. 6th – 7:00 pm\nSat. Dec. 7th – 7:00 pm\nSun. Dec.8th – 2:00 pm
URL:https://events.brandonu.ca/event/life-is-wonderful/2024-12-07/
LOCATION:Evans Theatre\, McKenzie Building\, 270-18th Street\, Brandon\, MB\, R7A 6A9\, Canada
CATEGORIES:Brandon University,Faculty of Arts
ORGANIZER;CN="Brandon University Theatre":MAILTO:DourisR@BrandonU.CA
GEO:49.845327;-99.963905
X-APPLE-STRUCTURED-LOCATION;VALUE=URI;X-ADDRESS=Evans Theatre McKenzie Building 270-18th Street Brandon MB R7A 6A9 Canada;X-APPLE-RADIUS=500;X-TITLE=270-18th Street:geo:-99.963905,49.845327
END:VEVENT
BEGIN:VEVENT
DTSTART;TZID=America/Winnipeg:20241208T140000
DTEND;TZID=America/Winnipeg:20241208T170000
DTSTAMP:20260420T134957
CREATED:20241030T162806Z
LAST-MODIFIED:20241030T162806Z
UID:10000282-1733666400-1733677200@events.brandonu.ca
SUMMARY:Life is Wonderful
DESCRIPTION:The classic holiday film\, “It’s A Wonderful Life” gets an exciting re-vamp in Brandon University Theatre’s latest production “Life is Wonderful”\, on stage December 4th through 8th\, 2024 at the Evans Theatre. If you enjoyed last season’s “Salt-Water Moon\,” you are sure to be entertained by this heart-warming production. Learn more about the production here. \nTicket Prices\n\nGeneral Admission – $20\nSeniors – $15\nStudents – $10\n\nAdvance tickets available here. ‘Day-of’ tickets only available at the door (Cash or Debit). \nDates and Times\n\nWed. Dec. 4th – 7:00 pm\nThurs. Dec. 5th – 7:00 pm\nFri. Dec. 6th – 7:00 pm\nSat. Dec. 7th – 7:00 pm\nSun. Dec.8th – 2:00 pm
URL:https://events.brandonu.ca/event/life-is-wonderful/2024-12-08/
LOCATION:Evans Theatre\, McKenzie Building\, 270-18th Street\, Brandon\, MB\, R7A 6A9\, Canada
CATEGORIES:Brandon University,Faculty of Arts
ORGANIZER;CN="Brandon University Theatre":MAILTO:DourisR@BrandonU.CA
GEO:49.845327;-99.963905
X-APPLE-STRUCTURED-LOCATION;VALUE=URI;X-ADDRESS=Evans Theatre McKenzie Building 270-18th Street Brandon MB R7A 6A9 Canada;X-APPLE-RADIUS=500;X-TITLE=270-18th Street:geo:-99.963905,49.845327
END:VEVENT
BEGIN:VEVENT
DTSTART;TZID=America/Winnipeg:20241210T190000
DTEND;TZID=America/Winnipeg:20241210T190000
DTSTAMP:20260420T134957
CREATED:20241203T200721Z
LAST-MODIFIED:20241203T200721Z
UID:10000310-1733857200-1733857200@events.brandonu.ca
SUMMARY:Chamber Music Class Concert
DESCRIPTION:under the direction of Prof. Kerry DuWors \nAll are welcome! No admission charge.
URL:https://events.brandonu.ca/event/chamber-music-class-concert-2/
LOCATION:Brandon\, MB\, Canada
CATEGORIES:School of Music
END:VEVENT
BEGIN:VEVENT
DTSTART;TZID=America/Winnipeg:20241213T200000
DTEND;TZID=America/Winnipeg:20241213T200000
DTSTAMP:20260420T134957
CREATED:20241127T145951Z
LAST-MODIFIED:20241127T145951Z
UID:10000307-1734120000-1734120000@events.brandonu.ca
SUMMARY:The Magic Flute\, Opera Workshop Performance
DESCRIPTION:BU Opera Workshop will perform excepts from The Magic Flute by Mozart. Directed/coached by Marjorie Sparks. Fully costumed and staged. The following performers are: \nShelby English; Bennett Radcliffe; Emma Messner; Alyza Zaragoza; Daelyn Fefchak; Dylan Southam; Laya Gross; Kendalyn Penner; Faye Desjarlais \nAll are welcome! No admission charge.
URL:https://events.brandonu.ca/event/the-magic-flute-opera-workshop-performance/
LOCATION:Brandon\, MB\, Canada
CATEGORIES:Brandon University,School of Music
END:VEVENT
BEGIN:VEVENT
DTSTART;TZID=America/Winnipeg:20241214T190000
DTEND;TZID=America/Winnipeg:20241214T190000
DTSTAMP:20260420T134957
CREATED:20241023T153518Z
LAST-MODIFIED:20241023T153518Z
UID:10000277-1734202800-1734202800@events.brandonu.ca
SUMMARY:Jia Zhang\, piano
DESCRIPTION:Graduate Student Recital. \nNo admission charge. All are welcome!
URL:https://events.brandonu.ca/event/jia-zhang-piano/
LOCATION:Brandon\, MB\, Canada
CATEGORIES:School of Music
ORGANIZER;CN="School of Music":MAILTO:music@brandonu.ca
END:VEVENT
BEGIN:VEVENT
DTSTART;TZID=America/Winnipeg:20241218T190000
DTEND;TZID=America/Winnipeg:20241218T190000
DTSTAMP:20260420T134957
CREATED:20241101T155428Z
LAST-MODIFIED:20241101T155428Z
UID:10000286-1734548400-1734548400@events.brandonu.ca
SUMMARY:Junxin (Sophia) Ye\, piano
DESCRIPTION:Graduate Student Recital. \nNo admission charge. All are welcome!
URL:https://events.brandonu.ca/event/junxin-sophia-ye-piano/
LOCATION:Brandon\, MB\, Canada
CATEGORIES:School of Music
END:VEVENT
END:VCALENDAR