BEGIN:VCALENDAR
VERSION:2.0
PRODID:-//Events - ECPv6.15.17.1//NONSGML v1.0//EN
CALSCALE:GREGORIAN
METHOD:PUBLISH
X-WR-CALNAME:Events
X-ORIGINAL-URL:https://events.brandonu.ca
X-WR-CALDESC:Events for Events
REFRESH-INTERVAL;VALUE=DURATION:PT1H
X-Robots-Tag:noindex
X-PUBLISHED-TTL:PT1H
BEGIN:VTIMEZONE
TZID:America/Winnipeg
BEGIN:DAYLIGHT
TZOFFSETFROM:-0600
TZOFFSETTO:-0500
TZNAME:CDT
DTSTART:20250309T080000
END:DAYLIGHT
BEGIN:STANDARD
TZOFFSETFROM:-0500
TZOFFSETTO:-0600
TZNAME:CST
DTSTART:20251102T070000
END:STANDARD
BEGIN:DAYLIGHT
TZOFFSETFROM:-0600
TZOFFSETTO:-0500
TZNAME:CDT
DTSTART:20260308T080000
END:DAYLIGHT
BEGIN:STANDARD
TZOFFSETFROM:-0500
TZOFFSETTO:-0600
TZNAME:CST
DTSTART:20261101T070000
END:STANDARD
BEGIN:DAYLIGHT
TZOFFSETFROM:-0600
TZOFFSETTO:-0500
TZNAME:CDT
DTSTART:20270314T080000
END:DAYLIGHT
BEGIN:STANDARD
TZOFFSETFROM:-0500
TZOFFSETTO:-0600
TZNAME:CST
DTSTART:20271107T070000
END:STANDARD
END:VTIMEZONE
BEGIN:VEVENT
DTSTART;TZID=America/Winnipeg:20260425T090000
DTEND;TZID=America/Winnipeg:20260425T090000
DTSTAMP:20260421T175233
CREATED:20260421T165836Z
LAST-MODIFIED:20260421T165836Z
UID:10001067-1777107600-1777107600@events.brandonu.ca
SUMMARY:Kiwanis Bike Auction
DESCRIPTION:The Brandon Kiwanis Club has a contractual arrangement with the Brandon Police Service to sell bicycles that they collect through theft and other means. The Kiwanis Club stores the bicycles for this annual auction. All bicycles are held for a minimum of 30 days. \nPeople can reclaim their bicycle if they can provide proof that it was stolen from them\, usually a picture or serial number is all that is required. Donated bicycles are also sold at the auction by professional auctioneers. \nThe auctions start at 10 a.m.\, with viewing at 9 a.m. \nAll sales are final. All proceeds from the sale are used to for community projects.
URL:https://events.brandonu.ca/event/kiwanis-bike-auction/
LOCATION:Brandon Curling Club\, 1175 18th Street\, Brandon\, Manitoba\, R7A 7C5
CATEGORIES:Brandon University
END:VEVENT
END:VCALENDAR